BEGIN:VCALENDAR
VERSION:2.0
PRODID:-//Ateneo Mercantil de Valencia - ECPv6.0.4//NONSGML v1.0//EN
CALSCALE:GREGORIAN
METHOD:PUBLISH
X-ORIGINAL-URL:https://historico.ateneovalencia.es
X-WR-CALDESC:Eventos para Ateneo Mercantil de Valencia
REFRESH-INTERVAL;VALUE=DURATION:PT1H
X-Robots-Tag:noindex
X-PUBLISHED-TTL:PT1H
BEGIN:VTIMEZONE
TZID:Europe/Madrid
BEGIN:DAYLIGHT
TZOFFSETFROM:+0100
TZOFFSETTO:+0200
TZNAME:CEST
DTSTART:20160327T010000
END:DAYLIGHT
BEGIN:STANDARD
TZOFFSETFROM:+0200
TZOFFSETTO:+0100
TZNAME:CET
DTSTART:20161030T010000
END:STANDARD
END:VTIMEZONE
BEGIN:VEVENT
DTSTART;TZID=Europe/Madrid:20161019T213000
DTEND;TZID=Europe/Madrid:20161019T230000
DTSTAMP:20260423T152540
CREATED:20161010T073916Z
LAST-MODIFIED:20161010T073916Z
UID:15759-1476912600-1476918000@historico.ateneovalencia.es
SUMMARY:Sensus Communis: Europa en el Futuro
DESCRIPTION:El futuro de Europa pasa por un momento clave. cada vez más se cuestiona la unidad de Europa y hace pocos meses se vivió el Brexit. Cada vez se piden más referéndum\, pero éstos no siempre cierran definitivamente la cuestión planteada. Escocia votó hace menos de dos años seguir perteneciendo a Reino Unido\, pero tras el Brexit ya se habla de convocar una nueva consulta para separarse de Londres y adherirse a la Unión Europea. Irlanda ha repetido en dos ocasiones referéndum sobre cuestiones relacionadas con la UE para corregir los resultados iniciales. \nDinamarca también lo hizo. En las tres ocasiones se modificó el sentido del voto original. Pero no siempre sucede. Francia y Holanda solamente necesitaron una consulta para rechazar en 2005 la Constitución Europea\, y entonces nadie planteó utilizar la moviola. Tampoco creo que se utilice en Gran Bretaña. “Brexit es Brexit”. Es curioso que quienes se pronuncian a favor de asumir el veredicto con más convicción son los europeístas del continente\, contrarios a él\, mientras que al otro lado del Canal se están recogiendo firmas para lanzar una nueva consulta. \nLa tertulia correrá a cargo del Catedrático de Geografía Humana\, Juan Romero\, en la Sala de Juntas del Ateneo Mercantil de Valencia a las 19:30 horas\, el próximo 6 de octubre. Aunque genere mucha preocupación\, el Brexit uede servir de revulsivo para relanzar la Unión Europea.
URL:https://historico.ateneovalencia.es/evento/sensus-communis-europa-en-el-futuro/
LOCATION:Sala de Juntas - Ateneo Mercantil de Valencia\, Plaza del Ayuntamiento 18\, Valencia\, Valencia\, 46002\, España
CATEGORIES:Sensus Communis
ATTACH;FMTTYPE=image/jpeg:https://historico.ateneovalencia.es/wp-content/uploads/2016/10/Europa-Brexit.jpg
END:VEVENT
END:VCALENDAR