BEGIN:VCALENDAR
VERSION:2.0
PRODID:-//Ateneo Mercantil de Valencia - ECPv6.0.4//NONSGML v1.0//EN
CALSCALE:GREGORIAN
METHOD:PUBLISH
X-ORIGINAL-URL:https://historico.ateneovalencia.es
X-WR-CALDESC:Eventos para Ateneo Mercantil de Valencia
REFRESH-INTERVAL;VALUE=DURATION:PT1H
X-Robots-Tag:noindex
X-PUBLISHED-TTL:PT1H
BEGIN:VTIMEZONE
TZID:Europe/Madrid
BEGIN:DAYLIGHT
TZOFFSETFROM:+0100
TZOFFSETTO:+0200
TZNAME:CEST
DTSTART:20160327T010000
END:DAYLIGHT
BEGIN:STANDARD
TZOFFSETFROM:+0200
TZOFFSETTO:+0100
TZNAME:CET
DTSTART:20161030T010000
END:STANDARD
END:VTIMEZONE
BEGIN:VEVENT
DTSTART;TZID=Europe/Madrid:20161017T193000
DTEND;TZID=Europe/Madrid:20161017T210000
DTSTAMP:20260424T011019
CREATED:20160723T060052Z
LAST-MODIFIED:20160725T100212Z
UID:11665-1476732600-1476738000@historico.ateneovalencia.es
SUMMARY:Ciclo Otras Tertulias: El Corán\, el gran desconocido de Occidente
DESCRIPTION:El Corán es para los musulmanes lo que la Biblia es para los cristianos. Toda la teología islámica descansa sobre la estructura religiosa del Corán. Libro en un sólo volumen; contiene 114 capítulos de longitud desigual\, también llamados azoras\, o suras. Para los musulmanes\, el Corán es la palabra de Dios\, transmitida a Mahoma por el arcángel Gabriel en el curso de sucesivas revelaciones. La tradición dice que una vez al año\, durante el mes de Ramadán\, Mahoma recitaba al arcángel todo lo que había sido recopilado\, para asegurarse de que Gabriel aprobaba lo escrito. \nEsta tertulia la impartirá D. José Luis Climent para tratar de explicar la importancia que tiene el Corán\, el libro sagrado para los musulmanes. El Corán es su primer libro de lectura\, su única salmodia litúrgica\, su manual de oración\, su código de derecho canónico\, su libro de meditación\, el libro que ha formado su mentalidad. Interesante tertulia para conocer más de cerca el Islam.
URL:https://historico.ateneovalencia.es/evento/ciclo-otras-tertulias-el-coran-el-gran-desconocido-de-occidente/
LOCATION:Salón Sorolla - Ateneo Mercantil de Valencia\, Plaza del Ayuntamiento 18\, Valencia\, Valencia\, 46002\, España
CATEGORIES:Ciclo Otras Tertulias
ATTACH;FMTTYPE=image/jpeg:https://historico.ateneovalencia.es/wp-content/uploads/2016/07/20161017-El-Coran.jpg
END:VEVENT
END:VCALENDAR