BEGIN:VCALENDAR
VERSION:2.0
PRODID:-//Ateneo Mercantil de Valencia - ECPv6.0.4//NONSGML v1.0//EN
CALSCALE:GREGORIAN
METHOD:PUBLISH
X-ORIGINAL-URL:https://historico.ateneovalencia.es
X-WR-CALDESC:Eventos para Ateneo Mercantil de Valencia
REFRESH-INTERVAL;VALUE=DURATION:PT1H
X-Robots-Tag:noindex
X-PUBLISHED-TTL:PT1H
BEGIN:VTIMEZONE
TZID:Europe/Madrid
BEGIN:DAYLIGHT
TZOFFSETFROM:+0100
TZOFFSETTO:+0200
TZNAME:CEST
DTSTART:20210328T010000
END:DAYLIGHT
BEGIN:STANDARD
TZOFFSETFROM:+0200
TZOFFSETTO:+0100
TZNAME:CET
DTSTART:20211031T010000
END:STANDARD
END:VTIMEZONE
BEGIN:VEVENT
DTSTART;TZID=Europe/Madrid:20210531T183000
DTEND;TZID=Europe/Madrid:20210531T200000
DTSTAMP:20260424T094747
CREATED:20210427T103340Z
LAST-MODIFIED:20210427T103340Z
UID:63538-1622485800-1622491200@historico.ateneovalencia.es
SUMMARY:Ciclo de Tertulias: "Un paseo por el mundo Etrusco"
DESCRIPTION:El Ciclo de Tertulias del Ateneo Mercantil\, la antigua y de gran interés Tertulia Histórica\, regresa este lunes 31 de mayo a las 18.30 horas en el Salón Stolz con una conferencia sobre los Etruscos. "Un paseo por mundo Etrusco" nos llevará a conocer de cerca Etruria y a conocer a los Etruscos\, que vivieron entre el siglo VIII - II a. C. y pasaron al olvido\, ya que los romanos los sepuntaron\, pero sus maravillosa necropolis pueblan toda la Toscana. Vivieron entre el Arno y el Tiber y a partir del siglo XV se empezó a recordarlos. Los vamos a evocar juntos y a emocionarnos con sus bellos restos arqueológicos. La ponente de la conferencia será la médica\, microbióloga\, psicóloga clínica y licenciada en Historia y en Historia de Arte\, Dª. Luisa Silla Criado. \nEnlace para la conferencia online: https://zoom.us/j/93234325564\nLa cultura etrusca influyó decisivamente en algunos aspectos del arte romano. El arte Etrusco es reconocido por ser figurativo y estar relacionado con los rituales funerarios; inspirado de los modelos de arte oriental de Egipto\, el arte griego\, fenicio y asirio. En la actualidad\, existen teorías diversas acerca de la procedencia de los etruscos\, siendo la mayor reflexión proveniente de relatos griegos. \nCartel:
URL:https://historico.ateneovalencia.es/evento/ciclo-de-tertulias-un-paseo-por-el-mundo-etrusco/
LOCATION:Salón Stolz - Ateneo Mercantil de Valencia\, Plaza del Ayuntamiento\, 18\, Valencia\, España\, Valencia\, Valencia\, 46002\, España
CATEGORIES:Ciclo de Tertulias
ATTACH;FMTTYPE=image/jpeg:https://historico.ateneovalencia.es/wp-content/uploads/2021/04/20210531-Etruscos.jpg
END:VEVENT
END:VCALENDAR