BEGIN:VCALENDAR
VERSION:2.0
PRODID:-//Ateneo Mercantil de Valencia - ECPv6.0.4//NONSGML v1.0//EN
CALSCALE:GREGORIAN
METHOD:PUBLISH
X-ORIGINAL-URL:https://historico.ateneovalencia.es
X-WR-CALDESC:Eventos para Ateneo Mercantil de Valencia
REFRESH-INTERVAL;VALUE=DURATION:PT1H
X-Robots-Tag:noindex
X-PUBLISHED-TTL:PT1H
BEGIN:VTIMEZONE
TZID:Europe/Madrid
BEGIN:DAYLIGHT
TZOFFSETFROM:+0100
TZOFFSETTO:+0200
TZNAME:CEST
DTSTART:20190331T010000
END:DAYLIGHT
BEGIN:STANDARD
TZOFFSETFROM:+0200
TZOFFSETTO:+0100
TZNAME:CET
DTSTART:20191027T010000
END:STANDARD
END:VTIMEZONE
BEGIN:VEVENT
DTSTART;TZID=Europe/Madrid:20191106T190000
DTEND;TZID=Europe/Madrid:20191106T213000
DTSTAMP:20260423T093233
CREATED:20191008T165925Z
LAST-MODIFIED:20191105T085043Z
UID:52864-1573066800-1573075800@historico.ateneovalencia.es
SUMMARY:Ciclo Órdenes Militares y Hospitalarias: "La Orden del Monte Gaudio"
DESCRIPTION:El próximo miércoles 6 de noviembre a las 19 horas llega al Salón Sorolla una nueva conferencia del Ciclo Órdenes Militares y Hospitalarias bajo el título "La Orden del Monte Gaudio" y que dará nuevamente el profesor\, académico y humanista\, D. Juan Benito Rodríguez Manzanares. La Orden de Santa María del Monte Gaudio de Jerusalén\, o Montegaudio simplemente\, fue una orden religiosa de caballería fundada en el Reino de Aragón\, en el castillo de Alfambra (1174) por el conde Rodrigo Álvarez de Sarria\, gracias al consentimiento de Alfonso II de Aragón.​ \nFue una de las órdenes militares más importantes del siglo XII\, con una amplia presencia internacional\, incluso en Jerusalén. Gozará del apoyo de los monarcas aragoneses\, lo que le permitirá absorber a la Orden del Hospital de San Redentor\, con sede en Teruel. A esta unión de órdenes se le conoce como Orden de Alfambra. Finalmente\, fue absorbida por el Temple en 1196\, a través de la influencia de la Casa Condal de Barcelona. Existen diferentes denominaciones para la Orden de Monte Gaudio\, como Montjoie o Trufac\, que no eran las oficiales y que\, posiblemente\, fueran sinónimos locales de la misma. \nCartel:
URL:https://historico.ateneovalencia.es/evento/ciclo-ordenes-militares-y-humanitarias-la-orden-del-monte-gaudio/
LOCATION:Ateneo Mercantil Valencia\, Plaza del Ayuntamiento 18\, Valencia\, Valencia\, 46002\, España
CATEGORIES:Ciclo de Tertulias
ATTACH;FMTTYPE=image/jpeg:https://historico.ateneovalencia.es/wp-content/uploads/2019/10/20191107-Orden-Monte-Gaudio.jpg
END:VEVENT
END:VCALENDAR