BEGIN:VCALENDAR
VERSION:2.0
PRODID:-//Ateneo Mercantil de Valencia - ECPv6.0.4//NONSGML v1.0//EN
CALSCALE:GREGORIAN
METHOD:PUBLISH
X-ORIGINAL-URL:https://historico.ateneovalencia.es
X-WR-CALDESC:Eventos para Ateneo Mercantil de Valencia
REFRESH-INTERVAL;VALUE=DURATION:PT1H
X-Robots-Tag:noindex
X-PUBLISHED-TTL:PT1H
BEGIN:VTIMEZONE
TZID:Europe/Madrid
BEGIN:DAYLIGHT
TZOFFSETFROM:+0100
TZOFFSETTO:+0200
TZNAME:CEST
DTSTART:20190331T010000
END:DAYLIGHT
BEGIN:STANDARD
TZOFFSETFROM:+0200
TZOFFSETTO:+0100
TZNAME:CET
DTSTART:20191027T010000
END:STANDARD
END:VTIMEZONE
BEGIN:VEVENT
DTSTART;TZID=Europe/Madrid:20191014T190000
DTEND;TZID=Europe/Madrid:20191014T203000
DTSTAMP:20260422T190749
CREATED:20190722T074416Z
LAST-MODIFIED:20190930T113317Z
UID:49961-1571079600-1571085000@historico.ateneovalencia.es
SUMMARY:Ciclo de Tertulias: "La fundación de Valencia"
DESCRIPTION:El Ciclo de Tertulias del Ateneo Mercantil ha programado una nueva ponencia el próximo lunes 14 de octubre a las 19 horas en el Salón Sorolla bajo el título "La fundación de Valencia" y que impartirá el arquitecto en edificación y urbanismo por la Escuela Superior de Arquitectos de Barcelona\, D. Carlos Ballester Bernial. \n \nUna conferencia que tratará de explicar la fundación de nuestra ciudad\, de Valencia. Comenzando por la geomorfología del territorio ocupado por el Turia\, por eso Valencia nunca fue plana. También analizando la arqueología de la ciudad y cuya fundación se produjo en el año 138 a. C. por los romanos. Valentia\, descubre el cómo y el porqué del asentamiento y de la fundación de nuestra cieudad. \nCurriculum\nCarlos Ballester Bernial. Arquitecto en edificación y urbanismo por la escuela superior de Arquitectos de Barcelona. Con 46 años de ejercicio profesional\, desempeñando cargo gerenciales en estructuras e industrialización. Arquitecto municipal. Ejercicio libre con dilatada obra en Valencia y Castellón de edificación\, urbanismo y amplísima experiencia en rehabilitación de edificios históricos y monumentales en colaboración con el RIVA y administraciones centrales\, autonómicas y locales. Promotor de viviendas. Autor de los libros “1737 Llegada de los padres escolapios a Valencia” y “Fundación de la Valentia Edetanorum”. \nCartel:
URL:https://historico.ateneovalencia.es/evento/ciclo-de-tertulias-la-fundacion-de-valencia/
LOCATION:Salón Sorolla - Ateneo Mercantil de Valencia\, Plaza del Ayuntamiento 18\, Valencia\, Valencia\, 46002\, España
CATEGORIES:Ciclo de Tertulias
ATTACH;FMTTYPE=image/jpeg:https://historico.ateneovalencia.es/wp-content/uploads/2019/07/20191014-Ciclo-Tertulia-Fundacion-Valencia.jpg
END:VEVENT
END:VCALENDAR