BEGIN:VCALENDAR
VERSION:2.0
PRODID:-//Ateneo Mercantil de Valencia - ECPv6.0.4//NONSGML v1.0//EN
CALSCALE:GREGORIAN
METHOD:PUBLISH
X-ORIGINAL-URL:https://historico.ateneovalencia.es
X-WR-CALDESC:Eventos para Ateneo Mercantil de Valencia
REFRESH-INTERVAL;VALUE=DURATION:PT1H
X-Robots-Tag:noindex
X-PUBLISHED-TTL:PT1H
BEGIN:VTIMEZONE
TZID:Europe/Madrid
BEGIN:DAYLIGHT
TZOFFSETFROM:+0100
TZOFFSETTO:+0200
TZNAME:CEST
DTSTART:20210328T010000
END:DAYLIGHT
BEGIN:STANDARD
TZOFFSETFROM:+0200
TZOFFSETTO:+0100
TZNAME:CET
DTSTART:20211031T010000
END:STANDARD
END:VTIMEZONE
BEGIN:VEVENT
DTSTART;TZID=Europe/Madrid:20210614T190000
DTEND;TZID=Europe/Madrid:20210614T203000
DTSTAMP:20260424T021415
CREATED:20210409T100034Z
LAST-MODIFIED:20210413T114042Z
UID:63364-1623697200-1623702600@historico.ateneovalencia.es
SUMMARY:Ciclo de Tertulias: "El Museo de la Plaza de la Almoina. El lugar donde nació Valentia"
DESCRIPTION:El Ciclo Tertulia Histórica regresa el próximo 14 de junio a las 19 horas en el Salón Stolz del Ateneo Mercantil con la conferencia "El Museo de la Plaza de la Almoina. El lugar donde nació Valentia" y el ponente será el arqueólogo y director del Museo Arqueológico de la Almoina\, D. Vicent Escrivá Torres. La conferencia se ofrecerá también online mediante la plataforma Zoom. \nEnlace para la conferencia online: https://zoom.us/j/93134790853\nEl subsuelo de La Almoina alberga los restos arqueológicos hallados en las excavaciones realizadas entre los años 1985 y 2005. El subsuelo arqueológico ocupa una superficie de 2.500 m2 y conserva vestigios que van desde el siglo II ac (época romana) hasta el siglo XIV (época medieval). La visita al Centro Arqueológico de La Almoina es un paseo por mil años de historia de Valencia. En este mismo lugar\, los romanos fundaron Valentia en el año 138 ac y aquí situaron el punto a partir del cual trazaron la futura ciudad. \nCartel:\n \n 
URL:https://historico.ateneovalencia.es/evento/ciclo-de-tertulias-el-museo-de-la-plaza-de-la-almoina-el-lugar-donde-nacio-valentia/
LOCATION:Salón Stolz - Ateneo Mercantil de Valencia\, Plaza del Ayuntamiento\, 18\, Valencia\, España\, Valencia\, Valencia\, 46002\, España
CATEGORIES:Ciclo de Tertulias
ATTACH;FMTTYPE=image/jpeg:https://historico.ateneovalencia.es/wp-content/uploads/2021/04/20210614-Museo-de-la-Almoina.jpg
END:VEVENT
BEGIN:VEVENT
DTSTART;TZID=Europe/Madrid:20210629T190000
DTEND;TZID=Europe/Madrid:20210629T203000
DTSTAMP:20260424T021415
CREATED:20210412T092758Z
LAST-MODIFIED:20210623T105618Z
UID:63413-1624993200-1624998600@historico.ateneovalencia.es
SUMMARY:Ciclo de Tertulias: "La mejor infantería griega: Los Guerreros de Esparta"
DESCRIPTION:El Ciclo de Tertulias llega con una nueva ponencia que se celebrará en el Salón de Actos del Ateneo Mercantil de Valencia y se emitirá online por Zoom el próximo martes 29 de junio a las 19 horas bajo el título "La mejor infantería griega: Los Guerreros de Esparta" y que impartirá el historiador y escritor\, D. Antonio Penadés. \nEnlace de la conferencia online: https://zoom.us/j/97466656652\n\n\nLa formación de combate más temible del mundo antiguo estaba compuesta por guerreros con armamento pesado: los hoplitas. Ellos cimentaron el poderío de la belicosa Esparta. \nEl hoplita\, término que procede de ta hopla y significa "hombre armado"\, se integraba en la falange y se protegía con el hoplon\, un escudo de unos 90 cm de diámetro con el que cubría la parte izquierda de su cuerpo y la derecha del compañero de al lado. La falange\, la formación hoplítica\, estaba formada por columnas compactas de hoplitas\, que debían ser tan numerosas como para dotar a la unidad de la anchura y la profundidad necesaria; en todo caso\, contaban con ocho filas de fondo. \nEsparta estuvo en guerra prácticamente durante toda su historia\, siendo un Estado que concebía la actividad militar como el centro de la vida ciudadana. El ejército espartano obtuvo notables éxitos militares\, como el triunfo sobre los persas en Platea o la victoria definitiva sobre su eterna rival\, Atenas\, en la guerra del Peloponeso. También hubo heroicas derrotas\, como la del paso de las Termópilas. Otras batallas\, en cambio\, significaron el final del poderío militar espartano. Éstos cayeron derrotados por los tebanos en Leuctra y más tarde por los macedonios. La falange hoplítica había llegado a su fin. Era el turno de los ejércitos de Filipo II y su hijo\, Alejandro Magno. \nCartel:
URL:https://historico.ateneovalencia.es/evento/ciclo-de-tertulias-la-mejor-infanteria-griega-los-guerreros-de-esparta/
LOCATION:Teatro Ateneo
CATEGORIES:Ciclo de Tertulias
ATTACH;FMTTYPE=image/jpeg:https://historico.ateneovalencia.es/wp-content/uploads/2021/04/20210629-Espartanos.jpg
END:VEVENT
END:VCALENDAR