BEGIN:VCALENDAR
VERSION:2.0
PRODID:-//Ateneo Mercantil de Valencia - ECPv6.0.4//NONSGML v1.0//EN
CALSCALE:GREGORIAN
METHOD:PUBLISH
X-ORIGINAL-URL:https://historico.ateneovalencia.es
X-WR-CALDESC:Eventos para Ateneo Mercantil de Valencia
REFRESH-INTERVAL;VALUE=DURATION:PT1H
X-Robots-Tag:noindex
X-PUBLISHED-TTL:PT1H
BEGIN:VTIMEZONE
TZID:Europe/Madrid
BEGIN:DAYLIGHT
TZOFFSETFROM:+0100
TZOFFSETTO:+0200
TZNAME:CEST
DTSTART:20200329T010000
END:DAYLIGHT
BEGIN:STANDARD
TZOFFSETFROM:+0200
TZOFFSETTO:+0100
TZNAME:CET
DTSTART:20201025T010000
END:STANDARD
END:VTIMEZONE
BEGIN:VEVENT
DTSTART;TZID=Europe/Madrid:20201109T190000
DTEND;TZID=Europe/Madrid:20201109T203000
DTSTAMP:20260423T210859
CREATED:20201027T122413Z
LAST-MODIFIED:20201027T122413Z
UID:60592-1604948400-1604953800@historico.ateneovalencia.es
SUMMARY:Ciclo de Tertulias: “Un diplomático frente al Holocausto”
DESCRIPTION:El Ateneo Mercantil trae hasta su institución a uno de los grandes personajes españoles del s. XX\, como es Ángel Sanz Briz\, el que fuera embajador de España en Hungría durante la Segunda Guerra Mundial. Ángel salvó la vida a miles de judíos del Holocausto. Al tiempo formó un movimiento de resistencia que les permitía salvarlos. Él les expidía documentos de protección y los alojó en casas de seguridad españolas\, resguardados por la soberanía de la embajada. En ese momento\, el gobierno húngaro estaba persiguiendo y deportando judíos a los campos de exterminio nazis. Él es el Ángel de Budapest. \nEnlace de la Sesión Online: https://zoom.us/j/91512310098\nEl Ciclo de Tertulias trae el próximo lunes 9 de noviembre a las 19 horas en el Salón Stolz la vida de Ángel Sanz Briz con la conferencia "Un diplomático frente al Holocausto" que tendrá como ponente al presidente de la Fundación Goerlich y Cónsul General H. de Hungría\, D. Andrés Goerlich. Coordinan el acto D. José Luis Climent\, coordinador de la Tertulia Histórica y D. Juan Sanz\, socio del Ateneo Mercantil. \nCartel:
URL:https://historico.ateneovalencia.es/evento/ciclo-de-tertulias-un-diplomatico-frente-al-holocausto/
LOCATION:Salón Stolz - Ateneo Mercantil de Valencia\, Plaza del Ayuntamiento\, 18\, Valencia\, España\, Valencia\, Valencia\, 46002\, España
CATEGORIES:Ciclo de Tertulias,Tertulia Histórica
ATTACH;FMTTYPE=image/jpeg:https://historico.ateneovalencia.es/wp-content/uploads/2020/10/20201109-Holocausto-El-angel-de-Budapest.jpg
END:VEVENT
END:VCALENDAR