BEGIN:VCALENDAR
VERSION:2.0
PRODID:-//Ateneo Mercantil de Valencia - ECPv6.0.4//NONSGML v1.0//EN
CALSCALE:GREGORIAN
METHOD:PUBLISH
X-ORIGINAL-URL:https://historico.ateneovalencia.es
X-WR-CALDESC:Eventos para Ateneo Mercantil de Valencia
REFRESH-INTERVAL;VALUE=DURATION:PT1H
X-Robots-Tag:noindex
X-PUBLISHED-TTL:PT1H
BEGIN:VTIMEZONE
TZID:Europe/Madrid
BEGIN:DAYLIGHT
TZOFFSETFROM:+0100
TZOFFSETTO:+0200
TZNAME:CEST
DTSTART:20200329T010000
END:DAYLIGHT
BEGIN:STANDARD
TZOFFSETFROM:+0200
TZOFFSETTO:+0100
TZNAME:CET
DTSTART:20201025T010000
END:STANDARD
END:VTIMEZONE
BEGIN:VEVENT
DTSTART;TZID=Europe/Madrid:20200722T180000
DTEND;TZID=Europe/Madrid:20200722T200000
DTSTAMP:20260426T055232
CREATED:20200605T185918Z
LAST-MODIFIED:20200616T122220Z
UID:59333-1595440800-1595448000@historico.ateneovalencia.es
SUMMARY:Webinar "Jerusalén y el Santo Sepulcro"
DESCRIPTION:El Ateneo Mercantil de Valencia ha organizado una nueva webinar el próximo miércoles 22 de julio a las 18 horas que está enmarcada en el Ciclo Otras Tertulias y llega bajo el título "Jerusalén y el Santo Sepulcro". El ponente será el Dr. D. Adolfo Alonso Durá\, que es Doctor Arquitecto y profesor titular de la Escuela Técnica Superior de Arquitectura de la UPV. \nEl Santo Sepulcro es el lugar más sagrado de la cristiandad\, aquel que acoge la tumba de Cristo. El Santo Sepulcro de Jerusalén\, templo con categoría de basílica (llamada de la Resurrección)\, se erige sobre el montículo donde la tradición señala que Cristo fue crucificado (Gólgota en arameo y Calvario en latín)\, y en sus entrañas custodia la propia tumba de Jesús. Resulta imposible explicar la forma del recinto atendiendo a las clasificaciones canónicas. Desde luego\, no es de planta de cruz latina ni consta de bóvedas de cañón o de crucería como nuestras catedrales europeas. \nEnlace a la sesión: https://us02web.zoom.us/j/81694858573\nCartel:
URL:https://historico.ateneovalencia.es/evento/webinar-jerusalen-y-el-santo-sepulcro/
LOCATION:On line
CATEGORIES:Ciclo Otras Tertulias
ATTACH;FMTTYPE=image/jpeg:https://historico.ateneovalencia.es/wp-content/uploads/2020/06/20200713-Santo-Sepulcro-Jersusalen.jpg
END:VEVENT
END:VCALENDAR