BEGIN:VCALENDAR
VERSION:2.0
PRODID:-//Ateneo Mercantil de Valencia - ECPv6.0.4//NONSGML v1.0//EN
CALSCALE:GREGORIAN
METHOD:PUBLISH
X-WR-CALNAME:Ateneo Mercantil de Valencia
X-ORIGINAL-URL:https://historico.ateneovalencia.es
X-WR-CALDESC:Eventos para Ateneo Mercantil de Valencia
REFRESH-INTERVAL;VALUE=DURATION:PT1H
X-Robots-Tag:noindex
X-PUBLISHED-TTL:PT1H
BEGIN:VTIMEZONE
TZID:Europe/Madrid
BEGIN:DAYLIGHT
TZOFFSETFROM:+0100
TZOFFSETTO:+0200
TZNAME:CEST
DTSTART:20200329T010000
END:DAYLIGHT
BEGIN:STANDARD
TZOFFSETFROM:+0200
TZOFFSETTO:+0100
TZNAME:CET
DTSTART:20201025T010000
END:STANDARD
END:VTIMEZONE
BEGIN:VEVENT
DTSTART;TZID=Europe/Madrid:20200203T190000
DTEND;TZID=Europe/Madrid:20200203T190000
DTSTAMP:20260425T222809
CREATED:20200113T174944Z
LAST-MODIFIED:20200205T110806Z
UID:55375-1580756400-1580756400@historico.ateneovalencia.es
SUMMARY:Ciclo de Tertulias: “La enfermedad en la Historia del Arte”
DESCRIPTION:El próximo lunes 3 de febrero está programada la primera de las tertulias históricas del mes de febrero con una gran ponencia sobre historia del arte. A las 19 horas en el Salón Sorolla\, el Doctor en Medicina\, poeta\, pintor y ex conseller\, D. Alejandro Font de Mora\, desarrollará la tertulia "La enfermedad en la Historia del Arte". \nUna ponencia en la que se mostrará a grandes rasgos la presencia de la representación de las enfermedades a lo largo de la Historia del Arte. La enfermedad es un hecho tan trascendente para la Humanidad que se hace presente en las más variadas esferas de la actividad humana y singularmente en el Arte. Desde el arte Prehistórico hasta el s. XX\, la enfermedad ha formado parte de la vida y\, el dramatismo que tiene la enfermedad también ha dejado su huella en la actividad artística. \nCartel:
URL:https://historico.ateneovalencia.es/evento/ciclo-de-tertulias-la-enfermedad-en-la-historia-del-arte/
LOCATION:Salón Sorolla - Ateneo Mercantil de Valencia\, Plaza del Ayuntamiento 18\, Valencia\, Valencia\, 46002\, España
CATEGORIES:Tertulia Histórica
ATTACH;FMTTYPE=image/jpeg:https://historico.ateneovalencia.es/wp-content/uploads/2020/01/20200203-Ciclo-Tertulias-Enfermedad-Hª-Arte.jpg
END:VEVENT
BEGIN:VEVENT
DTSTART;TZID=Europe/Madrid:20200205T190000
DTEND;TZID=Europe/Madrid:20200205T210000
DTSTAMP:20260425T222809
CREATED:20200130T162033Z
LAST-MODIFIED:20200130T162033Z
UID:55679-1580929200-1580936400@historico.ateneovalencia.es
SUMMARY:Tertulia Taurina: Presentación del libro "Mis reflexiones taurinas" de Nicasio Jiménez
DESCRIPTION:El próximo miércoles 5 de febrero a las 19 horas se producirá en la Sala de Tertulia Taurina del Ateneo Mercantil (7º piso) la presentación del libro "Mis reflexiones taurinas" por parte del autor\, el poeta\, escritor y miembro de la comisión de la Tertulia Taurina\, D. Nicasio Jiménez Pardo. Un proyecto muy personal\, en el que los sentimientos están a flor de piel\, de 290 páginas que nació en 2016 y por fin ve la luz. Un libro intimista y de enorme belleza de una gran aficionado a los toros\, escrito con la pasión y con la templanza que siempre envuelve al autor. \nCartel:
URL:https://historico.ateneovalencia.es/evento/tertulia-taurina-presentacion-del-libro-mis-reflexiones-taurinas-de-nicasio-jimenez/
LOCATION:Sala Multiusos - Tertulia Taurina
CATEGORIES:Presentaciones Libros,Tertulia Taurina
ATTACH;FMTTYPE=image/jpeg:https://historico.ateneovalencia.es/wp-content/uploads/2020/01/20200205-Tertulia-Taurina-Libro-Mis-Reflexiones-Taurinas.jpg
END:VEVENT
BEGIN:VEVENT
DTSTART;TZID=Europe/Madrid:20200210T190000
DTEND;TZID=Europe/Madrid:20200210T203000
DTSTAMP:20260425T222809
CREATED:20191226T140236Z
LAST-MODIFIED:20191226T140236Z
UID:54989-1581361200-1581366600@historico.ateneovalencia.es
SUMMARY:Ciclo de Tertulias: “El Sistema Periódico: historia y utilidades”
DESCRIPTION:Desde sus orígenes\, hace unos 200 años\, la tabla periódica se ha convertido en una herramienta indispensable para la química moderna. El Ciclo de Tertulias\, antigua Tertulia Histórica\, acercará en una conferencia todas las preguntas y curiosidades que tiene el Sistema Periódico. La conferencia será el próximo lunes 10 de febrero a las 19 horas en el Salón Sorolla y llega con el título: "El Sistema Periódico: historia y utilidades" y que dará el socio y coordinador del Aula I de Poesía\, D. Félix Molina. \nLa tabla periódica es uno de los símbolos emblemáticos de la ciencia\, un documento que compendia buena parte de nuestros conocimientos sobre química. La historia del sistema periódico de clasificación de los elementos empezó hace más de 200 años. Desde entonces\, se ha cuestionado\, modificado y mejorado la tabla conforme la ciencia avanzaba y se descubrían nuevos elementos. \nCartel:
URL:https://historico.ateneovalencia.es/evento/ciclo-de-tertulias-el-sistema-periodico-historia-y-utilidades/
LOCATION:Salón Sorolla - Ateneo Mercantil de Valencia\, Plaza del Ayuntamiento 18\, Valencia\, Valencia\, 46002\, España
CATEGORIES:Tertulia Histórica
ATTACH;FMTTYPE=image/jpeg:https://historico.ateneovalencia.es/wp-content/uploads/2019/12/20200210-Ciclo-Tertulias-El-Sistema-Periodico.jpg
END:VEVENT
BEGIN:VEVENT
DTSTART;TZID=Europe/Madrid:20200219T193000
DTEND;TZID=Europe/Madrid:20200219T213000
DTSTAMP:20260425T222809
CREATED:20200211T122311Z
LAST-MODIFIED:20200211T122311Z
UID:56084-1582140600-1582147800@historico.ateneovalencia.es
SUMMARY:Sensus Communis: "Conocer los museos desde dentro: su labor y responsabilidades presentes y futuras”
DESCRIPTION:El Foro Sensus Communis regresa a la Sala de Ocio el próximo miércoles 19 de febrero a las 19.30 horas con la ponencia "Conocer los museos desde dentro: su labor y responsabilidades presentes y futuras"\, que trae al Ateneo Mercatil\, la Doctora en Historia y Museóloga. Ex Subdirectora General de los Museos Estatales\, Dª. Amparo Sebastián Caudet. \nSi asistes a la conferencia tendrás la oportunidad de conocer con detalle algunos de los procesos de trabajo fundamentales para que el espectador disfrute al máximo de la experiencia de visitar un museo. Procesos de trabajo que sirven tanto para cuidar el patrimonio artístico ya que hay férreos protocolos a la hora de manipular de obras de arte\, en el traslado\, étc. Pero también hay una serie de responsabilidades como el cada vez mayor enfoque y responsabilidad social de los museos que aportan investigación\, conservación y difusión del patrimonio\, la ética y el respeto por el medio ambiente\, también un mayor compromiso social y de promoción de los valores ciudadanos. Los museos quieren obtener legitimidad delante de la ciudadanía. \nCartel:
URL:https://historico.ateneovalencia.es/evento/sensus-communis-conocer-los-museos-desde-dentro-su-labor-y-responsabilidades-presentes-y-futuras/
LOCATION:Sala de Ocio - Ateneo Mercantil de Valencia\, Plaza del Ayuntamiento\, 18\, Valencia\, España\, Valencia\, Valencia\, 46002\, España
CATEGORIES:Sensus Communis
ATTACH;FMTTYPE=image/jpeg:https://historico.ateneovalencia.es/wp-content/uploads/2020/02/20200219-Sensus-Communis-Museos.jpg
END:VEVENT
BEGIN:VEVENT
DTSTART;TZID=Europe/Madrid:20200226T190000
DTEND;TZID=Europe/Madrid:20200226T210000
DTSTAMP:20260425T222809
CREATED:20200222T094042Z
LAST-MODIFIED:20200222T094042Z
UID:56379-1582743600-1582750800@historico.ateneovalencia.es
SUMMARY:Entrega del XVI Premio Distinción 'Enrique Mora Guillén' a Vicente Ruiz 'El Soro'
DESCRIPTION:La Tertulia Taurina del Ateneo Mercantil de Valencia entregará el próximo miércoles 26 de febrero a las 19 horas el XVI Trofeo Distinción 'Enrique Mora Guillén' al torero Vicente Ruiz 'El Soro' en el Salón Stolz de la entidad. Esta Distinción se concedió por unanimidad para reconocer su trayectoria profesional y su defensa y promoción de la tauromaquia. Este reconocimiento será recogido por el torero valenciano en un acto en el que se espera la presencia de aficionados al toreo\, miembros de la Tertulia Taurina y socios de la entidad. \nEste galardón se concede de forma anual a distintas personalidades que han destacado en el mundo taurino. En el caso de 'El Soro'\, ha sido uno de los mejores toreros valencianos y en la actualidad una de las caras más conocidas en la defensa de la fiesta. El Trofeo Distinción 'Enrique Mora Guillén' ha sido concedido a toreros de reconocido prestigio como Enrique Ponce\, Roca Rey\, Paco Ureña\, Sebastián Castella\, El Juli o Padilla\, entre otros. \nLa Tertulia Taurina del Ateneo Mercantil es una de las secciones con más tradición de la institución. Fue fundada en 1993 y es una de las tertulias más antiguas y activas de España. Se reúnen todos los jueves para tratar diferentes aspectos de la fiesta además de organizar conferencias o mesas redondas sobre temas taurinos. \nCartel:\n \n 
URL:https://historico.ateneovalencia.es/evento/entrega-del-xvi-premio-distincion-enrique-mora-guillen-a-vicente-ruiz-el-soro/
LOCATION:Salón Stolz - Ateneo Mercantil de Valencia\, Plaza del Ayuntamiento\, 18\, Valencia\, España\, Valencia\, Valencia\, 46002\, España
CATEGORIES:Tertulia Taurina
ATTACH;FMTTYPE=image/jpeg:https://historico.ateneovalencia.es/wp-content/uploads/2020/02/20200226-Premio-Distincion-El-Soro.jpg
END:VEVENT
END:VCALENDAR