BEGIN:VCALENDAR
VERSION:2.0
PRODID:-//Ateneo Mercantil de Valencia - ECPv6.0.4//NONSGML v1.0//EN
CALSCALE:GREGORIAN
METHOD:PUBLISH
X-ORIGINAL-URL:https://historico.ateneovalencia.es
X-WR-CALDESC:Eventos para Ateneo Mercantil de Valencia
REFRESH-INTERVAL;VALUE=DURATION:PT1H
X-Robots-Tag:noindex
X-PUBLISHED-TTL:PT1H
BEGIN:VTIMEZONE
TZID:Europe/Madrid
BEGIN:DAYLIGHT
TZOFFSETFROM:+0100
TZOFFSETTO:+0200
TZNAME:CEST
DTSTART:20190331T010000
END:DAYLIGHT
BEGIN:STANDARD
TZOFFSETFROM:+0200
TZOFFSETTO:+0100
TZNAME:CET
DTSTART:20191027T010000
END:STANDARD
END:VTIMEZONE
BEGIN:VEVENT
DTSTART;TZID=Europe/Madrid:20190204T190000
DTEND;TZID=Europe/Madrid:20190204T210000
DTSTAMP:20260423T205021
CREATED:20190114T114815Z
LAST-MODIFIED:20190114T114840Z
UID:41748-1549306800-1549314000@historico.ateneovalencia.es
SUMMARY:Tertulia Histórica: "La ajetreada vida de Quevedo"
DESCRIPTION:La Tertulia Histórica vuelve en este mes de febrero con dos grandes conferencias y la primera de ellas hablará de Francisco de Quevedo\, el escritor español del Siglo de Oro\, unos de los autores más destacados de la historia de la literatura española\, conocido especialmente por su obra poética\, aunque también escribió narrativa\, teatro\, y diversos opúsculos filosóficos\, políticos\, morales\, ascéticos\, humanísticos e históricos. Esta conferencia la impartirá la socia del Ateneo Mercantil\, Dª. Mª Victoria Rodríguez\, y la ponencia llega bajo el título: "La ajetreada vida de Quevedo". Quevedo fue un genio reaccionario\, para muchos el mejor poeta español de todos los tiempos\, que amaba a las mujeres\, en especial a Aminta. \nCartel:
URL:https://historico.ateneovalencia.es/evento/tertulia-historica-la-ajetreada-vida-de-quevedo/
LOCATION:Salón Sorolla - Ateneo Mercantil de Valencia\, Plaza del Ayuntamiento 18\, Valencia\, Valencia\, 46002\, España
CATEGORIES:Tertulia Histórica
ATTACH;FMTTYPE=image/jpeg:https://historico.ateneovalencia.es/wp-content/uploads/2019/01/20190204-Tertulia-Historica-Quevedo.jpg
END:VEVENT
BEGIN:VEVENT
DTSTART;TZID=Europe/Madrid:20190206T190000
DTEND;TZID=Europe/Madrid:20190206T190000
DTSTAMP:20260423T205021
CREATED:20190130T125828Z
LAST-MODIFIED:20190130T125829Z
UID:42241-1549479600-1549479600@historico.ateneovalencia.es
SUMMARY:Homenaje al Torero de Plata Luís Blázquez García
DESCRIPTION:La Tertulia Taurina del Ateneo Mercantil de Valencia organiza este emotivo acto de homenaje al subalterno Luís Blázquez García para conmemorar el 25 aniversario de Torero de Plata. Moderará el acto D. Carlos Bueno\, periodista de Radio Intereconomía. \nConstancia\, trabajo\, fidelidad y entrega. Continuador de la escuela taurina valenciana: de los ‘Blanquet’\, Honrubia o Manolo Montoliu… Luís Blázquez García nació el 31 de julio de 1972 en Burjassot\, Valencia. Su primer paseíllo vestido de luces fue en Ampuero (Cantabria) el 15 de septiembre de 1988. Debutó con picadores en Puebla Méjico el 25 de agosto de 1990 con novillos de Coyotepec. Su presentación con picadores en España fue el 13 de septiembre de 1992 en Valencia\, con novillos de Gabriel Rojas. Tras torear una novillada de Jiménez Pasquau en Valencia el 8 de agosto de 1993\, decidió comenzar su carrera como banderillero. Debuta como tal el 19 de octubre de 1993 con su hermano Víctor Manuel en el tradicional festival de Montepío de Toreros. Posteriormente ingresa en la cuadrilla de Vicente Barrera\, El Litri (hasta su retirada)\, Juan José Padilla\, Finito de Córdoba\, Morante de la Puebla y en 2008\, comienza su etapa en la cuadrilla de José María Manzanares.
URL:https://historico.ateneovalencia.es/evento/homenaje-al-torero-de-plata-luis-blazquez-garcia/
LOCATION:Salón Sorolla - Ateneo Mercantil de Valencia\, Plaza del Ayuntamiento 18\, Valencia\, Valencia\, 46002\, España
CATEGORIES:Tertulia Taurina
ATTACH;FMTTYPE=image/jpeg:https://historico.ateneovalencia.es/wp-content/uploads/2019/01/20190206-Tertulia-Taurina-Homenaje-Luis-Blazquez.jpg
END:VEVENT
BEGIN:VEVENT
DTSTART;TZID=Europe/Madrid:20190211T190000
DTEND;TZID=Europe/Madrid:20190211T210000
DTSTAMP:20260423T205021
CREATED:20190114T115735Z
LAST-MODIFIED:20190114T115735Z
UID:41755-1549911600-1549918800@historico.ateneovalencia.es
SUMMARY:Tertulia Histórica: "Los Tribunales de Derechos Humanos"
DESCRIPTION:La segunda Tertulia Histórica de febrero hablará sobre los Tribunales de Derechos Humanos. Una conferencia que impartirá el Doctor en Derecho\, licenciado en Criminología y Presidente de la Sección 3ª de la Audiencia Provincial de Valencia desde diciembre de 2004\, D. Carlos Climent Durán\, y la ponencia llega bajo el título: "Los Tribunales de Derechos Humanos". \nSin ir más lejos en Europa tenemos el Tribunal Europeo de Derechos Humanos (también denominado Tribunal de Estrasburgo y Corte Europea de Derechos Humanos) que es la máxima autoridad judicial para la garantía de los derechos humanos y libertades fundamentales en toda Europa\, excepto Bielorrusia\, Kazajistán y la Ciudad del Vaticano. \nUn tribunal internacional ante el que cualquier persona que considere haber sido víctima de una violación de sus derechos reconocidos por el Convenio para la Protección de los Derechos Humanos y de las Libertades Fundamentales o cualquiera de sus Protocolos adicionales\, mientras se encontraba legalmente bajo la jurisdicción de un Estado miembro del Consejo de Europa\, y que haya agotado sin éxito los recursos judiciales disponibles en ese Estado\, puede presentar una denuncia contra dicho Estado por violación del Convenio. \nCartel:
URL:https://historico.ateneovalencia.es/evento/tertulia-historica-los-tribunales-de-derechos-humanos/
LOCATION:Salón Sorolla - Ateneo Mercantil de Valencia\, Plaza del Ayuntamiento 18\, Valencia\, Valencia\, 46002\, España
CATEGORIES:Tertulia Histórica
ATTACH;FMTTYPE=image/jpeg:https://historico.ateneovalencia.es/wp-content/uploads/2019/01/20190211-Tertulia-Historica-Tribunal-Derechos-Humanos.jpg
END:VEVENT
BEGIN:VEVENT
DTSTART;TZID=Europe/Madrid:20190213T193000
DTEND;TZID=Europe/Madrid:20190213T193000
DTSTAMP:20260423T205021
CREATED:20190205T135934Z
LAST-MODIFIED:20190205T141519Z
UID:42412-1550086200-1550086200@historico.ateneovalencia.es
SUMMARY:Sensus Communis: "Beber alcohol: ¿reduce o aumenta nuestra responsabilidad?"
DESCRIPTION:Nuestro próximo foro sensus communis tratará nuevamente un tema polémico y de actualidad.  “Beber alcohol: ¿reduce o aumenta nuestra responsabilidad?”.  O de cómo la influencia del alcohol puede atenuar o agravar la responsabilidad en la comisión de un delito imprudente. La influencia del alcohol en la comisión de un delito ha venido siendo\, históricamente\, una circunstancia que atenuaba la responsabilidad del autor por influir en su capacidad volitiva. Sin embargo\, actualmente\, en el caso de conducción de vehículos a motor supone\, de facto\, una agravante. \nSe adjuntan 4 artículos de opinión para ilustrarse sobre el tema: \n\nAlcohol: ¿agravante o atenuante?: http://www.legaltoday.com/opinion/articulos-de-opinion/alcohol-agravante-o-atenuante#\n¿Si ir borracho es un agravante en delitos de tráfico\, por qué exime en una violación?: https://www.elplural.com/sociedad/si-ir-borracho-es-un-agravante-en-delitos-de-trafico-por-que-exime-en-una-violacion_127423102\nEmbriaguez es agravante en caso de delitos: http://m.eltiempo.com/archivo/documento/MAM-298524\nEl CGPJ ve "desproporcionado" considerar la embriaguez un agravante en casos de violencia de género: https://www.lavanguardia.com/vida/20091111/53822036978/el-cgpj-ve-desproporcionado-considerar-la-embriaguez-un-agravante-en-casos-de-violencia-de-genero.html\n\nCartel:
URL:https://historico.ateneovalencia.es/evento/sensus-communis-beber-alcohol-reduce-o-aumenta-nuestra-responsabilidad/
LOCATION:Sala de Ocio - Ateneo Mercantil de Valencia\, Plaza del Ayuntamiento\, 18\, Valencia\, España\, Valencia\, Valencia\, 46002\, España
CATEGORIES:Sensus Communis
ATTACH;FMTTYPE=image/jpeg:https://historico.ateneovalencia.es/wp-content/uploads/2019/02/20190213-Sensus-Communis-Alcohol-1.jpg
END:VEVENT
BEGIN:VEVENT
DTSTART;TZID=Europe/Madrid:20190218T190000
DTEND;TZID=Europe/Madrid:20190218T190000
DTSTAMP:20260423T205021
CREATED:20190208T113936Z
LAST-MODIFIED:20190211T125104Z
UID:42526-1550516400-1550516400@historico.ateneovalencia.es
SUMMARY:Ciclo Otras Tertulias: Arte y Belleza Japoneses
DESCRIPTION:Nueva sesión del Ciclo Otras Tertulias en la que D. Vicente Barberá\, coordinador del Aula de Poesía I del Ateneo y creador de Poetas en el Ateneo\, hablará del Arte y Belleza Japoneses a través de las experiencias que ha recabado de sus viajes a Japón. \nD. Vicente nos hablará de la cultura y religión japonesa\, utilizando numerosas fotos\, y aprovechando que numerosos socios del Ateneo realizarán un viaje a Japón nos dará consejos e indicará datos interesantes para que los asistentes conozcan las costumbres y los entresijos de la cultura japonesa antes de viajar. \nCartel:
URL:https://historico.ateneovalencia.es/evento/ciclo-otras-tertulias-arte-y-belleza-japones/
LOCATION:Salón Sorolla - Ateneo Mercantil de Valencia\, Plaza del Ayuntamiento 18\, Valencia\, Valencia\, 46002\, España
CATEGORIES:Ciclo Otras Tertulias
ATTACH;FMTTYPE=image/jpeg:https://historico.ateneovalencia.es/wp-content/uploads/2019/02/20190218-Otras-Tertulias-Arte-y-Belleza-Japones.jpg
END:VEVENT
BEGIN:VEVENT
DTSTART;TZID=Europe/Madrid:20190221T190000
DTEND;TZID=Europe/Madrid:20190221T210000
DTSTAMP:20260423T205021
CREATED:20190220T162756Z
LAST-MODIFIED:20190220T165137Z
UID:43021-1550775600-1550782800@historico.ateneovalencia.es
SUMMARY:Tertulia Taurina: Presentación de Tauroamigo de la Fundación Toro de Lidia
DESCRIPTION:El Tertulia Taurina del Ateneo Mercantil de Valencia acogerá este jueves 21 de febrero la presentación de 'Tauroamigo'\, la entidad valenciana de la Red de Asociaciones Culturales Taurinas Universitarias (RACTU) de la Fundación Toro de Lidia. En el acto dará comienzo a las 19 horas en la séptima planta del Ateneo Mercantil y participarán como ponentes el presidente de la Asociación\, D. Pablo Fominaya\, el portavoz\, D. Miguel Buigues\, y la delegada de ERASMUS\, Dª. Raquel Barba. Los tres ponentes expondrán cuáles son los objetivos de 'Tauroamigo' y presentarán sus proyectos en vistas a la Feria de Fallas. \nAdemás\, la Tertulia del Ateneo Mercantil tendrá su habitual desarrollo y seguirán con la Historia de la Tauromaquia con "La Feria de 1919: Toros del Marqués de Guadalest para Gallito\, Belmonte y Sánchez Mejías" que traerá D. Salvador Chapa y como Tema del día: "Los Toros en Francia en la actualidad" que contará con la ponencia de D. Nicasio Jiménez. \nCartel:
URL:https://historico.ateneovalencia.es/evento/tertulia-taurina-presentacion-de-ractu-de-la-fundacion-toro-de-lidia/
LOCATION:Sala Multiusos - Tertulia Taurina
CATEGORIES:Tertulia Taurina
ATTACH;FMTTYPE=image/jpeg:https://historico.ateneovalencia.es/wp-content/uploads/2019/02/20190221-Tertulia-Taurina-TauroAmigo.jpg
END:VEVENT
BEGIN:VEVENT
DTSTART;TZID=Europe/Madrid:20190227T193000
DTEND;TZID=Europe/Madrid:20190227T193000
DTSTAMP:20260423T205021
CREATED:20190222T125206Z
LAST-MODIFIED:20190222T125806Z
UID:43046-1551295800-1551295800@historico.ateneovalencia.es
SUMMARY:Sensus Communis: “La hipocresía de la solidaridad”
DESCRIPTION:“La hipocresía de la solidaridad” es el título del próximo Foro Sensus Communis que se celebrará el 27 de febrero en la Sala de Ocio. Con este título se pretende reflexionar sobre la moralidad\, la fraternidad\, sobre si la solidaridad es natural o si es adquirida a lo largo del proceso de aprendizaje de la persona. Un interesante debate que dará comienzo a las 19:30 h y en la que esperamos vuestra asistencia. \nEs conveniente la lectura de los siguientes artículos de opinión para ilustrar el tema: \n\n"Solidaridad Natural" - Revista de Prensa\nLlamamiento a la Fraternidad - Bernard-Henry Levy
URL:https://historico.ateneovalencia.es/evento/sensus-communis-la-hipocresia-de-la-solidaridad/
LOCATION:Sala de Ocio - Ateneo Mercantil de Valencia\, Plaza del Ayuntamiento\, 18\, Valencia\, España\, Valencia\, Valencia\, 46002\, España
CATEGORIES:Sensus Communis
ATTACH;FMTTYPE=image/jpeg:https://historico.ateneovalencia.es/wp-content/uploads/2019/02/20190227-Sensus-Communis-La-hipocresia-y-solidaridad.jpg
END:VEVENT
BEGIN:VEVENT
DTSTART;TZID=Europe/Madrid:20190228T190000
DTEND;TZID=Europe/Madrid:20190228T190000
DTSTAMP:20260423T205021
CREATED:20190130T133634Z
LAST-MODIFIED:20190227T124950Z
UID:42249-1551380400-1551380400@historico.ateneovalencia.es
SUMMARY:Santiago López Márquez. 50 años de alternativa (1969-2019)
DESCRIPTION:El Ateneo Mercantil de Valencia\, a través de su Tertulia Taurina\, tiene el placer de invitarles al acto de homenaje al torero Santiago López Márquez para celebrar sus 50 años de alternativa (1969-2019). Moderarán y presentará el acto D. José Luís Benlloch y D. Ángel Berlanga. Os esperamos en el Salón Stolz a las 19 horas. \nConocido por Santiago López matador de toros\, nació en Alhama de Granada\, el 5 de febrero de 1946. Tomo la Alternativa en Granada\, el 8 de junio de 1969\, por Diego Puerta y El Viti con el Toro “Pesetero”\, de Antonio Méndez. La Confirmación En Las Ventas\, el 16 de mayo de 1971\, por Curro Girón y Manolo Cortés.
URL:https://historico.ateneovalencia.es/evento/santiago-lopez-marquez-50-anos-de-alternativa-1969-2019/
LOCATION:Salón Stolz - Ateneo Mercantil de Valencia\, Plaza del Ayuntamiento\, 18\, Valencia\, España\, Valencia\, Valencia\, 46002\, España
CATEGORIES:Tertulia Taurina
ATTACH;FMTTYPE=image/jpeg:https://historico.ateneovalencia.es/wp-content/uploads/2019/01/20190228-Tertulia-Taurina-Homenaje-Santiago-Lopez.jpg
END:VEVENT
END:VCALENDAR