BEGIN:VCALENDAR
VERSION:2.0
PRODID:-//Ateneo Mercantil de Valencia - ECPv6.0.4//NONSGML v1.0//EN
CALSCALE:GREGORIAN
METHOD:PUBLISH
X-WR-CALNAME:Ateneo Mercantil de Valencia
X-ORIGINAL-URL:https://historico.ateneovalencia.es
X-WR-CALDESC:Eventos para Ateneo Mercantil de Valencia
REFRESH-INTERVAL;VALUE=DURATION:PT1H
X-Robots-Tag:noindex
X-PUBLISHED-TTL:PT1H
BEGIN:VTIMEZONE
TZID:Europe/Madrid
BEGIN:DAYLIGHT
TZOFFSETFROM:+0100
TZOFFSETTO:+0200
TZNAME:CEST
DTSTART:20180325T010000
END:DAYLIGHT
BEGIN:STANDARD
TZOFFSETFROM:+0200
TZOFFSETTO:+0100
TZNAME:CET
DTSTART:20181028T010000
END:STANDARD
END:VTIMEZONE
BEGIN:VEVENT
DTSTART;TZID=Europe/Madrid:20181203T190000
DTEND;TZID=Europe/Madrid:20181203T203000
DTSTAMP:20260423T123418
CREATED:20181121T160734Z
LAST-MODIFIED:20181121T160734Z
UID:40252-1543863600-1543869000@historico.ateneovalencia.es
SUMMARY:Tertulia Histórica: "Mitos y sambenitos de la Economía Española"
DESCRIPTION:La Tertulia Histórica regresa por partida doble este mes de diciembre al Ateneo Mercantil. La primera de las conferencias será la impartida por el profesor de Universidad y alumno del Aula Cultural\, D. Juan Manuel García Puchol y el título de la ponencia es: "Mitos y sambenitos de la Economía Española". La presentación corerá a cargo de D. José Luis Climent. El próximo lunes 3 de diciembre se celebrará a las 19.00 horas en el Salón Sorolla. La economía española se ha basado en el último decenio en el 'boom' urbanístico\, el turismo y el consumo interno. García Puchol desmontará algunos de los mitos más arraigados en la sociedad sobre la economía. \nCartel:
URL:https://historico.ateneovalencia.es/evento/tertulia-historica-mitos-y-sambenitos-de-la-economia-espanola/
LOCATION:Salón Sorolla - Ateneo Mercantil de Valencia\, Plaza del Ayuntamiento 18\, Valencia\, Valencia\, 46002\, España
CATEGORIES:Tertulia Histórica
ATTACH;FMTTYPE=image/jpeg:https://historico.ateneovalencia.es/wp-content/uploads/2018/11/20181203-Tertulia-Historica-Economia-Española.jpg
END:VEVENT
BEGIN:VEVENT
DTSTART;TZID=Europe/Madrid:20181211T191500
DTEND;TZID=Europe/Madrid:20181211T210000
DTSTAMP:20260423T123418
CREATED:20181121T165116Z
LAST-MODIFIED:20181121T165116Z
UID:40256-1544555700-1544562000@historico.ateneovalencia.es
SUMMARY:"El Hospital del Ignoscents de Valencia. El primer modelo sanitario que cambió la historia"
DESCRIPTION:La Tertulia Histórica trae de nuevo una de las grandes infraestructuras con las que contaba el Reino de Valencia. Dice la leyenda que el origen del 'Hospital dels Ignoscents de Valencia' es del siglo XV\, cuando fray Juan Gilabert Jofré\, impresionado tras ser testigo de las agresiones que propinaba un grupo de jóvenes a un loco\, poco antes de su sermón en la Catedral\, expuso desde el púlpito el 24 de febrero de 1409\, la necesidad de crear un hospital donde pudieran ser acogidos todos los 'folls e ignoscentes'. \nPoco después se creó junto a la acequia de Favara\, en los terrenos de un jardín el hospital para 'ignoscents\, folls e orats'\, uno de los primeros centros psiquiátricos europeos. Este centro cambió la historia de los hospitales. El hospital fue consolidándose y creciendo hasta llegar a ser la sede de la facultad de medicina. En 1849 el conjunto de los edificios sanitarios pasaron a depender de la Diputación de Valencia y en 1962 se produjo el traslado a las dependencias actuales del Hospital General Universitario de Valencia. La conferencia la desarrollará D. Francisco San Maseres\, licenciado en Historia del Arte. Presenta el acto\, D. José Luís Climent. \nCartel:
URL:https://historico.ateneovalencia.es/evento/el-hospital-del-ignoscents-de-valencia-el-primer-modelo-sanitario-que-cambio-la-historia/
LOCATION:Salón Sorolla - Ateneo Mercantil de Valencia\, Plaza del Ayuntamiento 18\, Valencia\, Valencia\, 46002\, España
CATEGORIES:Tertulia Histórica
ATTACH;FMTTYPE=image/jpeg:https://historico.ateneovalencia.es/wp-content/uploads/2018/11/20181212-Tertulia-Historica-Hospital-Ignoscents.jpg
END:VEVENT
BEGIN:VEVENT
DTSTART;TZID=Europe/Madrid:20181212T193000
DTEND;TZID=Europe/Madrid:20181212T210000
DTSTAMP:20260423T123418
CREATED:20181212T122403Z
LAST-MODIFIED:20181212T122403Z
UID:40687-1544643000-1544648400@historico.ateneovalencia.es
SUMMARY:Debate abierto sobre “El desamor y la soledad en la sociedad contemporánea”
DESCRIPTION:El Foro Sensus Communis regresa a la Sala de Ocio este miércoles 12 de diciembre a las 19.30 horas y el tema a tratar volverá a ser: “El desamor y la soledad en la sociedad contemporánea”. Segunda cita de una conferencia que tuvo un lleno espectacular el pasado mes de noviembre y que contó con Antonio Lastra y Carlos Climent como presentadores del acto. De nuevo\, ambos estarán en esta segunda cita que tendrá la modalidad de debate abierto como viene siendo habitual\, \nEn la sociedad actual cualquier persona puede padecer soledad crónica desde un niño que comienza en un colegio y tiene nuevos compañeros; las personas mayores despues de enviudar\, los ejecutivos más pemdientes de sus trabajos que de sus familias. Varios estudios internacionales indican que más de una de cada tres personas en los países occidentales se siente sola habitualmente o con frecuencia. Las ciudades se han convertido en un torbellino de la comunicación digital\, en espacios donde la soledad ha capturado la naturaleza de los habitantes de la gran urbe. \nCartel:\n \n 
URL:https://historico.ateneovalencia.es/evento/debate-abierto-sobre-el-desamor-y-la-soledad-en-la-sociedad-contemporanea/
LOCATION:Sala de Ocio - Ateneo Mercantil de Valencia\, Plaza del Ayuntamiento\, 18\, Valencia\, España\, Valencia\, Valencia\, 46002\, España
CATEGORIES:Sensus Communis
ATTACH;FMTTYPE=image/jpeg:https://historico.ateneovalencia.es/wp-content/uploads/2018/12/20181212-Sensus-Communis-Soledad-y-Desamor-2.jpg
END:VEVENT
BEGIN:VEVENT
DTSTART;TZID=Europe/Madrid:20181213T190000
DTEND;TZID=Europe/Madrid:20181213T210000
DTSTAMP:20260423T123418
CREATED:20181212T180051Z
LAST-MODIFIED:20181212T180051Z
UID:40703-1544727600-1544734800@historico.ateneovalencia.es
SUMMARY:La feria de Julio de 1918: Los Toros de Miura y 'Diego Puerta: valor y torería'
DESCRIPTION:La tertulia Taurina se vuelve a reunir tras el puente de diciembre en el que descansó y esta tarde volverán a hablar de la ferie de Julio de 1918 gracias al trabajo de investigación del socio ateneista Salvador Chapa\, quien ha recogido el papel de 'Los Toros de Miura'\, mientras que el ponentedel tema del día será Paco Cervera que traerá la figura del maestro 'Diego Puerta: valor y torería'. Todos los socios están invitados a la que será la penúltima Tertulia Taurina del año 2018. Entrada libre y gratuita para los aficionados a los toros. \nCartel:
URL:https://historico.ateneovalencia.es/evento/la-feria-de-julio-de-1918-los-toros-de-miura-y-diego-puerta-valor-y-toreria/
LOCATION:Sala Multiusos - Tertulia Taurina
CATEGORIES:Tertulia Taurina
ATTACH;FMTTYPE=image/jpeg:https://historico.ateneovalencia.es/wp-content/uploads/2018/12/20181213-Tertulia-Taurina-Diego-Puerta.jpg
END:VEVENT
BEGIN:VEVENT
DTSTART;TZID=Europe/Madrid:20181220T190000
DTEND;TZID=Europe/Madrid:20181220T210000
DTSTAMP:20260423T123418
CREATED:20181220T122509Z
LAST-MODIFIED:20181220T122509Z
UID:41017-1545332400-1545339600@historico.ateneovalencia.es
SUMMARY:"La Feria de Julio 1918: Los Toros de Pablo Romero" y ‘Alternativa: Éxito o Fracaso’
DESCRIPTION:La Tertulia Taurina del Ateneo Mercantil se reúne por última vez este 2018 con la tertulia en la que contarán con la cuarta entrega de la feria de Julio de 2018 que el socio y bibliógrafo\, D. Salvador Chapa\, está haciendo en un serial y esta vez llega con los Toros de Pablo Romero de aquella Feria de hace un siglo. Además\, el tema del día llega bajo el título: 'La Alternativa: Éxito o Fracaso' que expondrá Paco Ferri. \nLa alternativa en la Tauromaquia es la ceremonia mediante la cual el novillero o el torero primerizo adquiere la categoría de matador de toros. La expresión proviene de que el principiante es autorizado a alternar por primera vez en un festejo con otros matadores de toros. Se trata de un rito de paso que tiene lugar durante el primer toro de la corrida: cuando toca matar al toro\, el espada más antiguo\, el padrino\, cede los trastos de matar: la muleta y la espada al ahijado\, quien por su parte entrega su capote al veterano. El padrino suele dedicarle unas breves palabras y un abrazo\, todo ello en presencia de otro matador\, que ejerce de testigo de la ceremonia. \nCartel:
URL:https://historico.ateneovalencia.es/evento/la-feria-de-julio-1918-los-toros-de-pablo-romero-y-alternativa-exito-o-fracaso/
LOCATION:Sala Multiusos - Tertulia Taurina
CATEGORIES:Tertulia Taurina
ATTACH;FMTTYPE=image/jpeg:https://historico.ateneovalencia.es/wp-content/uploads/2018/12/20181220-Tertulia-Taurina-Alternativa.jpg
END:VEVENT
END:VCALENDAR