BEGIN:VCALENDAR
VERSION:2.0
PRODID:-//Ateneo Mercantil de Valencia - ECPv6.0.4//NONSGML v1.0//EN
CALSCALE:GREGORIAN
METHOD:PUBLISH
X-ORIGINAL-URL:https://historico.ateneovalencia.es
X-WR-CALDESC:Eventos para Ateneo Mercantil de Valencia
REFRESH-INTERVAL;VALUE=DURATION:PT1H
X-Robots-Tag:noindex
X-PUBLISHED-TTL:PT1H
BEGIN:VTIMEZONE
TZID:Europe/Madrid
BEGIN:DAYLIGHT
TZOFFSETFROM:+0100
TZOFFSETTO:+0200
TZNAME:CEST
DTSTART:20180325T010000
END:DAYLIGHT
BEGIN:STANDARD
TZOFFSETFROM:+0200
TZOFFSETTO:+0100
TZNAME:CET
DTSTART:20181028T010000
END:STANDARD
END:VTIMEZONE
BEGIN:VEVENT
DTSTART;TZID=Europe/Madrid:20181001T190000
DTEND;TZID=Europe/Madrid:20181001T203000
DTSTAMP:20260422T002817
CREATED:20180730T123419Z
LAST-MODIFIED:20180911T111920Z
UID:37715-1538420400-1538425800@historico.ateneovalencia.es
SUMMARY:Tertulia Histórica: Próceres\, personajes que cambiaron el paisaje urbano y trajeron la modernidad
DESCRIPTION:En la conferencia que impartirá D. Salvador Raga el próximo 1 de octubre\, se destacará la vida de varios de los personajes más relevantes en Valencia que cambiaron el paisaje urbano y trajeron la modernidad a la ciudad. Entre ellos el Marqués de Campo de Valencia. La plaza del Mercado de Valencia alumbró un 22 de mayo de 1814 a José Gabriel Campo Pérez. Genes aragoneses por parte de padre (provenía de una próspera familia de comerciantes) y madre valenciana para un pequeño de familia acomodada que se convertiría en prohombre de la economía y de la política. Porque con tan sólo 29 años fue nombrado alcalde de Valencia. Ocupó el cargo desde 1843 hasta 1847 por recomendación del partido moderado. En este periplo impulsó tres aspectos de la vida capitalina que perdurarían mucho tiempo: la actividad financiera y bancaria\, la mejora de las comunicaciones de los comercios de Valencia con la implantación del ferrocarril y numerosas transformaciones urbanas e industriales. \n  \n 
URL:https://historico.ateneovalencia.es/evento/tertulia-historica-personajes-que-cambiaron-el-paisaje-urbano-y-trajeron-la-modernidad/
LOCATION:Salón Sorolla - Ateneo Mercantil de Valencia\, Plaza del Ayuntamiento 18\, Valencia\, Valencia\, 46002\, España
CATEGORIES:Tertulia Histórica
ATTACH;FMTTYPE=image/jpeg:https://historico.ateneovalencia.es/wp-content/uploads/2018/07/20181001-Tertulia-Historica-Marques-Campo.jpg
END:VEVENT
BEGIN:VEVENT
DTSTART;TZID=Europe/Madrid:20181004T183000
DTEND;TZID=Europe/Madrid:20181004T203000
DTSTAMP:20260422T002817
CREATED:20180903T123008Z
LAST-MODIFIED:20181001T090229Z
UID:37902-1538677800-1538685000@historico.ateneovalencia.es
SUMMARY:Tertulia Taurina: Elección del Premio Distinción 'Enrique Mora Guillén' 2018
DESCRIPTION:Este próximo Jueves día 4 de Octubre\, la Tertulia Taurina excepcionalmente dará comienzo a las 18\,30 horas. Comenzaremos con un acto de reconocimiento al fundador de la tertulia D. Enrique Mora Guillen\, su hijo D. Enrique Mora Rubio\, vicepresidente actual del Ateneo Mercantil donará a nuestra tertulia el cuadro que se le regaló a su padre por parte de la misma en el acto de homenaje que se le tributó el día 11 de Febrero de 2016 y que a partir de ese momento presidirá la nueva sala en el 7º piso\, en dicha entrega contaremos con la presencia de nuestra Presidenta Dª. Carmen de Rosa Torner. \nA continuación y con la presencia de Dª Carmen y D. Enrique\, se procederá a la elección del torero triunfador de la temporada 2018\, con la votación de todos los socios presentes y se proclamará al mismo Premio Distinción Enrique Mora Guillén 2018. Finalizados dichos actos llevaremos a cabo la tertulia habitual de los jueves hasta las 20\,30 horas. \nLas fechas de la tertulia de los Jueves hasta final de 2018 son las siguientes: 4\, 18 y 25 de Octubre; 8\, 15\, 22 y 29 de Noviembre; 13 y 20 de Diciembre. En estos dos últimos meses del año se llevarán a cabo actos extraordinarios dentro de los Jueves antes reseñados\, como es el viaje de los días 18 y 19 de Noviembre a dos ganaderías\, el mismo está sujeto a posibles variaciones. \nPaco Roger
URL:https://historico.ateneovalencia.es/evento/primera-reunion-de-la-tertulia-taurina-de-la-temporada-2018-19/
LOCATION:Ateneo Mercantil Valencia\, Plaza del Ayuntamiento 18\, Valencia\, Valencia\, 46002\, España
CATEGORIES:Tertulia Taurina
ATTACH;FMTTYPE=image/jpeg:https://historico.ateneovalencia.es/wp-content/uploads/2018/09/20181004-Tertulia-Taurina.jpg
END:VEVENT
BEGIN:VEVENT
DTSTART;TZID=Europe/Madrid:20181005T180000
DTEND;TZID=Europe/Madrid:20181005T200000
DTSTAMP:20260422T002817
CREATED:20180917T112150Z
LAST-MODIFIED:20180917T112150Z
UID:38144-1538762400-1538769600@historico.ateneovalencia.es
SUMMARY:Tertulia Taurina: Retransmisión de Toros – Feria Otoño: Las Ventas
DESCRIPTION:La Tertulia Taurina del Ateneo Mercantil hará cinco retransmisiones de Toros de la Feria de Otoño en Madrid. Corridas televisadas por Movistar Toros. Estas son las cinco que se retransmitirán del 28 de septiembre al 7 de octubre. \n- TOROS TV | Viernes 28 de Septiembre | 18:00 horas | Madrid\, Las Ventas | Feria de Otoño | Toros de Victoriano del Río | Alejandro Talavante\, Paco Ureña y Fortes. \n- TOROS TV | Sábado 29 de Septiembre | 18:00 horas | Madrid\, Las Ventas | Feria de Otoño | Novillos de Fuente Ymbro | Juanito\, Pablo Mora y Francisco de Manuel. \n- TOROS TV | Domingo 30 de Septiembre | 18:00 horas | Madrid\, Las Ventas | Feria de Otoño | Toros de Puerto de San Lorenzo y la Ventana del Puerto | Emilio de Justo\, Román y Ginés Marín. \n- TOROS TV | Viernes 5 de Octubre | 18:00 horas | Madrid\, Las Ventas | Feria de Otoño | Toros de Adolfo Martín | Alejandro Talavante\, Álvaro Lorenzo y Luis David Adame. \n- TOROS TV | Domingo 7 de Octubre | 18:00 horas | Madrid\, Las Ventas | Feria de Otoño | Toros de Fuente Ymbro | Diego Urdiales\, Octavio Chacón y David Mora.
URL:https://historico.ateneovalencia.es/evento/tertulia-taurina-retransmision-de-toros-feria-otono-las-ventas-3/
LOCATION:Sala Multiusos - Tertulia Taurina
CATEGORIES:Tertulia Taurina
ATTACH;FMTTYPE=image/jpeg:https://historico.ateneovalencia.es/wp-content/uploads/2018/09/20181009-Dia-de-la-Tauromaquia.jpg
END:VEVENT
BEGIN:VEVENT
DTSTART;TZID=Europe/Madrid:20181007T180000
DTEND;TZID=Europe/Madrid:20181007T200000
DTSTAMP:20260422T002817
CREATED:20180917T112254Z
LAST-MODIFIED:20180917T112254Z
UID:38146-1538935200-1538942400@historico.ateneovalencia.es
SUMMARY:Tertulia Taurina: Retransmisión de Toros – Feria Otoño: Las Ventas
DESCRIPTION:La Tertulia Taurina del Ateneo Mercantil hará cinco retransmisiones de Toros de la Feria de Otoño en Madrid. Corridas televisadas por Movistar Toros. Estas son las cinco que se retransmitirán del 28 de septiembre al 7 de octubre. \n- TOROS TV | Viernes 28 de Septiembre | 18:00 horas | Madrid\, Las Ventas | Feria de Otoño | Toros de Victoriano del Río | Alejandro Talavante\, Paco Ureña y Fortes. \n- TOROS TV | Sábado 29 de Septiembre | 18:00 horas | Madrid\, Las Ventas | Feria de Otoño | Novillos de Fuente Ymbro | Juanito\, Pablo Mora y Francisco de Manuel. \n- TOROS TV | Domingo 30 de Septiembre | 18:00 horas | Madrid\, Las Ventas | Feria de Otoño | Toros de Puerto de San Lorenzo y la Ventana del Puerto | Emilio de Justo\, Román y Ginés Marín. \n- TOROS TV | Viernes 5 de Octubre | 18:00 horas | Madrid\, Las Ventas | Feria de Otoño | Toros de Adolfo Martín | Alejandro Talavante\, Álvaro Lorenzo y Luis David Adame. \n- TOROS TV | Domingo 7 de Octubre | 18:00 horas | Madrid\, Las Ventas | Feria de Otoño | Toros de Fuente Ymbro | Diego Urdiales\, Octavio Chacón y David Mora.
URL:https://historico.ateneovalencia.es/evento/tertulia-taurina-retransmision-de-toros-feria-otono-las-ventas-4/
LOCATION:Sala Multiusos - Tertulia Taurina
CATEGORIES:Tertulia Taurina
ATTACH;FMTTYPE=image/jpeg:https://historico.ateneovalencia.es/wp-content/uploads/2018/09/20181009-Dia-de-la-Tauromaquia.jpg
END:VEVENT
BEGIN:VEVENT
DTSTART;TZID=Europe/Madrid:20181009T120000
DTEND;TZID=Europe/Madrid:20181009T200000
DTSTAMP:20260422T002817
CREATED:20180917T110132Z
LAST-MODIFIED:20180917T110727Z
UID:38126-1539086400-1539115200@historico.ateneovalencia.es
SUMMARY:Tertulia Taurina: 'Día de la Tauromaquia' - Festejos del 9 d'Octubre
DESCRIPTION:La Tertulia Taurina\, por medio de los miembros de su comisión\, sigue trabajando en pro de la fiesta de los toros. El miembro de la Tertulia Taurina\, Paco Ferri\, asistió en representación de la misma al acto de presentación del "Dia de la Tauromaquia" que se celebrará en la plaza de toros de Valencia el próximo día 9 de Octubre; un acto convocado por la Unión Taurina de la Comunidad Valenciana a la que pertenece nuestra Tertulia Taurina\, con la presencia por parte de la Fundación del Toro de Lidia de D. Borja Cardelux y Dª. Alejandra Oliver desplazados desde Madrid expresamente para este acto; también estuvo D. Nacho Lloret\, gerente de la plaza de toros de Valencia y D. Vicente Nogueroles presidente de UTCV\, todos ellos expusieron los detalles del acto que se celebrarán el próximo 9 de Octubre. \nLos actos serán lo siguientes: a las 12 de la mañana concurso de recortadores con toros de Adolfo Martín\, Victorino Martín\, Partido de Resina\, Torrestrella\, Saltillo\, Samuel Flores y Antonio Gibaja\, a los que se enfrentarán cinco Recortadoras y 26 Recortadores. Ya por la tarde a las 18.00 horas Enrique Ponce\, El Juli\, Manzanares\, Cayetano\, Talavante\, Roca Rey y el novillero valenciano Borja Collado se las verán con novillos de las ganaderías de Nuñez del Cubillo\, Domingo Hernández\, Garcigrande\, Juan Pedro Domecq y Fuente Ymbro. \nLos beneficios obtenidos del concurso de recortes y del festival taurino\, se destinarán una parte a la Fundación Oncohematológica infantil\, en memoria del niño Adrián y el resto a la Fundación del Toro de Lidia\, por todo esto el próximo 9 de Octubre en Valencia es el "Día de la Tauromaquia". Las entradas se pueden adquirir online las 24 horas del día hasta el 1º de Octubre con un precio de 30 euros para los dos festejos. \nCartel:\n \n 
URL:https://historico.ateneovalencia.es/evento/tertulia-taurina-dia-de-la-tauromaquia-festejos-del-9-doctubre/
LOCATION:Externo\, Valencia
CATEGORIES:Tertulia Taurina
ATTACH;FMTTYPE=image/jpeg:https://historico.ateneovalencia.es/wp-content/uploads/2018/09/20181009-Dia-de-la-Tauromaquia.jpg
END:VEVENT
BEGIN:VEVENT
DTSTART;TZID=Europe/Madrid:20181015T190000
DTEND;TZID=Europe/Madrid:20181015T203000
DTSTAMP:20260422T002817
CREATED:20180905T161202Z
LAST-MODIFIED:20180918T110319Z
UID:37927-1539630000-1539635400@historico.ateneovalencia.es
SUMMARY:Tertulia Histórica: "Pascual Dasí y Puigmoltó - Vizconde de Bétera"
DESCRIPTION:La Tertulia Histórica regresa al Ateneo Mercantil tras las vacaciones de verano con una gran conferencia sobre el Vizconde de Bétera\, D. Pascual Dasí y Puigmoltó\, que será impartida por D. Salvador Chapa\, el próximo 15 de octubre a las 19.00 horas en el Salón Sorolla. \nPascual Dasí y Puigmoltó (Picassent\, 30 de marzo de 1851 - Valencia\, 2 de diciembre de 1886) fue un aristócrata\, abogado y político valenciano\, vizconde de Bétera\, diputado en las Cortes Españolas durante la restauración borbónica. Su padre fue el Marqués de Dos Aguas\, gran propietario agrícola. Cuando se produjo la revolución de 1868 tuvo que huir a Francia con su familia. Estudió en Inglaterra e Italia y volvió en España el 1872. El 1875 se casó en Madrid con Concepción Moreno Campo\, sobrina del Marqués de Campo. \nSe estableció en Valencia durante la restauración borbónica y ingresó al Partido Conservador\, con lo que fue escogido concejal y alcalde interino de Valencia el 1877\, en calidad de la que hizo el discurso inaugural de la nueva sociedad Lo Rat Penat. Fue elegido diputado por Enguera a las elecciones generales españolas de 1879. Promovió La Revista de Valencia (1880-1883) y la Sociedad Valenciana de Bibliófilos. Fue escogido nuevamente diputado por el distrito de Sueca a las elecciones generales españolas de 1884 y por el de Llíria a las de 1886. Dentro del partido conservador se mostró próximo al sector de Francisco Silvela. El 4 de febrero de 1878 recibió el título de vizconde de Bétera. \nCartel:
URL:https://historico.ateneovalencia.es/evento/tertulia-historica-vicente-dasi-y-lluesma-marques-de-dos-aguas/
LOCATION:Salón Sorolla - Ateneo Mercantil de Valencia\, Plaza del Ayuntamiento 18\, Valencia\, Valencia\, 46002\, España
CATEGORIES:Tertulia Histórica
ATTACH;FMTTYPE=image/jpeg:https://historico.ateneovalencia.es/wp-content/uploads/2018/09/20181015-Tertulia-Historica-Vizconde-Betera.jpg
END:VEVENT
BEGIN:VEVENT
DTSTART;TZID=Europe/Madrid:20181017T193000
DTEND;TZID=Europe/Madrid:20181017T210000
DTSTAMP:20260422T002817
CREATED:20181015T115811Z
LAST-MODIFIED:20181016T080117Z
UID:39073-1539804600-1539810000@historico.ateneovalencia.es
SUMMARY:Sensus Communis: "La maternidad subrogada"
DESCRIPTION:El Foro Sensus Communis trae este miércoles 17 de octubre a las 19.30 horas en la Sala de Ocio una interesante mesa redonda sobre un tema de candente actualidad como es la maternidad subrogada. Cabe destacar que la maternidad por subrogación no está permitida en España\, ya que la legislación vigente es clara y declara nulos todos los contratos que se realicen para este fin\, tanto dentro como fuera de sus fronteras por personas de nacionalidad española. \nSin embargo\, el debate está abierto ya que sí que existen innumerables agencias en España que permiten a los padres españoles poner en práctica esta gestación en países donde está permitida. Esta práctica ha hecho que se reduzca casi en un 70% la adopción internacional. Por último indicar que el recurso a las madres de alquiler se ha convertido en un negocio mundial que mueve millones de euros al año. Y donde hay negocio\, pues existe un problema. \nLas cifras van desde los 120.000 euros si la subrogación se hace en Estados Unidos\, a los 40.000 si se realiza en Ucrania\, Georgia o México. En Rusia y Grecia está en torno a los 80.000 euros. El Gobierno español ha sido muy claro en las últimas semanas: "Este Gobierno no acepta la gestación subrogada porque es una compraventa de niños". \nLecturas recomendadas para el debate: \nhttps://www.almendron.com/tribuna/maternidad-subrogada-el-momento-decisivo/ \nhttps://www.almendron.com/tribuna/la-maternidad-subrogada/ \nhttps://www.almendron.com/tribuna/la-necesaria-maternidad-subrogada/ \nhttps://www.almendron.com/tribuna/maternidad-subrogada-egoismo-o-derecho/ \n 
URL:https://historico.ateneovalencia.es/evento/sensus-communis-la-maternidad-subrogada/
LOCATION:Sala de Ocio - Ateneo Mercantil de Valencia\, Plaza del Ayuntamiento\, 18\, Valencia\, España\, Valencia\, Valencia\, 46002\, España
CATEGORIES:Sensus Communis
ATTACH;FMTTYPE=image/jpeg:https://historico.ateneovalencia.es/wp-content/uploads/2018/10/maternidad-subrogada-2.jpg
END:VEVENT
BEGIN:VEVENT
DTSTART;TZID=Europe/Madrid:20181022T193000
DTEND;TZID=Europe/Madrid:20181022T210000
DTSTAMP:20260422T002817
CREATED:20180905T170622Z
LAST-MODIFIED:20181017T081815Z
UID:37941-1540236600-1540242000@historico.ateneovalencia.es
SUMMARY:Ciclo Otras Tertulias: "Pablo Picasso"
DESCRIPTION:El Ciclo Otras Tertulias vuelve tras las vacaciones de verano con un conferencia sobre 'Pablo Picasso'\, que trae el Catedrático de la Universidad de Valencia y Profesor especialista en Historia del Arte\, D. Rafael Gil Salinas. Recuerda que la conferencia será en el Salón Sorolla\, el próximo lunes 22 de octubre a las 19.30 horas. \nPablo Ruiz Picasso fue un pintor y escultor español\, creador\, junto con Georges Braque\, del cubismo. Es considerado desde el génesis del siglo XX como uno de los mayores pintores que participaron en muchos movimientos artísticos que se propagaron por el mundo y ejercieron una gran influencia en otros grandes artistas de su tiempo. Sus trabajos están presentes en museos y colecciones de toda Europa y del mundo. Además\, abordó otros géneros como el dibujo\, el grabado\, la ilustración de libros\, la escultura\, la cerámica y el diseño de escenografía y vestuario para montajes teatrales. \nCartel:\n \n 
URL:https://historico.ateneovalencia.es/evento/ciclo-otras-tertulias-pablo-picasso/
LOCATION:Salón Sorolla - Ateneo Mercantil de Valencia\, Plaza del Ayuntamiento 18\, Valencia\, Valencia\, 46002\, España
CATEGORIES:Ciclo Otras Tertulias
ATTACH;FMTTYPE=image/jpeg:https://historico.ateneovalencia.es/wp-content/uploads/2018/09/20181022-Otras-Tertulias-Pablo-Picasso.jpg
END:VEVENT
END:VCALENDAR