BEGIN:VCALENDAR
VERSION:2.0
PRODID:-//Ateneo Mercantil de Valencia - ECPv6.0.4//NONSGML v1.0//EN
CALSCALE:GREGORIAN
METHOD:PUBLISH
X-ORIGINAL-URL:https://historico.ateneovalencia.es
X-WR-CALDESC:Eventos para Ateneo Mercantil de Valencia
REFRESH-INTERVAL;VALUE=DURATION:PT1H
X-Robots-Tag:noindex
X-PUBLISHED-TTL:PT1H
BEGIN:VTIMEZONE
TZID:Europe/Madrid
BEGIN:DAYLIGHT
TZOFFSETFROM:+0100
TZOFFSETTO:+0200
TZNAME:CEST
DTSTART:20180325T010000
END:DAYLIGHT
BEGIN:STANDARD
TZOFFSETFROM:+0200
TZOFFSETTO:+0100
TZNAME:CET
DTSTART:20181028T010000
END:STANDARD
END:VTIMEZONE
BEGIN:VEVENT
DTSTART;TZID=Europe/Madrid:20180912T193000
DTEND;TZID=Europe/Madrid:20180912T210000
DTSTAMP:20260422T044605
CREATED:20180910T104404Z
LAST-MODIFIED:20180911T112839Z
UID:37987-1536780600-1536786000@historico.ateneovalencia.es
SUMMARY:Sensus Communis: "La religión y la libertad de expresión"
DESCRIPTION:El próximo miércoles 12 de septiembre a las 19.30 horas regresa el Foro Sensus Communis en la Sala de Ocio del Ateneo Mercantil de Valencia. De esta manera\, se reanudan las reuniones presenciales del foro y el tema elegido para el primer debate es: “La religión y la libertad de expresión”. Se puede suscitar un interesante debate\, como siempre respetuoso\, en un tema sin duda polémico\, especialmente si se traen a colación asuntos como los de las mofas a Alá o Mahoma\, o la absolución de Rita Maestre por quedarse en sujetador en una capilla universitaria y los mensajes de Willy Toledo en las redes sociales\, entre otros muchos que se comentarán. \nLectura para el debate: https://www.20minutos.es/noticia/2577908/0/willy-toledo/mas-polemicas-declaraciones/lista/
URL:https://historico.ateneovalencia.es/evento/sensus-communis-la-religion-y-la-libertad-de-expresion/
LOCATION:Sala de Ocio - Ateneo Mercantil de Valencia\, Plaza del Ayuntamiento\, 18\, Valencia\, España\, Valencia\, Valencia\, 46002\, España
CATEGORIES:Sensus Communis
ATTACH;FMTTYPE=image/jpeg:https://historico.ateneovalencia.es/wp-content/uploads/2018/09/20180912-Sensus-Communis-Libertad-Expresion-Religion.jpg
END:VEVENT
BEGIN:VEVENT
DTSTART;TZID=Europe/Madrid:20180926T193000
DTEND;TZID=Europe/Madrid:20180926T210000
DTSTAMP:20260422T044605
CREATED:20180924T100057Z
LAST-MODIFIED:20180924T100317Z
UID:38420-1537990200-1537995600@historico.ateneovalencia.es
SUMMARY:Sensus Communis: "¿Es beneficiosa la Inmigración?"
DESCRIPTION:Los movimientos migratorios significan un 3% de la población mundial. Hoy en día la Vieja Europa tiene ante sí un reto muy importante ante su constante envejecimiento\, aceptar la llegada de migrantes para paliar los problemas que tiene si quiere mantener sus grandes servicios. Los informes cada vez son más claros\, los migrantes contribuyen al desarrollo de las sociedades\, se les debe evaluar porl o que pueden aportar. Pero es verdad que en las sociedades europeas cada vez existe más alarmismo y hay un crecimiento de la extrema derecha europea que busca el proteccionismo.  \nPara este debate del Foro Sensus Communis se contará con la presencia del profesor\, historiador y especialista en moviemientos migratorios\, D. Guillermo Vansteenberghe. Recuerda que la mesa redonda será en la Sala de Ocio\, este miércoles 26 de septiembre a las 19.30 horas. Las lecturas que se sugiere que se lean previamente antes de asistir al debate son las siguientes: \nhttps://www.almendron.com/tribuna/nacionalismo-inmigracion-y-exito-economico/ \nhttp://agendapublica.elperiodico.com/si-la-inmigracion-es-una-oportunidad/amp/?__twitter_impression=true \n  \nCartel:
URL:https://historico.ateneovalencia.es/evento/sensus-communis-es-beneficiosa-la-inmigracion/
LOCATION:Sala de Ocio - Ateneo Mercantil de Valencia\, Plaza del Ayuntamiento\, 18\, Valencia\, España\, Valencia\, Valencia\, 46002\, España
CATEGORIES:Sensus Communis
ATTACH;FMTTYPE=image/jpeg:https://historico.ateneovalencia.es/wp-content/uploads/2018/09/20180926-Sensus-Communis-Inmigracion.jpg
END:VEVENT
BEGIN:VEVENT
DTSTART;TZID=Europe/Madrid:20180928T180000
DTEND;TZID=Europe/Madrid:20180928T200000
DTSTAMP:20260422T044605
CREATED:20180917T111659Z
LAST-MODIFIED:20180917T111659Z
UID:38137-1538157600-1538164800@historico.ateneovalencia.es
SUMMARY:Tertulia Taurina: Retransmisión de Toros - Feria Otoño: Las Ventas
DESCRIPTION:La Tertulia Taurina del Ateneo Mercantil hará cinco retransmisiones de Toros de la Feria de Otoño en Madrid. Corridas televisadas por Movistar Toros. Estas son las cinco que se retransmitirán del 28 de septiembre al 7 de octubre. \n- TOROS TV | Viernes 28 de Septiembre | 18:00 horas | Madrid\, Las Ventas | Feria de Otoño | Toros de Victoriano del Río | Alejandro Talavante\, Paco Ureña y Fortes. \n- TOROS TV | Sábado 29 de Septiembre | 18:00 horas | Madrid\, Las Ventas | Feria de Otoño | Novillos de Fuente Ymbro | Juanito\, Pablo Mora y Francisco de Manuel. \n- TOROS TV | Domingo 30 de Septiembre | 18:00 horas | Madrid\, Las Ventas | Feria de Otoño | Toros de Puerto de San Lorenzo y la Ventana del Puerto | Emilio de Justo\, Román y Ginés Marín. \n- TOROS TV | Viernes 5 de Octubre | 18:00 horas | Madrid\, Las Ventas | Feria de Otoño | Toros de Adolfo Martín | Alejandro Talavante\, Álvaro Lorenzo y Luis David Adame. \n- TOROS TV | Domingo 7 de Octubre | 18:00 horas | Madrid\, Las Ventas | Feria de Otoño | Toros de Fuente Ymbro | Diego Urdiales\, Octavio Chacón y David Mora.
URL:https://historico.ateneovalencia.es/evento/tertulia-taurina-retransmision-de-toros-feria-otono-las-ventas/
LOCATION:Sala Multiusos - Tertulia Taurina
CATEGORIES:Tertulia Taurina
ATTACH;FMTTYPE=image/jpeg:https://historico.ateneovalencia.es/wp-content/uploads/2018/09/20181009-Dia-de-la-Tauromaquia.jpg
END:VEVENT
BEGIN:VEVENT
DTSTART;TZID=Europe/Madrid:20180929T180000
DTEND;TZID=Europe/Madrid:20180929T200000
DTSTAMP:20260422T044605
CREATED:20180917T111917Z
LAST-MODIFIED:20180917T111917Z
UID:38140-1538244000-1538251200@historico.ateneovalencia.es
SUMMARY:Tertulia Taurina: Retrasmisión de Toros - Feria de Otoño: Las Ventas
DESCRIPTION:La Tertulia Taurina del Ateneo Mercantil hará cinco retransmisiones de Toros de la Feria de Otoño en Madrid. Corridas televisadas por Movistar Toros. Estas son las cinco que se retransmitirán del 28 de septiembre al 7 de octubre. \n- TOROS TV | Viernes 28 de Septiembre | 18:00 horas | Madrid\, Las Ventas | Feria de Otoño | Toros de Victoriano del Río | Alejandro Talavante\, Paco Ureña y Fortes. \n- TOROS TV | Sábado 29 de Septiembre | 18:00 horas | Madrid\, Las Ventas | Feria de Otoño | Novillos de Fuente Ymbro | Juanito\, Pablo Mora y Francisco de Manuel. \n- TOROS TV | Domingo 30 de Septiembre | 18:00 horas | Madrid\, Las Ventas | Feria de Otoño | Toros de Puerto de San Lorenzo y la Ventana del Puerto | Emilio de Justo\, Román y Ginés Marín. \n- TOROS TV | Viernes 5 de Octubre | 18:00 horas | Madrid\, Las Ventas | Feria de Otoño | Toros de Adolfo Martín | Alejandro Talavante\, Álvaro Lorenzo y Luis David Adame. \n- TOROS TV | Domingo 7 de Octubre | 18:00 horas | Madrid\, Las Ventas | Feria de Otoño | Toros de Fuente Ymbro | Diego Urdiales\, Octavio Chacón y David Mora.
URL:https://historico.ateneovalencia.es/evento/tertulia-taurina-retrasmision-de-toros-feria-de-otono-las-ventas/
LOCATION:Sala Multiusos - Tertulia Taurina
CATEGORIES:Tertulia Taurina
ATTACH;FMTTYPE=image/jpeg:https://historico.ateneovalencia.es/wp-content/uploads/2018/09/20181009-Dia-de-la-Tauromaquia.jpg
END:VEVENT
BEGIN:VEVENT
DTSTART;TZID=Europe/Madrid:20180930T180000
DTEND;TZID=Europe/Madrid:20180930T200000
DTSTAMP:20260422T044605
CREATED:20180917T112028Z
LAST-MODIFIED:20180917T112028Z
UID:38142-1538330400-1538337600@historico.ateneovalencia.es
SUMMARY:Tertulia Taurina: Retransmisión de Toros – Feria Otoño: Las Ventas
DESCRIPTION:La Tertulia Taurina del Ateneo Mercantil hará cinco retransmisiones de Toros de la Feria de Otoño en Madrid. Corridas televisadas por Movistar Toros. Estas son las cinco que se retransmitirán del 28 de septiembre al 7 de octubre. \n- TOROS TV | Viernes 28 de Septiembre | 18:00 horas | Madrid\, Las Ventas | Feria de Otoño | Toros de Victoriano del Río | Alejandro Talavante\, Paco Ureña y Fortes. \n- TOROS TV | Sábado 29 de Septiembre | 18:00 horas | Madrid\, Las Ventas | Feria de Otoño | Novillos de Fuente Ymbro | Juanito\, Pablo Mora y Francisco de Manuel. \n- TOROS TV | Domingo 30 de Septiembre | 18:00 horas | Madrid\, Las Ventas | Feria de Otoño | Toros de Puerto de San Lorenzo y la Ventana del Puerto | Emilio de Justo\, Román y Ginés Marín. \n- TOROS TV | Viernes 5 de Octubre | 18:00 horas | Madrid\, Las Ventas | Feria de Otoño | Toros de Adolfo Martín | Alejandro Talavante\, Álvaro Lorenzo y Luis David Adame. \n- TOROS TV | Domingo 7 de Octubre | 18:00 horas | Madrid\, Las Ventas | Feria de Otoño | Toros de Fuente Ymbro | Diego Urdiales\, Octavio Chacón y David Mora.
URL:https://historico.ateneovalencia.es/evento/tertulia-taurina-retransmision-de-toros-feria-otono-las-ventas-2/
LOCATION:Sala Multiusos - Tertulia Taurina
CATEGORIES:Tertulia Taurina
ATTACH;FMTTYPE=image/jpeg:https://historico.ateneovalencia.es/wp-content/uploads/2018/09/20181009-Dia-de-la-Tauromaquia.jpg
END:VEVENT
END:VCALENDAR