BEGIN:VCALENDAR
VERSION:2.0
PRODID:-//Ateneo Mercantil de Valencia - ECPv6.0.4//NONSGML v1.0//EN
CALSCALE:GREGORIAN
METHOD:PUBLISH
X-ORIGINAL-URL:https://historico.ateneovalencia.es
X-WR-CALDESC:Eventos para Ateneo Mercantil de Valencia
REFRESH-INTERVAL;VALUE=DURATION:PT1H
X-Robots-Tag:noindex
X-PUBLISHED-TTL:PT1H
BEGIN:VTIMEZONE
TZID:Europe/Madrid
BEGIN:DAYLIGHT
TZOFFSETFROM:+0100
TZOFFSETTO:+0200
TZNAME:CEST
DTSTART:20180325T010000
END:DAYLIGHT
BEGIN:STANDARD
TZOFFSETFROM:+0200
TZOFFSETTO:+0100
TZNAME:CET
DTSTART:20181028T010000
END:STANDARD
END:VTIMEZONE
BEGIN:VEVENT
DTSTART;TZID=Europe/Madrid:20180301T190000
DTEND;TZID=Europe/Madrid:20180301T203000
DTSTAMP:20260421T194911
CREATED:20180227T144610Z
LAST-MODIFIED:20180227T144610Z
UID:31111-1519930800-1519936200@historico.ateneovalencia.es
SUMMARY:Tertulia Taurina: "1879\, El año taurino en la prensa valenciana"
DESCRIPTION:De nuevo este jueves 1 de marzo hay Tertulia Taurina y el ponente en esta ocasión será un socio del Ateneo Mercantil\, D. Salvador Chapa\, quien nos ofrecerá el tema del día: "1879\, El año taurino en la prensa valenciana". D. Salvador Chapa Villalba\, es licenciado en Geografía e Historia y en Ciencias Políticas y Sociología\, Facultativo de Bibliotecas durante 38 años. Su afición a los toros le viene desde muy joven\, recuerda que hace más de medio siglo en la clase de redacción de un colegio religioso\, escribió una frase que causó una enorme sensación por el entorno donde se encontraba: “Las vacas son algo así como las novias de los toros". \nEn las fiestas patronales de su pueblo disfrutaba mucho con la entrada de vaquillas y el toro corrido o embolado\, de los cuales en alguna ocasión sintió muy cerca su 'bufido'. Se encuentra muy identificado con la Tertulia Taurina\, por lo cordial y afable que fue su acogida en la misma cuando se incorporó el pasado año.
URL:https://historico.ateneovalencia.es/evento/tertulia-taurina-1879-el-ano-taurino-en-la-prensa-valenciana/
LOCATION:Sala Fundación - Ateneo Mercantil de Valencia\, Plaza del Ayuntamiento\, 18\, Valencia\, España\, Valencia\, Valencia\, 46002\, España
CATEGORIES:Tertulia Taurina
ATTACH;FMTTYPE=image/jpeg:https://historico.ateneovalencia.es/wp-content/uploads/2018/02/20180301-Tertulia-Taurina-1879-año-Prensa-Valenciana.jpg
END:VEVENT
BEGIN:VEVENT
DTSTART;TZID=Europe/Madrid:20180305T190000
DTEND;TZID=Europe/Madrid:20180305T203000
DTSTAMP:20260421T194911
CREATED:20180222T070151Z
LAST-MODIFIED:20180222T070151Z
UID:29813-1520276400-1520281800@historico.ateneovalencia.es
SUMMARY:Tertulia Histórica: "La pintura impresionista como detonante para la comprensión del arte cultural"
DESCRIPTION:El próximo 5 de marzo el catedrático en Historia del Arte por la UV\, D. Rafael Gil Salinas\, dará una conferencia dentro del Ciclo Tertulia Histórica bajo el título: “La pintura impresionista como detonante para la comprensión del arte cultural” en el Salón Sorolla. \nEl impresionismo logró que se entendiera el arte desde la globalidad y no desde la especialización de la pintura. Existen aspectos que ayudan a comprender en conjunto el impresionismo como fueron los antecedentes artísticos\, sociales y políticos\, el propio proceso del desarrollo del impresionismo y el lenguaje empleado\, el papel de la crítica y los marchantes del arte. Se asiste por fin al nacimiento del arte y su relevancia dentro de la evolución histórica del arte europeo. \nSin ir más lejos París se convierte en un fiel reflejo del movimiento impresionista\, ya que la comprensión de este estilo se encuentra en la propia ciudad\, que se convierte en un museo al aire libre. El impresionismo no solo está en el Museé Orsay y l’Orangerie\, la propia Paris da una visión más global de lo que fue y lo que significó todo el movimiento impresionista. El impresionismo fue clave en la comprensión de la evolución del arte europeo.
URL:https://historico.ateneovalencia.es/evento/tertulia-historica-la-pintura-impresionista-como-detonante-para-la-comprension-del-arte-cultural/
LOCATION:Salón Sorolla - Ateneo Mercantil de Valencia\, Plaza del Ayuntamiento 18\, Valencia\, Valencia\, 46002\, España
CATEGORIES:Tertulia Histórica
ATTACH;FMTTYPE=image/jpeg:https://historico.ateneovalencia.es/wp-content/uploads/2018/02/20180305-Tertulia-Historica-Impresionismo.jpg
END:VEVENT
BEGIN:VEVENT
DTSTART;TZID=Europe/Madrid:20180308T190000
DTEND;TZID=Europe/Madrid:20180308T203000
DTSTAMP:20260421T194911
CREATED:20180306T093113Z
LAST-MODIFIED:20180306T093113Z
UID:31727-1520535600-1520541000@historico.ateneovalencia.es
SUMMARY:Tertulia Taurina: "Homenaje a las Mujeres Toreras en el Día Internacional de la Mujer: Conchi Ríos y María Morillas”
DESCRIPTION:La Tertulia Taurina del Ateneo Mercantil de Valencia quiere rendir un sentido homenaje a las mujeres toreras en el Día Internacional de la Mujer y por eso se celebrará una conferencia con una de las últimas mujeres toreras que hay en España. La murciana Dña. Conchi Ríos\, que estudia Psicología\, su ídolo es Rocky Balboa y es la única matadora en activo en España junto a Mari Paz Vega. Tiene como sueño\, poder triunfar en Las Ventas y poner el mundo de los toros patas arriba. \nElla es la última mujer que tomó la alternativa como matadora en España. Hace 20 años que Cristina Sánchez\, la más mediática de las toreras\, se convirtió en matadora pero la situación no ha cambiado nada. Hoy hay en España\, según los datos del Ministerio de Educación\, Cultura y Deporte de 2015\, 825 matadores de toros\, sólo cinco de ellos eran mujeres. desde la llegada de Conchi Ríos hay seis. Pero ella\, junto a Mari Paz Vega\, es la única que hoy figura en el escalafón. \nAdemás\, junto a Conchi estará la valenciana Dña. María Morillas\, que es novillera. Esta algemesinense reapareció en los ruedos en 2010 tras varios años de transición. Desde entonces ha seguido trabajando duro para seguir luchando por su sueño. Desde los albores de la tauromaquia\, más de 2.000 mujeres han intentado triunfar\, con muy escasa fortuna\, delante de los toros; todas ellas han sido y son referentes de valor\, entrega\, sacrificio\, afición y\, por encima de todo\, ejemplos de tesón frente a las muchas trabas de una sociedad secularmente machista que les ha cercenado constantemente la posibilidad de competir en igualdad de condiciones con sus compañeros varones.
URL:https://historico.ateneovalencia.es/evento/tertulia-taurina-homenaje-a-las-mujeres-toreras-en-el-dia-internacional-de-la-mujer-conchi-rios-y-maria-morillas/
LOCATION:Sala Fundación - Ateneo Mercantil de Valencia\, Plaza del Ayuntamiento\, 18\, Valencia\, España\, Valencia\, Valencia\, 46002\, España
CATEGORIES:Tertulia Taurina
ATTACH;FMTTYPE=image/jpeg:https://historico.ateneovalencia.es/wp-content/uploads/2018/03/20180308-Tertulia-Taurina-Toreras.jpg
END:VEVENT
END:VCALENDAR