BEGIN:VCALENDAR
VERSION:2.0
PRODID:-//Ateneo Mercantil de Valencia - ECPv6.0.4//NONSGML v1.0//EN
CALSCALE:GREGORIAN
METHOD:PUBLISH
X-ORIGINAL-URL:https://historico.ateneovalencia.es
X-WR-CALDESC:Eventos para Ateneo Mercantil de Valencia
REFRESH-INTERVAL;VALUE=DURATION:PT1H
X-Robots-Tag:noindex
X-PUBLISHED-TTL:PT1H
BEGIN:VTIMEZONE
TZID:Europe/Madrid
BEGIN:DAYLIGHT
TZOFFSETFROM:+0100
TZOFFSETTO:+0200
TZNAME:CEST
DTSTART:20180325T010000
END:DAYLIGHT
BEGIN:STANDARD
TZOFFSETFROM:+0200
TZOFFSETTO:+0100
TZNAME:CET
DTSTART:20181028T010000
END:STANDARD
END:VTIMEZONE
BEGIN:VEVENT
DTSTART;TZID=Europe/Madrid:20180205T190000
DTEND;TZID=Europe/Madrid:20180205T210000
DTSTAMP:20260421T191811
CREATED:20180116T114247Z
LAST-MODIFIED:20180116T114535Z
UID:29145-1517857200-1517864400@historico.ateneovalencia.es
SUMMARY:Tertulia Histórica: "La historia del Cambio Climático"
DESCRIPTION:La Tertulia Histórica llega de nuevo con una conferencia de eneorme relevancia en estos momentos\, ya que se hablará sobre el Cambio Climático y lo más interesante es comprobar cuándo y cómo se identificó el problema. Además\, se explicará cuáles están siendo las soluciones que los distintos gobiernos están llevando a cabo para paliar el problema. Recuerda que el próximo 5 de febrero tienes una cita a las 19.00 horas en el Salón Sorolla. La conferencia correrá a cargo del socio y coordinador de la Música en el Ateneo Mercantil\, D. Luis Balairón. \nLa historia del descubrimiento científico del cambio climático se inició a principios del siglo XIX cuando se sospechó por primera vez de las épocas glaciares y otros cambios naturales en el paleoclima\, y se identificó el efecto invernadero natural. A finales del siglo XIX\, los científicos ya argumentaron que las emisiones humanas del efecto invernadero podrían cambiar el clima\, pero los cálculos fueron cuestionados. Muchas otras teorías del cambio climático estaban más avanzadas\, involucrando fuerzas que iban desde el vulcanismo hasta la variación solar. \nEn los años 60 del siglo XX\, el efecto de calentamiento atmosférico producido por el dióxido de carbono se hizo cada vez más convincente\, aunque algunos científicos también apuntaron que las actividades humanas\, en la forma de aerosoles atmosféricos\, podrían también tener un efecto de enfriamiento. \nDurante los años 70\, la opinión de los científicos estaba cada vez más a favor de los puntos de vista del calentamiento. Para los años 90\, como resultado de las mejoras de la fidelidad de los modelos informáticos y del trabajo observacional que confirma la teoría de Milankovitch de las épocas glaciares\, se llegó al consenso de que el efecto invernadero estuvo involucrado en la mayoría de los cambios climáticos y las emisiones humanas traían serios problemas de calentamiento global. Desde entonces\, la mayoría de los trabajos científicos han sido orientados a la producción de informes del Grupo Intergubernamental de Expertos sobre el Cambio Climático.
URL:https://historico.ateneovalencia.es/evento/tertulia-historica-la-historia-del-cambio-climatico/
LOCATION:Salón Sorolla - Ateneo Mercantil de Valencia\, Plaza del Ayuntamiento 18\, Valencia\, Valencia\, 46002\, España
CATEGORIES:Tertulia Histórica
ATTACH;FMTTYPE=image/jpeg:https://historico.ateneovalencia.es/wp-content/uploads/2018/01/20180205-Cambio-Climatico-Historia.jpg
END:VEVENT
BEGIN:VEVENT
DTSTART;TZID=Europe/Madrid:20180208T190000
DTEND;TZID=Europe/Madrid:20180208T210000
DTSTAMP:20260421T191811
CREATED:20180205T120000Z
LAST-MODIFIED:20180205T120156Z
UID:29553-1518116400-1518123600@historico.ateneovalencia.es
SUMMARY:Tertulia Taurina: "28/7/1990 - Enrique Ponce: Dos juguetones y un torero"
DESCRIPTION:La Tertulia Taurina del Ateneo Mercantil rescata la grabación de una corrida histórica en la que Enrique Ponce se encerró con seis toros en Valencia\, en una corrida en la que sus dos compañeros de corrida no torearon tras tener dolores de espalda y de abductores horas antes del festejo. Los comentarios de la proyección correrán a cargo de un buen amigo y un gran conocido de Enrique Ponce: D. José Soriano. \nAquel 28 de julio de 1990\, Enrique Ponce hizo la hombrada de encerrarse con seis toros\, los lidió sobrado de facultades y de técnica\, cuajó una faena de altas calidades artísticas\, salió a hombros por la puerta grande entre aclamaciones de "torero!". A las tres de la tarde Enrique Ponce no sabía que iba a matar seis toros; creía que alternaría con Roberto Domínguez y El Soro\, pero tres de los galaches anunciados habían sido sustituídos por tres pavos de El Toril y Roberto Domínguez envío un parte facultativo certificando que le dolía la espalda\, mientras que El Soro hizo lo propio con otro certificando que le dolían los abductores\, y no podían torear. La leyenda de Enrique Ponce comenzó a escribirse ese día.
URL:https://historico.ateneovalencia.es/evento/tertulia-taurina-2871990-enrique-ponce-dos-juguetones-y-un-torero/
LOCATION:Sala Fundación - Ateneo Mercantil de Valencia\, Plaza del Ayuntamiento\, 18\, Valencia\, España\, Valencia\, Valencia\, 46002\, España
CATEGORIES:Tertulia Taurina
ATTACH;FMTTYPE=image/jpeg:https://historico.ateneovalencia.es/wp-content/uploads/2018/02/20180208-Enrique-Ponce-Corrida-historica-28-07-1990.jpg
END:VEVENT
BEGIN:VEVENT
DTSTART;TZID=Europe/Madrid:20180208T193000
DTEND;TZID=Europe/Madrid:20180208T210000
DTSTAMP:20260421T191811
CREATED:20180123T115055Z
LAST-MODIFIED:20180123T125113Z
UID:29260-1518118200-1518123600@historico.ateneovalencia.es
SUMMARY:Sensus Communis: "Derecho y Democracia: gestionar la multiculturalidad"
DESCRIPTION:Nueva reunión del Foro Sensus Communis que tendrá lugar el próximo jueves 8 de febrero\, a las 19.30 horas\, en la Sala de Juntas del Ateneo Mercantil (quinta planta) y el invitado será D. Francisco Javier de Lucas\, que es catedrático de Filosofía del Derecho y Filosofía Política en el Instituto de Derechos Humanos de la Universidad de Valencia. La conferencia llega bajo el siguiente título: "Derecho y Democracia: gestionar la multiculturalidad". \nLas sociedades multiculturales constituyen un fenómeno característico de nuestro tiempo. Es decir\, en las sociedades actuales conviven códigos e identidades culturales diversos como consecuencia de diferencias étnicas\, lingüísticas\, religiosas o nacionales. En Europa\, este fenómeno responde a la fragmentación de sociedades altamente homogéneas\, a la crisis de consensos internos y del modelo del Estado social\, a los flujos migratorios\, etcétera. \nCiertamente\, la complejidad de las sociedades multiculturales plantea desafíos a la democracia: ¿cómo conciliar la unidad política con la diversidad social? Se debatirá en tomo a estos desafíos. La posición que sostiene que el multiculturalismo es una dimensión más del pluralismo\, pero este fenómeno también constituye uno de los mayores riesgos que debe enfrentar la democracia. \nAl analizar\, las respuestas asimilacionistas o segregacionistas frente al multiculturalismo\, se debe revisar la noción de "ciudadanía"\, entendida ya no sólo en términos de nacionalidad\, sino también en términos de la búsqueda de otros elementos de inclusión\, arraigo y pertenencia como fuentes de identidad.
URL:https://historico.ateneovalencia.es/evento/sensus-communis-derecho-y-democracia-gestionar-la-multiculturalidad/
LOCATION:Sala de Juntas - Ateneo Mercantil de Valencia\, Plaza del Ayuntamiento 18\, Valencia\, Valencia\, 46002\, España
CATEGORIES:Sensus Communis
ATTACH;FMTTYPE=image/jpeg:https://historico.ateneovalencia.es/wp-content/uploads/2018/01/20180208-Sensus-Communis.jpg
END:VEVENT
BEGIN:VEVENT
DTSTART;TZID=Europe/Madrid:20180212T190000
DTEND;TZID=Europe/Madrid:20180212T190000
DTSTAMP:20260421T191811
CREATED:20180209T120717Z
LAST-MODIFIED:20180209T120717Z
UID:29644-1518462000-1518462000@historico.ateneovalencia.es
SUMMARY:Tertulia Histórica: "El Club Bilderberg"
DESCRIPTION:Dña Asunción Hernández\, Licenciada en Derecho y Asesora en Comunicación\, nos descubre los secretos del grupo de personas más influyentes del mundo. El "Club Bilderberg" será la nueva cita de nuestra Tertulia Histórica. \nEl club Bilderberg es una reunión anual a la que asisten aproximadamente las 130 personas más influyentes del mundo\, mediante invitación. Los miembros de este grupo se reúnen en complejos de lujo ubicados en Europa\, Norteamérica y Asia occidental\, donde la prensa no tiene ningún tipo de acceso\, y sus oficinas están en Leiden (Países Bajos). El nombre de este club procede del hotel en el que tuvo lugar la primera reunión\, en los Países Bajos. \nEl 29 y 30 de mayo de 1954 tuvo lugar la primera reunión\, propuesta por el exiliado consejero político polaco Józef Retinger. Éste\, preocupado por el antiamericanismo que estaba causando el Plan Marshall en Europa\, decidió reunir a los líderes europeos y norteamericanos para promover el entendimiento entre ellos. Entre los invitados estuvieron el príncipe neerlandés Bernardo\, que decidió promover la idea\, David Rockefeller\, quien financió la reunión\, y el primer ministro belga Paul van Zeeland. La idea era que los invitados fueran dos de cada país\, uno conservador y el otro progresista. \nEl éxito del encuentro animó a los organizadores a preparar una conferencia anual. Se creó un comité de dirección y Retinger fue designado su secretario permanente. Al igual que organizaba la conferencia\, el comité de dirección también mantenía un registro de los nombres de los asistentes y detalles de contacto\, con el objetivo de crear una red informal de individuos que se podrían invitar unos a otros en privado. El propósito declarado del Grupo Bilderberg era «hacer un nudo alrededor de una línea política común entre Estados Unidos y Europa en oposición a Rusia y al comunismo». El economista holandés Ernst van der Beugel sustituyó a Retinger en el puesto en 1960\, tras la muerte de este. El príncipe Bernardo fue presidente de la reunión hasta su muerte\, en 2004.
URL:https://historico.ateneovalencia.es/evento/tertulia-historica-el-club-bilderberg/
LOCATION:Salón Sorolla - Ateneo Mercantil de Valencia\, Plaza del Ayuntamiento 18\, Valencia\, Valencia\, 46002\, España
CATEGORIES:Tertulia Histórica
ATTACH;FMTTYPE=image/jpeg:https://historico.ateneovalencia.es/wp-content/uploads/2018/02/20180212-Tertulia-Historica-Club-Bilderberg.jpg
END:VEVENT
BEGIN:VEVENT
DTSTART;TZID=Europe/Madrid:20180215T190000
DTEND;TZID=Europe/Madrid:20180215T210000
DTSTAMP:20260421T191811
CREATED:20180213T103912Z
LAST-MODIFIED:20180213T105443Z
UID:29712-1518721200-1518728400@historico.ateneovalencia.es
SUMMARY:Tertulia Taurina: "Poetas y Taurinos\, mano a mano entre Nicasio Jiménez y Jorge Cartier"
DESCRIPTION:Este jueves 15 de febrero regresa la Tertulia Taurina con un mano a mano entre dos de los poetas taurinos del Ateneo Mercantil\, D. Nicasio Jiménez y D. Jorge Cartier. "Poetas y Taurinos\, mano a mano entre los tertulianos D. Nicasio Jimenez y D. Jorge Cartier". Un mano a mano de poesía taurina entre dos de nuestros socios\, los cuales nos presentarán sus libros titulados: "Poesías de la vida y Oleee" y "25 poesías taurinas"\, de los que recitarán media docena de poemas recogidos en sus libros. \nUn homenaje a esos grandes poetas taurinos de la historia como el gran Federico García Lorca\, quien no se anduvo por las ramas a la hora de opinar sobre la fiesta de los toros\, de la que dijo: "El toreo es probablemente la riqueza poética y vital de España\, increíblemente desaprovechada por los escritores y artistas\, debido principalmente a una falsa educación pedagógica que nos han dado y que hemos sido los hombres de mi generación los primeros en rechazar. Creo que los toros es la fiesta más culta que hay en el mundo".
URL:https://historico.ateneovalencia.es/evento/tertulia-taurina-poetas-y-taurinos-mano-a-mano-entre-nicasio-jimenez-y-jorge-cartier/
LOCATION:Sala Fundación - Ateneo Mercantil de Valencia\, Plaza del Ayuntamiento\, 18\, Valencia\, España\, Valencia\, Valencia\, 46002\, España
CATEGORIES:Tertulia Taurina
ATTACH;FMTTYPE=image/jpeg:https://historico.ateneovalencia.es/wp-content/uploads/2018/02/20180215-POETAS-Y-TAURINOS.jpg
END:VEVENT
BEGIN:VEVENT
DTSTART;TZID=Europe/Madrid:20180219T190000
DTEND;TZID=Europe/Madrid:20180219T203000
DTSTAMP:20260421T191811
CREATED:20180206T121035Z
LAST-MODIFIED:20180206T122235Z
UID:29584-1519066800-1519072200@historico.ateneovalencia.es
SUMMARY:Ciclo Otras Tertulias: "Valencia\, ciudad cómoda y abierta" por Fernando Giner
DESCRIPTION:El Ciclo Otras Tertulias llega de nuevo en 2018. En la primera sesión está invitado el economista y político español\, especializado en marketing y estrategia\, consultor de empresa familiar y profesor en varias escuelas de negocios\, Fernando Giner\, que actualmente es el portavoz del partido Ciudadanos en el Ayuntamiento de Valencia y en la Comunidad Valenciana. La conferencia llega bajo el título: "Valencia\, ciudad cómoda y abierta"\, que es la que quiere construir Fernando Giner en el futuro\, quien sabe\, como alcalde de Valencia.
URL:https://historico.ateneovalencia.es/evento/ciclo-otras-tertulias-valencia-ciudad-comoda-y-abierta-por-fernando-giner/
LOCATION:Salón Sorolla - Ateneo Mercantil de Valencia\, Plaza del Ayuntamiento 18\, Valencia\, Valencia\, 46002\, España
CATEGORIES:Ciclo Otras Tertulias
ATTACH;FMTTYPE=image/jpeg:https://historico.ateneovalencia.es/wp-content/uploads/2018/02/20180219-Otras-Tetrulias-Fernando-Giner.jpg
END:VEVENT
BEGIN:VEVENT
DTSTART;TZID=Europe/Madrid:20180221T193000
DTEND;TZID=Europe/Madrid:20180221T210000
DTSTAMP:20260421T191811
CREATED:20180205T131507Z
LAST-MODIFIED:20180205T133141Z
UID:29559-1519241400-1519246800@historico.ateneovalencia.es
SUMMARY:Foro Vinatea: "La Música Valenciana como factor identitario”
DESCRIPTION:¿Se puede hablar con propiedad de Música Valenciana? La respuesta es sí\, ya que aunque la música tiene un carácter universal\, cada pueblo suele imprimir a la suya las características propias. El Pueblo Valenciano así lo ha hecho y su música participa de sus peculiaridades culturales propias. Por lo tanto hay una Música Valenciana. La conferencia la impartirá el compositor y director de orquesta\, D. Salvador Chuliá Hernández. \nY es que\, la música más antigua que tenemos los valencianos no está escrita\, sino que aparece en unas pinturas ibéricas de los siglos II o I antes de Cristo. Luego hay más referencias musicales con la llegada del Cid Campeador a Valencia y en la entrada del Rey Don Jaume en la Seu de Valencia\, tocando dos órganos en la Catedral\, mientras el coro cantaba el Te Deum. \nAunque para encontrar las primeras solfas hay que esperar al siglo XIV. El Cant de la Sibila o de la Profetissa nos recuerda que ha nacido Jesús. Luego llegaría el Cançoner del Duc de Calabria y el Cançoner de Gandía en los siglos XV y XVI. Posteriormente llegaría en el XVII Gines Pérez\, Ambros Cotes\, Joan Batiste Comes...
URL:https://historico.ateneovalencia.es/evento/foro-vinatea-la-musica-valenciana-como-factor-identitario/
LOCATION:Salón Sorolla - Ateneo Mercantil de Valencia\, Plaza del Ayuntamiento 18\, Valencia\, Valencia\, 46002\, España
CATEGORIES:Foro Vinatea
ATTACH;FMTTYPE=image/jpeg:https://historico.ateneovalencia.es/wp-content/uploads/2018/02/20180221-Musica-Valenciana-Identitat.jpg
END:VEVENT
BEGIN:VEVENT
DTSTART;TZID=Europe/Madrid:20180222T193000
DTEND;TZID=Europe/Madrid:20180222T210000
DTSTAMP:20260421T191811
CREATED:20180222T123113Z
LAST-MODIFIED:20180222T130607Z
UID:30721-1519327800-1519333200@historico.ateneovalencia.es
SUMMARY:Sensus Communis: "La experiencia personal de un inmigrante"
DESCRIPTION:El Ciclo Sensus Communis regresa con una conferencia que llega bajo el título: "La experiencia personal de un inmigrante" y contará con la prencia de un ponente que contará en primera persona sus vivencias al llegara a España\, él es el psicólogo argelino\, D. Talbi Mouloud. La conferencia se reazloizará en la Sala de Juntas del Ateneo Mercantil a las 19.30 horas. La charla pretende superar los tópicos sobre los inmigrantes y hablar de cómo es su llegada a España y su vida en nuestro país. Una opinión que intentará esbozar la inmigración desde el otro lado\, desde la perspectiva del emigrante.
URL:https://historico.ateneovalencia.es/evento/sensus-communis-la-experiencia-personal-de-un-inmigrante/
LOCATION:Sala de Juntas - Ateneo Mercantil de Valencia\, Plaza del Ayuntamiento 18\, Valencia\, Valencia\, 46002\, España
CATEGORIES:Sensus Communis
ATTACH;FMTTYPE=image/jpeg:https://historico.ateneovalencia.es/wp-content/uploads/2018/02/20180222-Sensus-Communis-La-experiencia-personal-de-un-inmigrante.jpg
END:VEVENT
END:VCALENDAR