BEGIN:VCALENDAR
VERSION:2.0
PRODID:-//Ateneo Mercantil de Valencia - ECPv6.0.4//NONSGML v1.0//EN
CALSCALE:GREGORIAN
METHOD:PUBLISH
X-ORIGINAL-URL:https://historico.ateneovalencia.es
X-WR-CALDESC:Eventos para Ateneo Mercantil de Valencia
REFRESH-INTERVAL;VALUE=DURATION:PT1H
X-Robots-Tag:noindex
X-PUBLISHED-TTL:PT1H
BEGIN:VTIMEZONE
TZID:Europe/Madrid
BEGIN:DAYLIGHT
TZOFFSETFROM:+0100
TZOFFSETTO:+0200
TZNAME:CEST
DTSTART:20180325T010000
END:DAYLIGHT
BEGIN:STANDARD
TZOFFSETFROM:+0200
TZOFFSETTO:+0100
TZNAME:CET
DTSTART:20181028T010000
END:STANDARD
END:VTIMEZONE
BEGIN:VEVENT
DTSTART;TZID=Europe/Madrid:20180108T190000
DTEND;TZID=Europe/Madrid:20180108T203000
DTSTAMP:20260421T174427
CREATED:20171228T083721Z
LAST-MODIFIED:20171228T083721Z
UID:28634-1515438000-1515443400@historico.ateneovalencia.es
SUMMARY:Tertulia Histórica: "Redescubriendo a Francisco de Goya\, una nueva visión sobre los cartones para tapices"
DESCRIPTION:Llega de nuevo la Tertulia Histórica con una gran Conferencia sobre el célebre pintor Francisco de Goya bajo el título "Redescubriendo a Francisco de Goya\, una nueva visión sobre los cartones para tapices". Una tertulia que\, de la mano del doctor en Historia del Arte por la UV y ex Decano de la Facultad de Historia\, D. Rafael Gil Salinas\, llega este lunes 8 de enero a las 19.00 horas en el Salón Sorolla. \nFrancisco de Goya llegó a Madrid en 1775 y en seguida empezó a pintar cartones para la ­Real Fábrica de Tapices. Hasta 1780 trabajó para la fábrica sin salario fijo\, cobrando por cada cartón que entregaba. Aquel empleo fue una vía crucial de acceso a la corte de Carlos III y a los príncipes de Asturias\, el futuro Carlos IV y su consorte María Luisa\, que más tarde serían los clientes más importantes del pintor. \nHoy los cartones para tapices componen un extenso conjunto entre las obras de Goya expuestas en el Museo del Prado. Los tapices que se tejieron sobre ellos son mucho menos conocidos\, ya que en muchos casos siguen decorando aposentos privados en los palacios y residencias reales de España. Es irónico que la situación se haya invertido\, pues en la época de Goya los cartones se consideraban de escaso valor\, y su ejecución\, un trabajo modesto. Los de Goya se almacenaron enrollados en la Real Fábrica\, desde donde en 1858 se trasladaron al Palacio ­Real.
URL:https://historico.ateneovalencia.es/evento/tertulia-historica-redescubriendo-a-francisco-de-goya-una-nueva-vision-sobre-los-cartones-para-tapices/
LOCATION:Salón Sorolla - Ateneo Mercantil de Valencia\, Plaza del Ayuntamiento 18\, Valencia\, Valencia\, 46002\, España
CATEGORIES:Tertulia Histórica
ATTACH;FMTTYPE=image/jpeg:https://historico.ateneovalencia.es/wp-content/uploads/2017/12/20180108-Goya-sobre-Cartones-para-Tapices.jpg
END:VEVENT
BEGIN:VEVENT
DTSTART;TZID=Europe/Madrid:20180111T193000
DTEND;TZID=Europe/Madrid:20180111T193000
DTSTAMP:20260421T174427
CREATED:20171121T091324Z
LAST-MODIFIED:20180109T130853Z
UID:27668-1515699000-1515699000@historico.ateneovalencia.es
SUMMARY:Foro Sensus Communis: ¿Es el mundo un mejor lugar para vivir\, pese a todo?"
DESCRIPTION:El próximo 11 de enero\, a las 19\,30 horas\, en la Sala de Juntas del Ateneo se celebra una nueva sesión del Foro Sensus Communis en la que se tratará el tema "¿Es el mundo un mejor lugar para vivir\, pese a todo?"\nPara poder asistir a esta tertulia se recomienda leer los siguientes artículos sobre el tema elegido:\nEl mundo es un mejor lugar\, aunque sea difícil de creer\, por Nicholas Kristof\nhttps://www.almendron.com/tribuna/el-mundo-es-un-mejor-lugar-aunque-sea-dificil-de-creer\nHobbes contra Rousseau: ¿somos buenos salvajes o lobos? Una solución inesperada\, por Daniel Arjona\nhttps://www.elconfidencial.com/cultura/2017-08-10/debate-hobbes-rousseau-mead-chagnon-morris-pinker_1424212/
URL:https://historico.ateneovalencia.es/evento/foro-sensus-communis-es-el-mundo-un-mejor-lugar-para-vivir-pese-a-todo/
LOCATION:Sala de Juntas - Ateneo Mercantil de Valencia\, Plaza del Ayuntamiento 18\, Valencia\, Valencia\, 46002\, España
CATEGORIES:Sensus Communis
ATTACH;FMTTYPE=image/jpeg:https://historico.ateneovalencia.es/wp-content/uploads/2017/11/20171214-Sensus-Communis-Es-el-mundo-un-lugar-mejor-para-vivir.jpg
END:VEVENT
BEGIN:VEVENT
DTSTART;TZID=Europe/Madrid:20180115T190000
DTEND;TZID=Europe/Madrid:20180115T203000
DTSTAMP:20260421T174427
CREATED:20180108T164529Z
LAST-MODIFIED:20180108T164529Z
UID:29023-1516042800-1516048200@historico.ateneovalencia.es
SUMMARY:Tertulia Histórica: "La Desamortización de Mendizábal"
DESCRIPTION:Llega el Ciclo Tertulia Histórica con la conferencia "la Desamortización de Mendizábal". La ponente será la socia del Ateneo\, Dña. María Victoria Rodríguez. La desamortización es el proceso de convertir en propiedad individual lo que antes eran derechos señoriales. El término proviene de que\, antes de 1811\, los bienes que no se podían vender ni comprar se decía que estaban en “manos muertas”. Ponerles en el mercado era resucitarles\, desamortizarles. Las tres Leyes de Desamortización básicas son: \nEl 19 de febrero de 1836 hubo un decreto declarando en venta\, por sistema de subasta\, las tierras de las órdenes religiosas suprimidas\, tierras convertidas en “bienes nacionales”. Sólo las de órdenes suprimidas. El decreto de supresión se había dado el 11 de octubre de 1835 y la venta de bienes estaba siendo ejecutada en ese momento. El 29 de julio de 1837 se desamortizaban los bienes del clero regular de cualquier tipo y se sumaban los del clero secular. Estas leyes fueron revitalizadas por Espartero en Ley de 2 de septiembre de 1841\, vigente hasta 8 de agosto de 1844.
URL:https://historico.ateneovalencia.es/evento/tertulia-historica-la-desamortizacion-de-mendizabal/
LOCATION:Salón Sorolla - Ateneo Mercantil de Valencia\, Plaza del Ayuntamiento 18\, Valencia\, Valencia\, 46002\, España
CATEGORIES:Tertulia Histórica
ATTACH;FMTTYPE=image/jpeg:https://historico.ateneovalencia.es/wp-content/uploads/2018/01/20180115-La-Desamortizacion.jpg
END:VEVENT
BEGIN:VEVENT
DTSTART;TZID=Europe/Madrid:20180116T193000
DTEND;TZID=Europe/Madrid:20180116T210000
DTSTAMP:20260421T174427
CREATED:20180110T132852Z
LAST-MODIFIED:20180110T132852Z
UID:29079-1516131000-1516136400@historico.ateneovalencia.es
SUMMARY:Foro Francesc de Vinatea: "Corona de Aragón SÍ\, Conferencia Catalano-Aragonesa NO"
DESCRIPTION:El Foro de debate Francesc de Vinatea del Ateneo Mercantil llega con una nueva conferencia bajo el título: "Corona de Aragón Sí\, Conferencia Catalano- Aragonesa No". Una tertulia que contará con la presencia de los siguientes ponentes: Dna. Amparo Cabanes Pecourt y D. José Vicente Gómez-Bayarri; ambos son Académicos de Número de la Real Academia de Cultura Valenciana. Recuerds que la conferencia será el próximo 16 de enero a las 19.30 horas en el Salón Stolz\, tercer piso del Ateneo Mercantil de Valencia.
URL:https://historico.ateneovalencia.es/evento/foro-francesc-de-vinatea-corona-de-aragon-si-conferencia-catalano-aragonesa-no/
LOCATION:Salón Stolz - Ateneo Mercantil de Valencia\, Plaza del Ayuntamiento\, 18\, Valencia\, España\, Valencia\, Valencia\, 46002\, España
CATEGORIES:Foro Vinatea
ATTACH;FMTTYPE=image/jpeg:https://historico.ateneovalencia.es/wp-content/uploads/2018/01/20180116-Corona-de-Aragon-Foro-Vinatea.jpg
END:VEVENT
BEGIN:VEVENT
DTSTART;TZID=Europe/Madrid:20180118T190000
DTEND;TZID=Europe/Madrid:20180118T210000
DTSTAMP:20260421T174427
CREATED:20180117T164427Z
LAST-MODIFIED:20180117T164427Z
UID:29174-1516302000-1516309200@historico.ateneovalencia.es
SUMMARY:Tertulia Taurina: Primer encuentro del año 2018
DESCRIPTION:Ya se ha elaborado el calendario y la estructura de las próximas reuniones de la Tertulia Taurina del Ateneo Mercantil. Este jueves 18 de enero será la primera de las reuniones de este mes\, mientras que la segunda será el próximo 25 de enero. Hay que recordar que la tertulia dará comienzo a las 19.00 horas; en la siguiente media hora se leerán las noticias y las efemérides del día o la semana\, mientras que de 19.30 a 20 horas se hablará del tema del día y éste dará pasao a la tertulia que durará una hora aproximadamente. De 20 a 21 horas la tertulia es abierta y la moderan D. Salvador Boix\, D. Paco Ferri y D. Nicasio Jiménez. \nLas siguientes reuniones en los próximo meses serán: \n-Febrero: Los días 1\, 8\, 15 y 22. \n-Marzo: Los días 1\, 8 y 22. Además\, el día 22 se llevará a cabo la votación para elegir al triunfador de la feria de Fallas al Premio Distinción. \n-Abril: Los días 12\, 19 y 26 \n-Mayo: Los días 3\, 10\, 17\, 24 y 31. \n-Junio: Los días 7\, 14\, 21 y 28. \n-Julio: el día 5. \nHay que aclarar que los jueves que coincida la Tertulia Histórica con la Corrida de Toros Televisada se dará prioridad a ésta última. Asimismo\, el primer día de tertulia de Septiembre\, se realizará la votación final para otorgar el PREMIO DISTINCIÓN. Los actos extraordinarios se comunicarán por los medios habituales.
URL:https://historico.ateneovalencia.es/evento/tertulia-taurina-primer-encuentro-del-ano-2018/
LOCATION:Sala Fundación - Ateneo Mercantil de Valencia\, Plaza del Ayuntamiento\, 18\, Valencia\, España\, Valencia\, Valencia\, 46002\, España
CATEGORIES:Tertulia Taurina
ATTACH;FMTTYPE=image/jpeg:https://historico.ateneovalencia.es/wp-content/uploads/2018/01/20180118-Tertulia-Taurina.jpg
END:VEVENT
BEGIN:VEVENT
DTSTART;TZID=Europe/Madrid:20180125T190000
DTEND;TZID=Europe/Madrid:20180125T210000
DTSTAMP:20260421T174427
CREATED:20180125T152945Z
LAST-MODIFIED:20180125T154059Z
UID:29314-1516906800-1516914000@historico.ateneovalencia.es
SUMMARY:Tertulia Taurina: Descubre los carteles de la Feria de Fallas y de la Magdalena
DESCRIPTION:Ya se ha elaborado el calendario y la estructura de las próximas reuniones de la Tertulia Taurina del Ateneo Mercantil. Este jueves 25 de enero será la segunda de las reuniones de este mes\, mientras que la tercera será el próximo 1 de febrero. Hay que recordar que la tertulia dará comienzo a las 19.00 horas; en la siguiente media hora se leerán las noticias y las efemérides del día o la semana\, mientras que de 19.30 a 20 horas se hablará del tema del día que serán "LOS CARTELES DE LAS PRÓXIMAS FERIAS DE CASTELLÓN Y VALENCIA". Luego se dará paso a la tertulia que durará una hora aproximadamente. De 20 a 21 horas la tertulia es abierta y la moderan D. Salvador Boix\, D. Paco Ferri y D. Nicasio Jiménez. \nLas siguientes reuniones en los próximo meses serán: \n-Febrero: Los días 1\, 8\, 15 y 22. \n-Marzo: Los días 1\, 8 y 22. Además\, el día 22 se llevará a cabo la votación para elegir al triunfador de la feria de Fallas al Premio Distinción. \n-Abril: Los días 12\, 19 y 26 \n-Mayo: Los días 3\, 10\, 17\, 24 y 31. \n-Junio: Los días 7\, 14\, 21 y 28. \n-Julio: el día 5. \nHay que aclarar que los jueves que coincida la Tertulia Histórica con la Corrida de Toros Televisada se dará prioridad a ésta última. Asimismo\, el primer día de tertulia de Septiembre\, se realizará la votación final para otorgar el PREMIO DISTINCIÓN. Los actos extraordinarios se comunicarán por los medios habituales.
URL:https://historico.ateneovalencia.es/evento/tertulia-taurina-descubre-los-carteles-de-la-feria-de-fallas-y-de-la-magdalena/
LOCATION:Sala Fundación - Ateneo Mercantil de Valencia\, Plaza del Ayuntamiento\, 18\, Valencia\, España\, Valencia\, Valencia\, 46002\, España
CATEGORIES:Tertulia Taurina
ATTACH;FMTTYPE=image/jpeg:https://historico.ateneovalencia.es/wp-content/uploads/2018/01/20180125-TERTULIA-TAURINA-CARTELES-VALENCIA-Y-CASTELLON.jpg
END:VEVENT
END:VCALENDAR