BEGIN:VCALENDAR
VERSION:2.0
PRODID:-//Ateneo Mercantil de Valencia - ECPv6.0.4//NONSGML v1.0//EN
CALSCALE:GREGORIAN
METHOD:PUBLISH
X-ORIGINAL-URL:https://historico.ateneovalencia.es
X-WR-CALDESC:Eventos para Ateneo Mercantil de Valencia
REFRESH-INTERVAL;VALUE=DURATION:PT1H
X-Robots-Tag:noindex
X-PUBLISHED-TTL:PT1H
BEGIN:VTIMEZONE
TZID:Europe/Madrid
BEGIN:DAYLIGHT
TZOFFSETFROM:+0100
TZOFFSETTO:+0200
TZNAME:CEST
DTSTART:20170326T010000
END:DAYLIGHT
BEGIN:STANDARD
TZOFFSETFROM:+0200
TZOFFSETTO:+0100
TZNAME:CET
DTSTART:20171029T010000
END:STANDARD
END:VTIMEZONE
BEGIN:VEVENT
DTSTART;TZID=Europe/Madrid:20170601T193000
DTEND;TZID=Europe/Madrid:20170601T210000
DTSTAMP:20260423T005927
CREATED:20170519T093239Z
LAST-MODIFIED:20170519T093239Z
UID:23829-1496345400-1496350800@historico.ateneovalencia.es
SUMMARY:Sensus Communis: "Perfeccionamiento de la Democracia frente a los Populismos"
DESCRIPTION:El Foro Sensus Communis trae una nueva entrega de sus tertulias con una ponencia en la que se tratará el tema del "Perfeccionamiento de la Democracia frente a los Populismos". Dentro de este extenso tema también se tratarán los retos y los posibles cambios a realizar en los “Las Elecciones y los Referendum”. Y es que una democracia debe ser capaz de afrontar con racionalidad y acuerdo\, sin sitio para el populismo. \nUna tertulia que tendrá como eje la defensa de la democracia representativa y la reivindicación de la política ejercida a través de las instituciones\, hay que ser conscientes del peligro que supone para nuestro sistema de libertades el resurgimiento en España de los viejos populismos\, adalides de una supuesta democracia directa\, que la experiencia histórica nos revela como el camino inevitable hacia el totalitarismo.
URL:https://historico.ateneovalencia.es/evento/sensus-communis-perfeccionamiento-de-la-democracia-frente-a-los-populismos/
LOCATION:Sala de Juntas - Ateneo Mercantil de Valencia\, Plaza del Ayuntamiento 18\, Valencia\, Valencia\, 46002\, España
CATEGORIES:Sensus Communis
ATTACH;FMTTYPE=image/jpeg:https://historico.ateneovalencia.es/wp-content/uploads/2017/05/Portada_Populismo_Democracia.jpg
END:VEVENT
BEGIN:VEVENT
DTSTART;TZID=Europe/Madrid:20170607T193000
DTEND;TZID=Europe/Madrid:20170607T210000
DTSTAMP:20260423T005927
CREATED:20170606T074836Z
LAST-MODIFIED:20170606T074836Z
UID:24303-1496863800-1496869200@historico.ateneovalencia.es
SUMMARY:Sensus Communis: "Hay enemigos de la Filosofía: Es giebt Gegner der Philosophie"
DESCRIPTION:Conferencia coloquio bajo el título: "Hay enemigos de la Filosofía: Es giebt Gegner der Philosophie" en defensa de la enseñanza de la filosofía en la Comunidad Valenciana a cargo de los dos ponentes: D. Ángel Vallejo y D. Antonio Lastra. Recuerda que este próximo miércoles el Club de Filosofía del Ateneo Mercantil ha organizado este evento que tendrá lugar en la Sala de Exposiones (tercera planta) a las 19.30 horas.
URL:https://historico.ateneovalencia.es/evento/sensus-communis-hay-enemigos-de-la-filosofia-es-giebt-gegner-der-philosophie/
LOCATION:Sala de Exposiciones - Ateneo Mercantil de Valencia\, Plaza del Ayuntamiento\, 18\, Valencia\, España\, Valencia\, Valencia\, 46002\, España
CATEGORIES:Sensus Communis
ATTACH;FMTTYPE=image/jpeg:https://historico.ateneovalencia.es/wp-content/uploads/2017/06/Portada_Filosofia_Enemigos.jpg
END:VEVENT
BEGIN:VEVENT
DTSTART;TZID=Europe/Madrid:20170608T193000
DTEND;TZID=Europe/Madrid:20170608T210000
DTSTAMP:20260423T005927
CREATED:20170602T061337Z
LAST-MODIFIED:20170602T061337Z
UID:24203-1496950200-1496955600@historico.ateneovalencia.es
SUMMARY:Ciclo estación de Norte: “Estación de ferrocarriles de la Compañía de los Caminos de Hierro del Norte en Valencia. Una lección de arquitectura”
DESCRIPTION:La construcción de la estación de Valencia deviene de una serie de factores favorables coincidentes en el tiempo\, que no se han vuelto a repetir hasta la fecha y que será difícil que lo hagan puesto que se trata de la confluencia en la ciudad de cuestiones de índole político-económico\, social y cultural coincidentes además con la única etapa de bonanza de la compañía Norte\, la dirección del español Félix Boix y la presencia del arquitecto Demetrio Ribes con la inestimable colaboración del ingeniero Grasset. Constituye así un ejemplar único a preservar. \nArquitectónicamente\, la estación es receptáculo de numerosos detalles materiales y constructivos resultado de la avanzada poética y magistral dirección de obra del arquitecto Demetrio Ribes y de la delicada ejecución por parte de los diferentes artesanos y artistas que intervinieron en su construcción. Suponiendo un cambio radical en la estereotipada imagen de la compañía Norte que repite edificios de estilo afrancesado sin relación alguna con el entorno\, el edificio\, además de reflejar la cultura local\, presenta sutiles innovaciones inéditas para el modo hacer arquitectónico del momento. Así\, detalles racionalistas\, insinuación de la planta libre\, importación de lenguajes arquitectónicos novedosos o decoración superpuesta como criterio básico compositivo suponen algunos ejemplos. \nLa conferencia pretende mostrar el proceso constructivo de la estación desde el proyecto hasta aquellos detalles originales que todavía quedan en el edificio de viajeros con mención de las pérdidas más relevantes que ha sufrido. Sin olvidar su valor inmaterial: la estación además de lo tectónico\, también es receptáculo de la memoria. Fue testigo de numerosos acontecimientos históricos así como de otros valores inmateriales como la memoria del trabajo cuya preservación va asociada a la pervivencia de la pátina del edificio. \nPor último\, el objetivo que se pretende es poner un granito de arena en la necesaria concienciación y estima por parte de los usuarios lo cual es garantía de preservación. \nNombre del Ponente: Dra. Dña. Aurora Martínez Corral; Presentación de la Conferencia: Dr. D. Luis Arciniega García (profesor del departamento de Historia del Arte\, Universitat de València; Codirector Cátedra Demetrio Ribes UV-CHOPVT).
URL:https://historico.ateneovalencia.es/evento/ciclo-estacion-de-norte-estacion-de-ferrocarriles-de-la-compania-de-los-caminos-de-hierro-del-norte-en-valencia-una-leccion-de-arquitectura/
LOCATION:Salón Sorolla - Ateneo Mercantil de Valencia\, Plaza del Ayuntamiento 18\, Valencia\, Valencia\, 46002\, España
CATEGORIES:Ciclos y Conferencias,Tertulias y Foros
ATTACH;FMTTYPE=image/jpeg:https://historico.ateneovalencia.es/wp-content/uploads/2017/06/Portada_estacion_Norte_tertulia2.jpg
END:VEVENT
BEGIN:VEVENT
DTSTART;TZID=Europe/Madrid:20170612T180000
DTEND;TZID=Europe/Madrid:20170612T200000
DTSTAMP:20260423T005927
CREATED:20170605T190413Z
LAST-MODIFIED:20170606T071214Z
UID:24298-1497290400-1497297600@historico.ateneovalencia.es
SUMMARY:'Descubre la claves del éxito de Wallapop y lidera la transformación digital'
DESCRIPTION:El Ateneo Club de Innovación y Empresa quiere invitarle al evento que patrocina junto a la Universidad Europea de Valencia sobre la transformacion digital  de nuestras empresas. Esta transformación digital consiste en ir incorporando la tecnología a los procesos de negocio de empresas tradicionales\, ya sean grandes o pequeñas o bien industriales o de servicios\, de forma que la competitividad de la empresa no sólo no decaiga\, sino que debe mejorar al incorporar la tecnología. De esta manera los procesos se hace más rápidos\, con una mayor calidad\, se abaratan costes y encima tienes acceso a mercados mucho más amplios. \nEl evento está organizado por el MBA Negocio y Transformación Digital de la Universidad Europea de Valencia y tiene al Ateneo Mercantil y a su Cub de Innovación y Empresa como socio colaborador. También colaboran Adigital\, AJEV\, Club de Marketing Mediterráneo\, Innova&Acción\, InnSomnia y Kuombo. Recuerda que tienes una cita el próximo lunes 12 de junioen una jornada en la que participarán Patricia Pastor de VIT Emprende\, Fran Estevan de InnSomnia y Carlos Macho y Marta Gui de Wallapop. \nSe desgranarán las claves estratégicas de Wallapop \nEl éxito de Wallapop se debe a una implementación consciente del smartphone sobre el ordenador. El teléfono siempre está con nosotros y siempre está conectado a internet. Esta ubicuidad del teléfono móvil es ideal para Wallapop\, ya que tiene la posibilidad de usar la geolocalización y este es primer filtro para las búsquedas en Wallapop. La relevancia\, la movilidad y la experiencia de usuario son tres pilares básicos para Wallapop.
URL:https://historico.ateneovalencia.es/evento/descubre-la-claves-del-exito-de-wallapop-y-lidera-la-transformacion-digital/
LOCATION:Salón Sorolla - Ateneo Mercantil de Valencia\, Plaza del Ayuntamiento 18\, Valencia\, Valencia\, 46002\, España
CATEGORIES:Ciclos y Conferencias,Jornada,Tertulias y Foros
ATTACH;FMTTYPE=image/jpeg:https://historico.ateneovalencia.es/wp-content/uploads/2017/06/Portada_Wallapop_Ateneo.jpg
END:VEVENT
BEGIN:VEVENT
DTSTART;TZID=Europe/Madrid:20170614T190000
DTEND;TZID=Europe/Madrid:20170614T210000
DTSTAMP:20260423T005927
CREATED:20170607T124311Z
LAST-MODIFIED:20170607T124311Z
UID:24313-1497466800-1497474000@historico.ateneovalencia.es
SUMMARY:Foro Vinatea: "La Libertad de Educación en la Comunidad Valenciana\, en el punto de mira"
DESCRIPTION:Regresa el Foro Frances Vinatea-Ateneo Mercantil con una interesante Mesa Redonda en la que se tratará el tema de la libertad de la enseñanza en la Comunidad Valencia y se celebrará el próximo 14 de junio a las 19.00 horas en el Salón de Actos del Ateneo Mercantil. Bajo el título "La Libertad de Educación en la Comunidad Valenciana\, en el punto de mira". \nLa mesa rtedonda será moderada por la periodista Dña. Concha Raga García\, que es colaboradora en el Programa "El Faro" de Mediterráneo Televisión y es académica correspondiente de la Real Academia de Cultura Valenciana (RACV). Junto a ella estarán los siguientes cuatro ponentes: \nD. Manuel Moya García: Ex presidente nacional de FSIE (Federación de Sindicatos Independientes de Enseñanza) y miembro del Secretariado Autonómico de FSIE en la Comunidad Valenciana. Que en su intervención vendrá a exponer sobre La sociedad valenciana\, árbitro de las dimensiones de la red dual; La principal virtud de la red concertada: Libertad de elección. Es accesorio el menor costo; Ratio\, descenso de la natalidad y plantillas docentes y de personal de administración y servicios; La calidad educativa ha quedado al margen de las prioridades; La Concertada Valenciana precisa algo de lo que carece: Conseller de Educación para la concertada\, sólo tenemos Conseller de Pública; Un punto de vista erróneo y engañoso: La supeditación de la educación a los Presupuestos; Equidad e igualdad de oportunidades: Cada vez más debilitadas en la Comunidad Valenciana. \nDña. Vicenta Rodríguez: Directora del Colegio Santa María de Valencia y Secretaria Autonómica de Escuelas Católicas de la Comunidad Valenciana. En su intervención en la mesa redonda hablará sobre la libertad de enseñanza\, algo más que un principio constitucional; Educación Concertada: complementaria de la educación pública (demanda social); Las aulas concertadas ahorran dinero a las arcas del Estado. \nD. Vicente Morro: Presidente de FCAPA. Actual portavoz de la Mesa por la Educación en Libertad. Ex vicepresidente del Foro Valenciano de la Familia. Más de 25 años en el movimiento asociativo valenciano en defensa de la libertad de educación y de los derechos de la familia. La actividad laboral retribuida\, con carácter de personal laboral\, la desarrollo en un organismo público del sector del transporte. Título de Especialista en Transporte Intermodal (Pontificia Universidad de Comillas –ICADE- y Fundación Valenciaport). Estudiante de Grado de Filosofía en la UNED. Casado\, padre de cinco hijos y abuelo de tres nietos. En su ponencia hablará de la educación (personas\, libertad y derechos) y las angustia de las familias;  La Libertad: formal y material. FORMAL\, subjetiva: tipo de educación –conciertos-\, elección de centro –admisiones-\, financiación (base jurídica). MATERIAL\, objetiva: qué se estudia\, cómo se estudia\, neutralidad ideológica\, no imposición –ni de lengua\, ni de género\, ni ideológica- (base jurídica). Especial gravedad cuando se intenta imponer un programa de ingeniería política y social. No aceptamos una “escuela única\, pública\, laica y en valenciano”\, y menos como instrumento político. \nD. Pablo Rovira: Periodista con 20 años de experiencia de periodismo educativo\, delegado en la Comunitat Valenciana del periódico profesional Magisterio y redactor jefe de PADRES Y COLEGIOS. Licenciado en Periodismo\, ha sido profesor asociado de Pedagogía de los Medios en la Universidad CEU Cardenal Herrera. También director de proyectos en INAV\, un centro de formación y de Educación de Personas Adultas.
URL:https://historico.ateneovalencia.es/evento/foro-vinatea-la-libertad-de-educacion-en-la-comunidad-valenciana-en-el-punto-de-mira/
LOCATION:Teatro Ateneo
CATEGORIES:Foro Vinatea
ATTACH;FMTTYPE=image/jpeg:https://historico.ateneovalencia.es/wp-content/uploads/2017/06/Portada_Educacion.jpg
END:VEVENT
BEGIN:VEVENT
DTSTART;TZID=Europe/Madrid:20170615T143000
DTEND;TZID=Europe/Madrid:20170615T170000
DTSTAMP:20260423T005927
CREATED:20170519T111313Z
LAST-MODIFIED:20170519T111313Z
UID:23842-1497537000-1497546000@historico.ateneovalencia.es
SUMMARY:Comida Fin de Curso de las Actividades Culturales
DESCRIPTION:El próximo jueves 15 de junio se celebra la comida de Fin de Curso de todas las actividades y visitas culturales que se realizan en el Ateneo Mercantil a lo largo del año. Los socios que habitualmente disfrutan de las ponencias comparten mesa y mantel con los ponentes y expertos en la materia que realizan las tertulias. Además\, en la comida también se entregan los diplomas a todos los alumnos que se han dado cita en el Aula Cultural y además\, se invita a todos los profesores que durante todo este curso han dado las clases. \nUn año más se celebrará la comida de fin de curso para dar por concluido el año de las Actividades y Visitas Culturales\, la Tertulia Histórica\, la Poesía… Al finalizar la comida se realizará un pequeño homenaje a los ponentes de las tertulias y a los “cicerones” de las visitas culturales. El pasado año acudieron unos 170 comensales al Restaurante del Ateneo Mercantil para celebrar un año intenso de cultura.
URL:https://historico.ateneovalencia.es/evento/comida-fin-de-curso-de-las-actividades-culturales/
LOCATION:Restaurante - Ateneo Mercantil de Valencia\, Plaza del Ayuntamiento 18\, Valencia\, Valencia\, 46002\, España
CATEGORIES:Aula de Poesía,Ciclo Civilizaciones Europeas,Ciclo Historia de la Pintura Valenciana,Ciclo Horizontes de Amistad,Ciclo Israel en el Siglo I,Ciclo Otras Tertulias,Ciclo Paseos Virtuales por la Arquitectura de la Ciudad,Ciclos y Conferencias,Social,Tertulia Histórica,Tertulias y Foros,Visitas Culturales
ATTACH;FMTTYPE=image/jpeg:https://historico.ateneovalencia.es/wp-content/uploads/2017/05/Portada_Comida_FinCurso.jpg
END:VEVENT
BEGIN:VEVENT
DTSTART;TZID=Europe/Madrid:20170615T173000
DTEND;TZID=Europe/Madrid:20170615T190000
DTSTAMP:20260423T005927
CREATED:20170519T090027Z
LAST-MODIFIED:20170519T090027Z
UID:23826-1497547800-1497553200@historico.ateneovalencia.es
SUMMARY:Tertulia Histórica: "La Primera Cruzada hasta la Conquista de Jerusalem"
DESCRIPTION:La Tertulia Histórica nos trae una nueva ponencia en la que se tratará el interesante tema de la "La Primera Cruzada hasta la Conquista de Jerusalem". Una ponencia que correrá acargo del miembro fundador de las tertulias del Ateneo Mercantil\, D. José Luis Climent\, el próximo jueves 15 de junio tras la comida de cierre del curso que tendrá lugar en el Restaurante del Ateneo Mercantil. \nLa Primera Cruzada\, en particular\, tuvo su origen en acontecimientos anteriores en la Edad media. La división de Imperio Carolingio siglos antes\, y la relativa estabilidad de fronteras Europeas después de la cristianización de las tribus bárbaras\, que han creado toda una clase de guerreros que luchaban entre sí por la tierra y la riqueza. \nLos cristianos habían luchado contra heterogéneos efectivos turcos durante el trayecto hasta Jerusalén. Las tropas egipcias tenían una preparación muy deficiente. La derrota del emir de Mosul Kerbogá impulsó al gran visir de El Cairo Al-Afdal a intentar el dominio de Palestina. Los fatimitas se hicieron con Jerusalén tras un asedio de mes y medio\, y la posterior defensa queda a cargo del gobernador Iftikar. El lento avance cristiano permitió organizar con detalle la defensa de la ciudad y la desolación de los alrededores. Iftikar ordenó la expulsión de los cristianos fuera del recinto de la ciudad. Comanda las tropas cristianas Godofredo de Bouillón\, responsable tanto de la victoria como de la posterior matanza.
URL:https://historico.ateneovalencia.es/evento/tertulia-historica-la-primera-cruzada-hasta-la-conquista-de-jerusalem/
LOCATION:Salón Sorolla - Ateneo Mercantil de Valencia\, Plaza del Ayuntamiento 18\, Valencia\, Valencia\, 46002\, España
CATEGORIES:Tertulia Histórica
ATTACH;FMTTYPE=image/jpeg:https://historico.ateneovalencia.es/wp-content/uploads/2017/05/Portada_Primera_Cruzada.jpg
END:VEVENT
BEGIN:VEVENT
DTSTART;TZID=Europe/Madrid:20170615T193000
DTEND;TZID=Europe/Madrid:20170615T210000
DTSTAMP:20260423T005927
CREATED:20170602T061729Z
LAST-MODIFIED:20170602T061756Z
UID:24206-1497555000-1497560400@historico.ateneovalencia.es
SUMMARY:Ciclo estación del Norte: “Demetrio Ribes\, arquitectura e ingeniería: concepción\, estilo\, materiales y espacio”
DESCRIPTION:Día y hora: 15 de junio de 2017\, a las 19.30 horas \nNombre del Ponente y su cargo: \nDr. Luis Arciniega García \n(Profesor del departamento de Historia del Arte\, Universitat de València; \nCodirector Cátedra Demetrio Ribes UV-CHOPVT) \nTítulo de la ponencia: \n“Demetrio Ribes\, arquitectura e ingeniería: concepción\, estilo\, materiales y espacio” \nResumen de la ponencia: \n            Se ofrecerá el perfil biográfico y profesional de Demetrio Ribes Marco (1875-1921)\, su formación como físico-matemático y arquitecto\, y el desarrollo de su actividad en la Compañía de los Caminos del Norte y la empresa Construcciones Coloma y Ribes especializada en Hormigón Armado. Se incidirá en su concepción de la arquitectura y en la recepción de su obra en la sociedad\, con obras tan representativas como la Estación del Norte en Valencia\, entre muchas otras. \nPresentación de la Conferencia: \nDra. Inmaculada Aguilar \n(Catedrática de Universidad en el departamento de Historia del Arte\, Universitat de València; Codirectora Cátedra Demetrio Ribes UV-CHOPVT)
URL:https://historico.ateneovalencia.es/evento/ciclo-estacion-del-norte-demetrio-ribes-arquitectura-e-ingenieria-concepcion-estilo-materiales-y-espacio/
LOCATION:Salón Sorolla - Ateneo Mercantil de Valencia\, Plaza del Ayuntamiento 18\, Valencia\, Valencia\, 46002\, España
CATEGORIES:Ciclos y Conferencias,Tertulias y Foros
ATTACH;FMTTYPE=image/jpeg:https://historico.ateneovalencia.es/wp-content/uploads/2017/06/Portada_Demetrio_Ribes.jpg
END:VEVENT
BEGIN:VEVENT
DTSTART;TZID=Europe/Madrid:20170628T193000
DTEND;TZID=Europe/Madrid:20170628T210000
DTSTAMP:20260423T005927
CREATED:20170607T161149Z
LAST-MODIFIED:20170615T085428Z
UID:24316-1498678200-1498683600@historico.ateneovalencia.es
SUMMARY:Sensus Communis: "¿Es viable una Renta Básica Universal?
DESCRIPTION:El Foro Sensus Communis ha preparado un nuevo debate-coloquio en el que se tartará uno de los temas de más actualidad en estos momentos\, el de la Renta Básica Universal. ¿Es esta medida la solución a la pobreza y a la desigualdad? ¿Hablar de Renta Básica Universal es hacerlo como si fuera una utopía o cada vez más es una realidad? \nEl próximo jueves 22 de junio a las 19.30 horas se celebrará esta intersante tertulia en la qie se desgranarán los pros y los contras de uno de los retos del futuro que tiene la sociedad mundial. Para algunos economistas la renta básica es un complemento de las partes fundamentales de la sociedad del bienestar que debería añadirse a la salud y la educación pública. Pero hay cosas que esta renta podría reemplazar\, en especial a subsidios como el de paro\, que se ha convertido en un sistema increíblemente burocrático y paternalista y que no funciona. \nLa Organización para la Cooperación y el Desarrollo Económico ya que considera que el sistema de protección social actual se está quedando obsoleto. La asignación de la renta universal significaría la eliminación de todas las ayudas o prestaciones sociales\, como el paro. En países como España\, Portugal y Grecia\, el impacto de la renta universal sería muy positivo debido a la escasez de las ayudas. \nDe obligada lectura:\n“La renta básica universal sería el mayor logro del capitalismo”: \nhttp://economia.elpais.com/economia/2017/03/23/actualidad/1490287072_800265.html?id_externo_rsoc=whatsapp \n A vueltas con la renta básica: \nhttp://blogs.elconfidencial.com/economia/big-data/2017-05-25/debate-renta-basica_1388304/?utm_campaign=BotoneraWebapp
URL:https://historico.ateneovalencia.es/evento/sensus-communis-es-viable-una-renta-basica-universal/
LOCATION:Sala de Juntas - Ateneo Mercantil de Valencia\, Plaza del Ayuntamiento 18\, Valencia\, Valencia\, 46002\, España
CATEGORIES:Sensus Communis
ATTACH;FMTTYPE=image/jpeg:https://historico.ateneovalencia.es/wp-content/uploads/2017/06/Portada_Renta_Universal.jpg
END:VEVENT
END:VCALENDAR