BEGIN:VCALENDAR
VERSION:2.0
PRODID:-//Ateneo Mercantil de Valencia - ECPv6.0.4//NONSGML v1.0//EN
CALSCALE:GREGORIAN
METHOD:PUBLISH
X-ORIGINAL-URL:https://historico.ateneovalencia.es
X-WR-CALDESC:Eventos para Ateneo Mercantil de Valencia
REFRESH-INTERVAL;VALUE=DURATION:PT1H
X-Robots-Tag:noindex
X-PUBLISHED-TTL:PT1H
BEGIN:VTIMEZONE
TZID:Europe/Madrid
BEGIN:DAYLIGHT
TZOFFSETFROM:+0100
TZOFFSETTO:+0200
TZNAME:CEST
DTSTART:20170326T010000
END:DAYLIGHT
BEGIN:STANDARD
TZOFFSETFROM:+0200
TZOFFSETTO:+0100
TZNAME:CET
DTSTART:20171029T010000
END:STANDARD
END:VTIMEZONE
BEGIN:VEVENT
DTSTART;TZID=Europe/Madrid:20170301T193000
DTEND;TZID=Europe/Madrid:20170301T210000
DTSTAMP:20260421T152110
CREATED:20170301T071822Z
LAST-MODIFIED:20170406T120403Z
UID:19779-1488396600-1488402000@historico.ateneovalencia.es
SUMMARY:Aula Las Provincias: Homenaje a Manolo Montoliu
DESCRIPTION:Valencia y su Feria de Fallas homenajean la memoria del malogrado Manolo Montoliu\, en el XXV aniversario de su muerte. El Aula de LAS PROVINCIAS lleva hasta el Ateneo Mercantil de Valencia un acto en el que estarán presentes la afición y toreros con los que compartió miedos y triunfos. Un ciclo que tendrá una entrañable nostalgia y que servirá para sumarse a tan merecido reconocimiento a ese torero que\, un día primero de mayo\, caía en el ruedo de una de las plazas en las que hacía el paseíllo con más ilusión y entrega\, la Real Maestranza de Sevilla\, cuando a las órdenes de Manzanares\, padre\, banderilleaba al toro 'Cabatisto'\, de Atanasio Fernández. \nEste homenaje seguro que va a ser también acicate que eleve el orgullo de la torería de plata que actúe en el abono de San José. Este miércoles a partir de las 19.30 horas\, en el Salón de Actos\, se realizará una nueva edición taurina del Aula Las Provincias que servirá para dar inicio a la Feria de Las Fallas que rendirá un sentido homenaje al torero de Plata “Manolo Montoliu”. La charla estará moderada por el periodista José Luis Benlloch que estará acompañado por el periodista Pedro Toledano y participarán los matadores Vicente Ruiz “El Soro”\, el maestro Ortega Cano\, el torero de plata Juan Martín Recio.
URL:https://historico.ateneovalencia.es/evento/aula-las-provincias-homenaje-a-manolo-montoliu/
LOCATION:Teatro Ateneo
CATEGORIES:Aula Las Provincias,Tertulia Taurina
ATTACH;FMTTYPE=image/jpeg:https://historico.ateneovalencia.es/wp-content/uploads/2017/03/Montoliu_25AÑOS.jpg
END:VEVENT
BEGIN:VEVENT
DTSTART;TZID=Europe/Madrid:20170306T190000
DTEND;TZID=Europe/Madrid:20170306T190000
DTSTAMP:20260421T152110
CREATED:20170222T124546Z
LAST-MODIFIED:20170303T144944Z
UID:19624-1488826800-1488826800@historico.ateneovalencia.es
SUMMARY:Tertulia Histórica: "El Ateneo Mercantil y las Fallas"
DESCRIPTION:La relación del Ateneo Mercantil de Valencia con las Fallas siempre ha sido muy estrecha desde nuestros inicios hasta hoy en día. Nuestra institución trabaja cada día por la defensa y por la difusión de la cultura y las tradiciones; estamos cerca de la sociedad valenciana\, hemos aportado a lo largo de la historia nuestro granito de arena para construir la Valencia que hoy conocemos. \nEl Ateneo siempre ha tenido una sensibilidad especial con el mundo fallero\, ayudando son nuestras posibilidades por la unidad y la expansión de la Fiesta a lo largo de nuestra centenaria historia. El Ateneo defendió a la Fiesta cuando tuvo que hacerlo\, en sus peores momentos\, y hoy en día la difunde por todo el mundo. Nuestro compromiso con las Fallas\, con las comisiones falleras y con cualquier fallero que haya necesitado nuestra ayuda siempre ha sido ejemplar. \nNuestro legado es centenario y nuestra dedicación por las Fallas viene desde muy lejos. En el año de nuestra fundación\, en 1879\, el festejo tenía un ámbito local tan reducido que ni trascendía a la prensa diaria. Pero los años posteriores se produce un movimiento y había más interés\, existen reuniones en el Ateneo interesándose por esas expresiones de humor popular. \nPero el consistorio evitó la proliferación por la crisis económica reinante y el cólera imponiendo un arbitrio a estas modestas expansiones de humor popular\, por lo que sólo se plantaron cuatro en 1883. \nEl número de fallas iba incrementándose cada año hasta que en 1902 se alcanzan las 14 que se colocan en las principales calles y plazas de la Valencia antigua. El Ateneo continuó con la difusión cultural de la fiesta y en mayo de 1907\, nuestra institución logró traer a Valencia a la infanta Isabel de Borbón para que conociera las fallas y la Feria de Julio donde el Ateneo siempre contó con un pabellón permanente en el Real de la Feria. \nAdemás\, ese mismo año se invitó a la banda municipal de la Guardia Republicana que llegó en tren desde París para tocar en el Ayuntamiento y en nuestra institución en las fiestas josefinas. En 1909\, el año de la Exposición Regional\, el Ateneo se volcó en la organización de este evento que marcó un antes y un después en la ciudad. \nEse año\, el presidente del Ateneo Tomás Trénor encargó la creación de un himno para esta exposición a José Serrano\, la música y la letra siguiendo los modelos del poeta Maximiliano Thous\, se creó el Himno Regional Valenciano. \nEn los Años 20\, tras la Primera Guerra Mundial\, se produce un crecimiento económico y hay un incremento de la población del 35% en la capital del Turia y con él\, también hay una expansión de las Fallas. La relación entre el consistorio y el Ateneo siempre ha sido constante e iba en aumento cada año\, hasta que en 1925 nuestra entidad se vio con fuerzas de participar directamente de la fiesta y presenta en sociedad el primer monumento ateneísta\, por cierto\, una falla que fue galardonada con el segundo premio. \nEse primer monumento en principio tenía que haber sido compartido junto al Círculo de Bellas Artes\, el Ateneo Mercantil presupuestó 2000 pesetas para la construcción de su falla\, pero los artistas recamaron 5000 pesetas. Ahí comenzó una tirantez\, que acabó por hacer cada institución la suya. A la prensa no le pareció bien que concurrieran en el concurso los artistas profesionales porque relegaron a un segundo plano a los aficionados de las comisiones. \nEl Circulo de Bellas Artes se llevó el primer premio con nueve grupos separados que ocupaban toda la calle; el Ateneo\, que se llevó el segundo dotado con 1000 pesetas\, también optó por grupos sueltos. El año siguiente se volvió a plantar de nuevo monumento; se optó de nuevo por grupos sueltos pero esta vez el jurado no la premió. \nEn 1927\, el Ateneo Mercantil participa junto a otras instituciones valencianas en hacer posible la llegada del primer ‘Tren Fallero’\, que llegaron de Madrid y de Murcia donde miles de valencianos regresaban a casa para las fiestas. \nLa relación del Ateneo Mercantil con las fallas es definitiva cuando un año después\, en 1928\, nuestra institución fue testigo directo de la creación del Comité Central Fallero\, el germen de lo que hoy es la Junta Central Fallera. \nEn nuestro edificio se reguló todo el movimiento de la Fiesta tras largas reuniones entre los falleros y las comisiones. Durante meses se discutió\, se pactó\, se progresó en favor de la regularización y todo esto se hizo entre las paredes de nuestro edificio\, intentando unir y englobar todas las expresiones artísticas que se habían extendido por la ciudad. \nEl Ateneo Mercantil apoyó en todos los sentidos al Comité Central de Fallas\, estuvo de interlocutor incluso con el Ayuntamiento para que se rebajase el precio del fluido eléctrico para las Fallas y para que recibieran una subvención por la construcción de los monumentos. El alcalde de Valencia entonces\, el marqués de Sotelo\, concedió una partida presupuestaria de 15.500 pesetas en ayudas. \nLas Fallas y el Ateneo Mercantil siempre han estado estrechamente ligadas\, tanto que fue el propio Ateneo quien albergó en 1936\, durante el inicio de la Guerra Civil española\, la Asociación General Fallera Valenciana\, conocida actualmente como Junta Central Fallera\, organismo que regula y coordina la fiesta de las fallas de Valencia. \nEste es solo el comienzo de la relación del Ateneo Mercantil de Valencia con el mundo de las Fallas  y que nos desgranará el ponente D. Vicente de Castro\, Ex-Vicepresidente de Junta Central Fallera. Una conferencia que no te puedes perder si eres un amante de la cultura valenciana y como no\, si quieres conocer un poco más la historia de nuestro Ateneo.
URL:https://historico.ateneovalencia.es/evento/tertulia-historica-el-ateneo-mercantil-y-las-fallas/
LOCATION:Salón Sorolla - Ateneo Mercantil de Valencia\, Plaza del Ayuntamiento 18\, Valencia\, Valencia\, 46002\, España
CATEGORIES:Tertulia Histórica
ATTACH;FMTTYPE=image/jpeg:https://historico.ateneovalencia.es/wp-content/uploads/2017/02/20170306-Tertulia-Historica-El-Ateneo-Mercantil-y-las-Fallas.jpg
END:VEVENT
BEGIN:VEVENT
DTSTART;TZID=Europe/Madrid:20170306T200000
DTEND;TZID=Europe/Madrid:20170306T213000
DTSTAMP:20260421T152110
CREATED:20170217T114709Z
LAST-MODIFIED:20170303T145108Z
UID:19481-1488830400-1488835800@historico.ateneovalencia.es
SUMMARY:Foro AteneoIDEAS: El Fracaso Escolar
DESCRIPTION:El próximo lunes\, 6 de marzo de 2017\, a las 20:00 horas\, en el Salón Sorolla del Ateneo\, tendrá lugar el decimotercer coloquio del Foro por la Educación AteneoIDEAS\, que retransmiten las cámaras de Tele 7. El tema que se tratará en este coloquio es "El Fracaso Escolar". \nEl fracaso escolar se ha convertido en uno de los grandes caballos de batalla de nuestro país. No en vano el porcentaje de alumnos que abandona la escuela prematuramente se sitúa por encima del 20%. Pero\, ¿por qué?\, ¿qué es lo que estamos haciendo mal?\, ¿por qué se desmotivan nuestros hijos? En este nuevo coloquio intentaremos arrojar luz sobre estas cuestiones. \nIntervendrán en la tertulia: \n\nFERRAN MORANT\, Psicopedagogo\nJESÚS JORNET\, Doctor en Ciencias de la Educación y Licenciado en Psicología\nXELO TOMÁS\, Psicóloga\nLUIS M. LÁZARO\, Catedrático de Educación Comparada\n\nTodos ellos profesionales de la docencia y expertos en la materia. \nLa entrada es libre hasta completar aforo.
URL:https://historico.ateneovalencia.es/evento/foro-ateneoideas-el-fracaso-escolar/
LOCATION:Salón Sorolla - Ateneo Mercantil de Valencia\, Plaza del Ayuntamiento 18\, Valencia\, Valencia\, 46002\, España
CATEGORIES:Foro AteneoIDEAS
ATTACH;FMTTYPE=image/jpeg:https://historico.ateneovalencia.es/wp-content/uploads/2017/02/AteneoIdeas-Deberes.jpg
END:VEVENT
BEGIN:VEVENT
DTSTART;TZID=Europe/Madrid:20170309T193000
DTEND;TZID=Europe/Madrid:20170309T193000
DTSTAMP:20260421T152110
CREATED:20170302T112024Z
LAST-MODIFIED:20170302T133929Z
UID:19971-1489087800-1489087800@historico.ateneovalencia.es
SUMMARY:Sensus Communis: Europa y los Nacionalismos (2ª Parte)
DESCRIPTION:El próximo día 9 de marzo\, a las 19:30 horas en la Sala de Juntas del Ateneo\, de nuevo\, el profesor universitario Guillermo Vansteenberghe\, nos hablará de esos nacionalismos que quieren tomar fuerza en una Europa cada vez más global. Esta es la segunda parte de la tertulia celebrada el 22 de septiembre de 2016. \nCada vez más el futuro de Europa está enmarcado en un pensamiento de globalidad mundial\, pero los nacionalismos se acogen en la recuperación de esas señas de identidad y las raíces históricas de cada nación o territorio. Buena parte de los países europeos tienen algún movimiento nacionalista independentista. Francia y España son los países europeos con mayor número de nacionalismos. Algunos solo piden más autonomía y otros directamente la independencia. El último caso ha sido el de Gran Bretaña y su famoso Brexit. \nLa entrada es gratuita hasta completar aforo.
URL:https://historico.ateneovalencia.es/evento/sensus-communis-europa-y-los-nacionalismos-2a-parte/
LOCATION:Sala de Juntas - Ateneo Mercantil de Valencia\, Plaza del Ayuntamiento 18\, Valencia\, Valencia\, 46002\, España
CATEGORIES:Sensus Communis
ATTACH;FMTTYPE=image/jpeg:https://historico.ateneovalencia.es/wp-content/uploads/2016/10/Sensus-Communis-Europa-y-los-Nacionalismos.jpg
END:VEVENT
BEGIN:VEVENT
DTSTART;TZID=Europe/Madrid:20170309T213000
DTEND;TZID=Europe/Madrid:20170309T233000
DTSTAMP:20260421T152110
CREATED:20170308T105718Z
LAST-MODIFIED:20181217T072915Z
UID:20716-1489095000-1489102200@historico.ateneovalencia.es
SUMMARY:Entrega del XIII Premio Distinción Enrique Mora Guillén al torero Andrés Roca Rey
DESCRIPTION:La Tertulia Taurina del Ateneo Mercantil entrega el XIII Premio Distinción Enrique Mora Guillén al torero peruano\, André Roca Rey\, como triunfador de la Temporada Taurina 2016 en Valencia\, ya que fue el mejor en la Feria de Fallas y en la Feria de Julio. A sus 20 años de edad\, Roca Rey\, recibe la más alta distinción de la Tertulia Taurina de nuestra institución\, cogiendo el testifo de Sebastián Castella. En honor al torero peruano\, se ofrece a las 21.30 horas una cena en el restaurante del Ateneo Mercantil en la que se le harán todos los honores al ser el mejor matador de toros de la pasada temporada en Valencia. \nAndrés Roca Rey regresa a Valencia tras su exitoso año 2016 en donde fue el mejor en Fallas y en la Feria de Julio y lo hace tras su exito en Oliveza. Procedente de una familia torera\, ya que su hermano Fernando es matador de toros\, su tío José Antonio fue rejoneador\, su abuelo fue administrador de la plaza de toros de Acho y al resto de familiares les une un gran pasión y afición por el mundo del toro. le llamaban El Andi.
URL:https://historico.ateneovalencia.es/evento/entrega-del-xiii-premio-distincion-enrique-mora-guillen-al-torero-andres-roca-rey/
LOCATION:Restaurante - Ateneo Mercantil de Valencia\, Plaza del Ayuntamiento 18\, Valencia\, Valencia\, 46002\, España
CATEGORIES:Tertulia Taurina
ATTACH;FMTTYPE=image/jpeg:https://historico.ateneovalencia.es/wp-content/uploads/2017/03/20170309-Roca-Rey-Entrega-Trofeo-Distincion.jpg
END:VEVENT
BEGIN:VEVENT
DTSTART;TZID=Europe/Madrid:20170328T193000
DTEND;TZID=Europe/Madrid:20170328T193000
DTSTAMP:20260421T152110
CREATED:20170324T103959Z
LAST-MODIFIED:20170324T103959Z
UID:22300-1490729400-1490729400@historico.ateneovalencia.es
SUMMARY:Foro Vinatea Ateneo: Presentació de la Segona Edició del Diccionari General de la Llengua Valenciana
DESCRIPTION:Volem comunicar a tots els nostres socis i amics un important event cultural que tindrà lloc el dimarts 28 de març a les 19.30 hores en el nostre Saló Stolz. \nUna fita històrica per a la cultura i la llengua valenciana\, la presentació de la segona edició del DICCIONARI GENERAL DE LA LLENGUA VALENCIANA. \nUna obra fonamental per a una de les nostres senyes d’identitat més importants\, l’idioma valencià. \nLa nostra entitat ya tingué l’orgull d’acollir la presentació de la primera edició\, el 20 de decembre de 2010. I ara novament nos enorgullim de presentar la segona edició\, corregida\, ampliada i actualisada\, gràcies al mecenage de l’Associació Cultural per al Patronat de la Real Acadèmia de Cultura Valenciana\, que ha impulsat i finançat el proyecte. \nPer això\, des de l’Ateneu volem donar el màxim recolzament a obres com estes que ajuden a dignificar l’idioma valencià i a la cultura valenciana en general. \nNo és un Diccionari més\, és el Diccionari de\, i per a\, la llengua valenciana. \nDe l’importància del contengut i de lo que atesora en les seues vora tresmil pàgines en dos volums\, mostrem un eixemple a continuació d’unes quantes paraules\, en les que se nos oferix l’ètim del que prové la paraula\, la seua definició\, locucions comunes en eixa paraula\, aixina com refrans en els que s’utilisa: \ncalaix\, -xos. (Del grec κάλαθος\, panereta.) s. m. Receptàcul o caixó que es pot ficar i traure d’una taula\, armari\, etc.\, i que servix per a guardar coses dins. // Diners que es guanyen en un establiment en un dia\, una semana\, un més\, etc. // Calaix de sastre\, loc. Moltes coses juntes i diverses. \nref. Carrer banyat\, calaix eixut. \ndarrere. (Del llatí de retro\, mat. sign.) adv. Part posterior d’un objecte o part d’est objecte oposta a la cara. // Parlar d’algú per darrere\, parlar sobre una persona absent i normalment censurant-lo. // Qui vinga darrere que arree\, loc. Se diu quan algú fa alguna cosa sense pensar que pot perjudicar o crear problemes als atres: Acabarem en els recursos naturals i qui vinga darrere que arree. \nref. Animal que no conegues\, no li vages per darrere. Anem anant\, uns darrere i uns atres davant.  \nidea\, -ees. (Del llatí idea\, mat. sign.) s. f. Concepció bàsica\, concepte general d’una cosa. // Intenció de realisar alguna cosa\, pla\, propòsit d’acció; pretensió// Mala idea\, mala intenció. // Mania\, enrònia. // Idea fixa\, obsessió. // Part imprescindible o fonamental d’una corrent\, d’un raonament\, etc. // Ocurrència. // Ingeni per a organisar\, per a crear\, per a resoldre dificultats\, etc. // No tindre ni idea\, loc. Desconéixer completament. // Fer-se a l’idea\, loc. Acceptar una cosa. // En idea de\, loc. En intenció de. \npalleter\, -ra\, -rs\, -res. s. m. Que trafica en palla. // Venedor de palletes. // El palleter\, en Valéncia es feu famós Vicent Doménech el Palleter\, qui en l’any 1808 arborà la seua faixa en una canya i\, posant-se dret damunt d’una cadira al mig de la placeta de les panses declarà la guerra a Napoleó. // Per extensió\, líder\, patriota: Els valencians necessitem un palleter que nos desperte el sentiment patriòtic. \nturc\, -ca\, -cs\, -rques. (De l’àrap turk\, mat. sign.) adj. m. Natural o propi de Turquia. // s. Llengua de Turquia. // coloq. f. Borrachera. // El gran turc\, nom que rebia antigament el sobirà de Turquia. // Cap de turc\, loc. Persona a la qual se li atribuïxen totes les culpes\, per a lliurar-se unes atres. \nref. Febreret el curt\, pijor que el turc.  \nEste Diccionari és el fruit del treball d’onze anys del Doctor en Filologia Voro López Verdejo\, que ha contat en l’ajuda inestimable d’informants de tot el territori valencià\, aixina com d’un equip de colaboradors. \nL’autor nos presentarà l’obra\, fent una síntesis de l’interessantíssim pròlec que obri el Diccionari i en el que se detalla l’importància històrica i rellevància llingüística de la llengua valenciana. \nSe pot realisar la reserva de l’obra en una gran oferta\, puix els dos volums eixiran com en la primera edició a un preu de 60€ en comerç\, pero per mig de la pre-reserva es conseguix a un preu de 40€\, ademés d’assegurar-se l’obtenció directa. \nPer a realisar la reserva s’ha d’ingressar la cantitat de 40€ en el concepte de “Diccionari” en el número de conte (si es vol més d’u es multiplicarà la cantitat pel número d’eixemplars): \nES90 2100 7012 5322 0003 2269\nPosant-se en contacte en el teléfon: 649 850 621 - 744 46 25 80\, o be per email: patronat.racv@gmail.com se concretarà l’enviament o arreplegada. \nCridem a tots els valencians a estar units i al costat de la nostra llengua i cultura\, les nostres senyes d’identitat històriques i patrimonials\, el nostre llegat adquirit i que estem obligats a transmetre.
URL:https://historico.ateneovalencia.es/evento/foro-vinatea-ateneo-presentacio-de-la-segona-edicio-del-diccionari-general-de-la-llengua-valenciana/
LOCATION:Salón Stolz - Ateneo Mercantil de Valencia\, Plaza del Ayuntamiento\, 18\, Valencia\, España\, Valencia\, Valencia\, 46002\, España
CATEGORIES:Foro Vinatea
ATTACH;FMTTYPE=image/jpeg:https://historico.ateneovalencia.es/wp-content/uploads/2017/03/20170328-Foro-Vinatea-Presentacion-Diccionario.jpg
END:VEVENT
BEGIN:VEVENT
DTSTART;TZID=Europe/Madrid:20170330T193000
DTEND;TZID=Europe/Madrid:20170330T210000
DTSTAMP:20260421T152110
CREATED:20170313T104241Z
LAST-MODIFIED:20170313T104241Z
UID:21507-1490902200-1490907600@historico.ateneovalencia.es
SUMMARY:Foro Sensus Communis: "Los tratados de libre comercio entre Europa y Norteamérica"
DESCRIPTION:El Foro Sensus Communis regresa cargado de actualidad gracias a la ponencia que la profesora titular de Derecho del Trabajo de Universidad de Valencia\, Adoración Guamán\, realizará sobre los Tratados de Libre Comercio entre Europa y Norteamérica. El TTIP con Estados Unidos y el CETA con Canadá. \nPero la firma de los tratados internacionales\, que pretenden establecer nuevas normas reguladoras del comercio internacional y la inversión entre la Unión Europea y Estados Unidos (TTIP)\, y entre la Unión Europea y Canadá (CETA)\, está provocando estas semanas múltiples y diferentes reacciones en los distintos estratos sociales y políticos de nuestro entorno actual\, aunque son proyectos originados en 2013. \nEl objetivo final de ambos acuerdos es lograr que las normas que regulan actualmente el comercio internacional entre esos tres grandes bloques económicos mundiales sean más homogéneas entre todos los países firmantes. De esta manera\, las barreras que diferencian el comercio nacional del internacional se reducirían. Existen diferencias entre el comercio dentro del territorio de un país frente al comercio internacional\, ya que en el interior de un país existe una normativa legal común que facilita el tráfico de mercancías. \nLos países acuerdan igualar sus normativas de entrada y salida de bienes\, servicios e inversiones\, para reducir esas barreras\, y de paso incrementar el tráfico de la actividad económica entre los países\, y el comercio internacional se facilitará e incrementará.
URL:https://historico.ateneovalencia.es/evento/foro-sensus-communis-los-tratados-de-libre-comercio-entre-europa-y-norteamerica/
LOCATION:Sala de Juntas - Ateneo Mercantil de Valencia\, Plaza del Ayuntamiento 18\, Valencia\, Valencia\, 46002\, España
CATEGORIES:Sensus Communis
ATTACH;FMTTYPE=image/jpeg:https://historico.ateneovalencia.es/wp-content/uploads/2017/03/TTIP-CETA.jpg
END:VEVENT
END:VCALENDAR