BEGIN:VCALENDAR
VERSION:2.0
PRODID:-//Ateneo Mercantil de Valencia - ECPv6.0.4//NONSGML v1.0//EN
CALSCALE:GREGORIAN
METHOD:PUBLISH
X-ORIGINAL-URL:https://historico.ateneovalencia.es
X-WR-CALDESC:Eventos para Ateneo Mercantil de Valencia
REFRESH-INTERVAL;VALUE=DURATION:PT1H
X-Robots-Tag:noindex
X-PUBLISHED-TTL:PT1H
BEGIN:VTIMEZONE
TZID:Europe/Madrid
BEGIN:DAYLIGHT
TZOFFSETFROM:+0100
TZOFFSETTO:+0200
TZNAME:CEST
DTSTART:20170326T010000
END:DAYLIGHT
BEGIN:STANDARD
TZOFFSETFROM:+0200
TZOFFSETTO:+0100
TZNAME:CET
DTSTART:20171029T010000
END:STANDARD
END:VTIMEZONE
BEGIN:VEVENT
DTSTART;TZID=Europe/Madrid:20170206T190000
DTEND;TZID=Europe/Madrid:20170206T190000
DTSTAMP:20260421T212547
CREATED:20170117T175529Z
LAST-MODIFIED:20170117T175529Z
UID:19034-1486407600-1486407600@historico.ateneovalencia.es
SUMMARY:Tertulia Histórica: "Literatura de Tipo Tradicional. Otra Historia"
DESCRIPTION:En una nueva cita de la Tertulia Histórica\, la ponente Dª Pascuala Morote\, Catedrática de la Universidad de Valencia\, nos hablará de la Literatura de Tipo Tradicional\, que son historias transmitidas de forma oral por diversas generaciones. \nLa literatura de tipo tradicional u oral no se puede abordar desde un enfoque histórico como la de autor\, ya que en cada época\, las costumbres\, acontecimientos\, creencias\, etc.\,  se mantienen  en la memoria de las gentes y se transmiten de generación en generación a través de la palabra hablada. Los recuerdos evocan circunstancias personales e históricas\,  que cada informante cuenta\, recita o canta según lo han escuchado.
URL:https://historico.ateneovalencia.es/evento/tertulia-historica-literatura-de-tipo-tradicional-otra-historia/
LOCATION:Salón Sorolla - Ateneo Mercantil de Valencia\, Plaza del Ayuntamiento 18\, Valencia\, Valencia\, 46002\, España
CATEGORIES:Tertulia Histórica
ATTACH;FMTTYPE=image/jpeg:https://historico.ateneovalencia.es/wp-content/uploads/2017/01/20170206-Tertulia-Historica-Literatura-Tipo-Tradicional.jpg
END:VEVENT
BEGIN:VEVENT
DTSTART;TZID=Europe/Madrid:20170209T193000
DTEND;TZID=Europe/Madrid:20170209T210000
DTSTAMP:20260421T212547
CREATED:20170112T090140Z
LAST-MODIFIED:20170112T090140Z
UID:18873-1486668600-1486674000@historico.ateneovalencia.es
SUMMARY:Sensus Communis: "El problema de la partitocracia"
DESCRIPTION:Nueva cita con el Foro Sensus Communis\, esta vez en el Salón Sorolla de la Entidad el próximo día 9 de febrero a las 19:30 horas. En esta ocasión\, el invitado será el Dr. Guillermo Gortázar\, Doctor en Historia y Profesor de la Universidad Nacional de Educación  a Distancia\, que nos contará "El problema de la partitocracia" en España. \nA finales de 2015\, cerca de nueve millones de españoles (un 34 % de los votantes) han dado la espalda a los partidos que han gestionado el régimen de la Transición de 1978. Poco antes\, la manifestación más clara de la crisis política fue la abdicación de S.M. el Rey Juan Carlos I\, cuyo significado profundo responde a un agotamiento de la elite gestora del régimen constitucional de 1978\, sobre todo la de los años 80 y 90 del pasado siglo. En opinión de autor\, inicialmente la UCD\, y después el PSOE y el PP\, en lugar de desarrollar y habilitar la monarquía parlamentaria\, tal y como dispone la Constitución\, han construido un Estado de partidos\, una partidocracia\, que es lo que está en crisis. \nLos salones en los siglos XVIII y XIX eran lugares de encuentro en los que se debatía y socializaba. Allí se podían expresar con libertad opiniones de todo tipo\, hasta que los ateneos y el parlamentarismo en el siglo XIX arrebataron aquel protagonismo en el uso ordenado de la palabra en libertad en el salón de sesiones. Después de hacer un recorrido por las revoluciones americana\, francesa y rusa\, este libro se centra en la historia política de España en el siglo XX. El autor expone numerosos ejemplos de historia y se centra en los hechos más relevantes de nuestra historia política con la finalidad de suministrar argumentos para el debate político iniciado en España en 2015. \nGuillermo Gortázar Echeverría (Vitoria 1951). Es Licenciado en Historia y en Derecho por la Universidad Complutense de Madrid en 1975; en 1978 ganó la cátedra de Instituto. Becario de la Fundación Fulbright en 1980-1982\, obtuvo el Máster en Historia (MA) en la Universidad de California\, la Jolla. Doctor en Historia «cum laude» en la Universidad Complutense en 1985; Profesor Titular de Historia Contemporánea\, UNED\, 1986. \nDiputado en el Congreso\, en las Legislaturas V\, VI y VII\, (1993-2001). El 9 de febrero de 2002 el Gobierno de España le concedió la Gran Cruz de la Orden del Mérito Civil. Autor del libro «Alfonso XIII\, hombre de negocios» (Madrid\, 1986) y «Cuba: camino de libertad» (Madrid\, 2013). Ha publicado más de un centenar de libros\, artículos y ensayos dedicados a temas de Historia y Política.
URL:https://historico.ateneovalencia.es/evento/sensus-communis-el-problema-de-la-partitocracia/
LOCATION:Salón Sorolla - Ateneo Mercantil de Valencia\, Plaza del Ayuntamiento 18\, Valencia\, Valencia\, 46002\, España
CATEGORIES:Sensus Communis
ATTACH;FMTTYPE=image/jpeg:https://historico.ateneovalencia.es/wp-content/uploads/2017/01/20170209-Sensus-Communis-El-problema-de-la-partitocracia.jpg
END:VEVENT
BEGIN:VEVENT
DTSTART;TZID=Europe/Madrid:20170213T190000
DTEND;TZID=Europe/Madrid:20170213T190000
DTSTAMP:20260421T212547
CREATED:20170117T122016Z
LAST-MODIFIED:20170119T131646Z
UID:19012-1487012400-1487012400@historico.ateneovalencia.es
SUMMARY:Tertulia Histórica: "María de Castilla\, Reina de Aragón"
DESCRIPTION:El lunes\, día 13 de febrero de 2017 tendrá lugar en el Salón Sorolla una nueva entrega de la Tertulia Histórica. En esta ocasión\, la ponente Lola Pardo\, nos hablará de María de Castilla\, Reina de Aragón. \nMaría de Castilla nació en Segovia el 1 de septiembre de 1401\, falleciendo en Valencia el 4 de octubre de 1458. Infanta de Castilla\, Princesa de Asturias (1402-1405) y reina de Aragón (1416-1458). Primera hija de Enrique III «el Doliente» y de Catalina de Lancáster y hermana de Juan II. \nNacida en la ciudad de Segovia\, María fue la mayor de los hijos del rey Enrique III y la reina Catalina de Lancáster. Su madrina fue la tía de su madre\, María de Ayala\, monja e hija ilegítima del rey Pedro I de Castilla. Creció en una residencia completamente regida por castellanos\, en donde vivió hasta el momento de su matrimonio\, lo cual era inusual para una infanta destinada a casarse con un príncipe extranjero. Su educación estuvo a cargo del Gran Senescal del reino\, Pedro González de Mendoza\, mientras que su gobernanta fue Inés de Ayala y Toledo\, 3ra Señora de Casarrubios del Monte. Como hija primogénita\, María fue investida con el título de Princesa de Asturias\, reservado para el primero en la línea de sucesión. Su padre la hizo jurar heredera presunta del reina en las Cortes de Toledo el 6 de enero de 1402\, siendo al mismo tiempo comprometida con su primo-hermano Alfonso\, hijo de su tío paterno Fernando\, como una forma de reforzar sus derechos sucesorios. El nacimiento de su hermano Juan (futuro rey) en 1405 la desplazó de la sucesión; desde ese momento\, ella fue sólo Infanta. \nSu infancia fue muy feliz\, de acuerdo a las crónicas contemporáneas; la fragilidad de su salud no fue evidente hasta el momento de su matrimonio. Su padre murió cuando ella tenía cuatro años\, dejando la corona a su hermano Juan II\, haciéndola heredera nuevamente. Su madre\, la reina Catalina\, gobernó el reino de Castilla como Regente durante la minoridad de su hijo y la Infanta pudo observa las capacidades de la reina en la labor gubernamental. Las acciones políticas de la Reina-Regente hicieron que posteriormente María fuera muy consciente de sus responsabilidades y prerrogativas como reina y como regente\, que se confirmarían al entregársele el antiguo Señorío de Villena\, a modo de Ducado de Villena\, entre 1409 y 1415. Madre e hija fueron muy unidas y mantuvieron una frecuente correspondencia tras del matrimonio de la Infanta. \nEl compromiso entre María y Alfonso no fue formalizado hasta que ella cumplió los siete años de edad\, aunque fue reconfirmado por el rey Enrique III en sus últimas voluntades y testamento. En el mismo acuerdo\, se pactan otras dos alianzas nupciales: entre el hermano de María\, Juan II y la hermana de Alfonso\, María\, y entre la hermana menor de María\, Catalina\, con el hermano de Alfonso\, Enrique. El matrimonio entre María y Alfonso se celebra en la Catedral de Valencia el 12 de octubre de 1415. La ceremonia fue oficiada por el anti-papa Benedicto XIII\, el cual también otorga la dispensa matrimonial para el enlace. María recibió una espléndida dote consistente en tierras y rentas\, a la vez que Alfonso era elevado al rango de Infante de Castilla. El rey Juan II luego se quejaría de que la dote de su hermana era demasiado grande y que en verdad era la más grande jamás recibida por alguna Infanta de Castilla. Un año después\, en 1416\, su marido fue coronado Rey de la Corona de Aragón\, subiendo al trono como Alfonso V. \nLas disputas familiares eran constantes gracias a las políticas de sus suegros\, los reyes de Aragón Fernando y Leonor Urraca. Los Infantes de Aragón\, sus cuñados Enrique\, Pedro y especialmente el intrigante Juan fueron extremadamente problemáticos e impertinentes durante la regencia de María. \nMaría tenía una salud delicada; posiblemente ella padecía de epilepsia. Un brote de viruela la dejó con cicatrices permanentes y sin atractivo. No tuvo su primera menstruación hasta los dieciséis años\, por lo que la consumación de su matrimonio fue postergada hasta entonces; no tuvo hijos. Su unión fue simplemente política sin ninguna clase de afecto. Los pocos momentos felices que tuvo en su matrimonio tuvieron lugar durante los primeros años. La falta de descendencia afecto grandemente su matrimonio y el reinado de Alfonso V. La relación entre ambos empieza a deteriorarse visiblemente desde 1423\, luego del retorno de Alfonso V de Nápoles y al enterarse de que la amante italiana de su marido\, Giraldona Carlino\, le había dado un hijo\, Fernando. Terriblemente herida por su infidelidad\, María le informa falsamente a su marido de que su madre había muerto con el propósito de herirlo. El divorcio no era una opción y la pareja permaneció unida sólo por conveniencia. \nDurante los años 1420 y 1423 y a causa de las largas ausencias de Alfonso V tuvo que actuar como lugarteniente general de Aragón entre los años 1432 y 1458.
URL:https://historico.ateneovalencia.es/evento/tertulia-historica-maria-de-castilla-reina-de-aragon/
LOCATION:Salón Sorolla - Ateneo Mercantil de Valencia\, Plaza del Ayuntamiento 18\, Valencia\, Valencia\, 46002\, España
CATEGORIES:Tertulia Histórica
ATTACH;FMTTYPE=image/jpeg:https://historico.ateneovalencia.es/wp-content/uploads/2017/01/20170213-Tertulia-Historica-Maria-de-Castilla-Reina-Aragon.jpg
END:VEVENT
BEGIN:VEVENT
DTSTART;TZID=Europe/Madrid:20170214T193000
DTEND;TZID=Europe/Madrid:20170214T193000
DTSTAMP:20260421T212547
CREATED:20170203T074553Z
LAST-MODIFIED:20170213T124527Z
UID:19336-1487100600-1487100600@historico.ateneovalencia.es
SUMMARY:Foro Vinatea Ateneo: "La Llengua Valenciana\, una Constant Històrica"
DESCRIPTION:El próximo 14 de febrero\, a las 19:30 horas en el Salón Stolz\, tenemos una nueva conferencia del Foro Vinatea Ateneo. Esta vez\, D. Oscar Rueda Pitarque\, ingenier\, professor de Llengua Valenciana y Vicepresident de Lo Rat Penat nos hablará de "La Llengua Valenciana\, una Constant Històrica". \nLa entrada es libre hasta completar aforo.
URL:https://historico.ateneovalencia.es/evento/foro-vinatea-ateneo-la-llengua-valenciana-una-constant-historica/
LOCATION:Salón Stolz - Ateneo Mercantil de Valencia\, Plaza del Ayuntamiento\, 18\, Valencia\, España\, Valencia\, Valencia\, 46002\, España
CATEGORIES:Foro Vinatea
ATTACH;FMTTYPE=image/jpeg:https://historico.ateneovalencia.es/wp-content/uploads/2017/02/20170214-Foro-Vinatea-Oscar-Rueda-Pitarque.jpg
END:VEVENT
BEGIN:VEVENT
DTSTART;TZID=Europe/Madrid:20170220T190000
DTEND;TZID=Europe/Madrid:20170220T190000
DTSTAMP:20260421T212547
CREATED:20170202T124459Z
LAST-MODIFIED:20170220T065414Z
UID:19330-1487617200-1487617200@historico.ateneovalencia.es
SUMMARY:Ciclo Otras Tertulias: "La intervención de los ciudadanos en la Administración de Justicia"
DESCRIPTION:El próximo 20 de febrero de 2017\, a las 19:00 horas\, tenemos una nueva cita del Ciclo Otras Tertulias. En esta ocasión\, el expresidente del Tribunal Superior de Justicia de la Comunidad Valenciana y socio de nuestro Ateneo\, D. Juan Luis de la Rua Moreno\, nos hablará sobre La intervención de los ciudadanos en la Administración de Justicia.  \nTodo los ciudadanos hablan sobre la justicia pero en las encuestas oficiales el 86% de los mismos reconocen que desconocen el funcionamiento de la misma. D. Juan Miguel\, con su experiencia\, nos resolverá a los asistentes muchas incognitas al respecto\, pudiendo posteriormente en el debate resolver las dudas particulares. Todo ello\, nos lo contará de una forma clara y amena el ponente.
URL:https://historico.ateneovalencia.es/evento/ciclo-otras-tertulias-la-intervencion-de-los-ciudadanos-en-la-administracion-de-justicia/
LOCATION:Salón Sorolla - Ateneo Mercantil de Valencia\, Plaza del Ayuntamiento 18\, Valencia\, Valencia\, 46002\, España
CATEGORIES:Ciclo Otras Tertulias
ATTACH;FMTTYPE=image/jpeg:https://historico.ateneovalencia.es/wp-content/uploads/2017/02/20170220-Otras-Tertulias-Tribunal-Superior-Justicia.jpg
END:VEVENT
END:VCALENDAR