BEGIN:VCALENDAR
VERSION:2.0
PRODID:-//Ateneo Mercantil de Valencia - ECPv6.0.4//NONSGML v1.0//EN
CALSCALE:GREGORIAN
METHOD:PUBLISH
X-ORIGINAL-URL:https://historico.ateneovalencia.es
X-WR-CALDESC:Eventos para Ateneo Mercantil de Valencia
REFRESH-INTERVAL;VALUE=DURATION:PT1H
X-Robots-Tag:noindex
X-PUBLISHED-TTL:PT1H
BEGIN:VTIMEZONE
TZID:Europe/Madrid
BEGIN:DAYLIGHT
TZOFFSETFROM:+0100
TZOFFSETTO:+0200
TZNAME:CEST
DTSTART:20160327T010000
END:DAYLIGHT
BEGIN:STANDARD
TZOFFSETFROM:+0200
TZOFFSETTO:+0100
TZNAME:CET
DTSTART:20161030T010000
END:STANDARD
END:VTIMEZONE
BEGIN:VEVENT
DTSTART;TZID=Europe/Madrid:20161212T173000
DTEND;TZID=Europe/Madrid:20161213T190000
DTSTAMP:20260422T155152
CREATED:20161116T072312Z
LAST-MODIFIED:20161129T110632Z
UID:17105-1481563800-1481655600@historico.ateneovalencia.es
SUMMARY:Tertulia Histórica: El Conde-duque de Olivares
DESCRIPTION:Atención Horario:\nLunes 12/12/2016 a las 17:30 horas\nMartes 13/12/2016 a las 19:00 horas\nLa ponente\, Dña. MARÍA VICTORIA RODRÍGUEZ\, trae hasta el Salón Sorolla la figura del 'Conde-duque de Olivares' en la Tertulia Histórica. Es maquiavélico\, inteligente y un experto en atesorar propiedades para su propia hacienda. Hoy en día\, el Conde Duque de Olivares es un personaje venerado y maltratado por igual por los libros de Historia. Aunque trató de llevar a cabo grandes avances políticos\, económicos y sociales en la España del s.XVII\, éstos no fueron vistos con buenos ojos por determinadas regiones de España. \nA su vez\, las intrigas palaciegas de las que fue protagonista y haber sido seleccionado a dedo por el monarca tampoco le ayudaron en su carrera política. Con todo\, a día de hoy es imposible separar su figura de la Historia de España ya que\, en su labor como valido\, representó a uno de los monarcas españoles más destacables y cultos de la época durante una buena parte de su vida.
URL:https://historico.ateneovalencia.es/evento/tertulia-historica-el-conde-duque-de-olivares/
LOCATION:Salón Sorolla - Ateneo Mercantil de Valencia\, Plaza del Ayuntamiento 18\, Valencia\, Valencia\, 46002\, España
CATEGORIES:Tertulia Histórica
ATTACH;FMTTYPE=image/jpeg:https://historico.ateneovalencia.es/wp-content/uploads/2016/11/Conde-duqueOlivares_Portada.jpg
END:VEVENT
BEGIN:VEVENT
DTSTART;TZID=Europe/Madrid:20161215T193000
DTEND;TZID=Europe/Madrid:20161215T193000
DTSTAMP:20260422T155152
CREATED:20161205T101547Z
LAST-MODIFIED:20161205T101547Z
UID:17795-1481830200-1481830200@historico.ateneovalencia.es
SUMMARY:Foro Vinatea Ateneo: Conferencia "La población valenciana y su lengua después de la conquista de Jaime I"
DESCRIPTION:El próximo 15 de diciembre tenemos una nueva entrega del Foro d'Opinió Vinatea Ateneo en la que podremos disfrutar de la conferencia "La población valenciana y su lengua después de la conquista de Jaime I"\, enmarcada en reforzar el origen del valenciano como lengua independiente y propia de los valencianos.. La ponente encargada de dirigir la conferencia será Dª Amparo Cabanes Pecourt\, Catedrática de Paleografía e Historia y Ex Consellera de Educación de la Comunidad Valenciana. \nLa teoría de que la Lengua Valenciana es una lengua importada por los repobladores catalanes después de la conquista jaimina\, favorecidos por el vacío poblacional provocado por la misma es totalmente incorrecta. Valencia no se vació\, los catalanes no fueron mayoría y los valencianos perseverantes y los restantes repobladores no eran mudos . Puntos a seguir en este análisis son: \n\nEl vacío demográfico\nLa repoblación del territorio\nLa lengua en uso\n\nEl vacío demográfico no fue tal como atestiguan las cartas concedidas a los musulmanes\, la existencia de morerías urbanas y la presencia de mozárabes. \nLa repoblación del territorio demuestra a nivel regnícola una mayor abundancia de feudos eclesiástico y señoriales aragoneses y\, respecto al origen de repobladores propiamente dichos\, el único caso fiable es el de la capital valenciana\, del que se conoce número de casas\, nombre de concejos presentes y número de los miembros de los mismos que tomaron posesión de los inmuebles recibidos. \nEl resultado del recuento de repobladores por entidades políticas es desalentador pues en ningún caso alcanza el 20%\, mientras que el 47% se quedó vacío. \nCabe la posibilidad de que parte de ese 47% volviera a ser recuperado por sus antiguos dueños a partir de 1243\, cuando Jaime I dispuso que los judíos y musulmanes bautizados libremente recuperaran sus bienes. \nLa lengua en uso es el romance valenciano atestiguado ya en la década de los sesenta con el siguiente calendario: 1261 aprobación por las Cortes Valenciana de la traducción de los Fueros al romance\, en lo que se incluye la obligación de los jueces de sentenciar en romance y en la misma lengua den las sentencias a las partes. 1263-1265 el Llibre de Corts de Justicia de Alcoy es el primer testimonio del cumplimiento del Fuero. 1264\, el rey reitera la obligación de sentenciar en romance. 1269 y 1280 los Llibre de Corts de Justicia de Cocentaina y Valencia siguen cumpliendo la orden real hasta final de siglo. \nEste uso del romance hace evidente el empleo del romance valenciano por todo el pueblo que\, en caso contrario\, no permitiría ser legislado\, juzgado y sentenciado en esa lengua extraña. \nEn conclusión: si la Lengua Valenciana no fue producto del impacto colonizador\, solo la población musulmana\, convertida o no\, desempeñó un papel importante en su formación. Hay que recordar que gran parte de la misma era heredera de la antigua población hispano-romana\, luego visigoda\, que hablaba latín y que durante el periodo de invasión musulmana evolucionó al romance propio en diacronía con los restantes romances peninsulares.
URL:https://historico.ateneovalencia.es/evento/foro-vinatea-ateneo-conferencia-la-poblacion-valenciana-y-su-lengua-despues-de-la-conquista-de-jaime-i/
LOCATION:Sala de Exposiciones - Ateneo Mercantil de Valencia\, Plaza del Ayuntamiento\, 18\, Valencia\, España\, Valencia\, Valencia\, 46002\, España
CATEGORIES:Foro Vinatea
ATTACH;FMTTYPE=image/jpeg:https://historico.ateneovalencia.es/wp-content/uploads/2016/12/20161215-Foro-Vinatea-Ateneo-Amparo-Cabanes.jpg
END:VEVENT
BEGIN:VEVENT
DTSTART;TZID=Europe/Madrid:20161219T173000
DTEND;TZID=Europe/Madrid:20161219T190000
DTSTAMP:20260422T155152
CREATED:20161116T065339Z
LAST-MODIFIED:20161123T140325Z
UID:17099-1482168600-1482174000@historico.ateneovalencia.es
SUMMARY:Ciclo Otras Tertulias: "¿Cómo funciona y para qué sirve el Espacio?
DESCRIPTION:Tertulia muy interesante\, que correrá a cargo del Ingeniero en Propulsión Espacial francés\, D. Jean-Claude Sylvestre\, que acercará un tema desconocido para todos como es el del Espacio\, como funciona y para que sirve. \nDurante la tertulia nos explicará los principios por los cuales el cohete ARIANE puede ir al espacio y lanzar satélites en órbita. \nVeremos varios ejemplos de aplicaciones en el espacio referentes a los satélites de observación de la tierra\, la estación espacial internacional (ISS) y sobre el descubrimiento y los viajes hacia nuestro sistema solar (Marte \,Titano....)
URL:https://historico.ateneovalencia.es/evento/ciclo-otras-tertulias-como-funciona-y-para-que-sirve-el-espacio/
LOCATION:Salón Sorolla - Ateneo Mercantil de Valencia\, Plaza del Ayuntamiento 18\, Valencia\, Valencia\, 46002\, España
CATEGORIES:Ciclo Otras Tertulias
ATTACH;FMTTYPE=image/jpeg:https://historico.ateneovalencia.es/wp-content/uploads/2016/11/20161219-Ciclo-Otras-Tertulias-Espacio.jpg
END:VEVENT
END:VCALENDAR