BEGIN:VCALENDAR
VERSION:2.0
PRODID:-//Ateneo Mercantil de Valencia - ECPv6.0.4//NONSGML v1.0//EN
CALSCALE:GREGORIAN
METHOD:PUBLISH
X-ORIGINAL-URL:https://historico.ateneovalencia.es
X-WR-CALDESC:Eventos para Ateneo Mercantil de Valencia
REFRESH-INTERVAL;VALUE=DURATION:PT1H
X-Robots-Tag:noindex
X-PUBLISHED-TTL:PT1H
BEGIN:VTIMEZONE
TZID:Europe/Madrid
BEGIN:DAYLIGHT
TZOFFSETFROM:+0100
TZOFFSETTO:+0200
TZNAME:CEST
DTSTART:20160327T010000
END:DAYLIGHT
BEGIN:STANDARD
TZOFFSETFROM:+0200
TZOFFSETTO:+0100
TZNAME:CET
DTSTART:20161030T010000
END:STANDARD
END:VTIMEZONE
BEGIN:VEVENT
DTSTART;TZID=Europe/Madrid:20160922T213000
DTEND;TZID=Europe/Madrid:20160922T230000
DTSTAMP:20260425T192002
CREATED:20160922T173002Z
LAST-MODIFIED:20161010T065453Z
UID:15730-1474579800-1474585200@historico.ateneovalencia.es
SUMMARY:Sensus Communis: Europa y los Nacionalismos
DESCRIPTION:Los sentimientos nacionalistas surgen en un contexto en el que se mezcla la historia\, la lengua y la economía. Sin embargo este último factor no parece ser tan determinante\, ya que existen nacionalismos en regiones económicamente muy desarrolladas y también en regiones menos desarrolladas. \nBuena parte de los países europeos tienen algún movimiento nacionalista independentista. Francia y España son los países europeos con mayor número de nacionalismos. Algunos solo piden más autonomía y otros directamente la independencia. El último caso ha sido el de Gran Bretaña y su famoso Brexit. El Reino Unido está formado por cuatro países constituyentes: Escocia\, Gales\, Irlanda del Norte e Inglaterra. Llama la atención que cada uno de estos territorios posee movimientos nacionalistas propios\, que en muchas ocasiones son también independentistas. \nEsta interesante tertulia la desarrollará el profesor universitario Guillermo Vaastenberghe\, el próximo 22 de septiembre a las 19:30 horas en la Sala de Junta del Ateneo Mercantil. Una exquisita exposición en la que se podrán conocer más cerca esos nacionalismos que quieren tomar fuerza en una Europa cada vez más global. Cada vez más el futuro de Europa está enmarcado en un pensamiento de globalidad mundial\, pero los nacionalismos se acogen en la recuperación de esas señas de identidad y las raíces históricas de cada nación o territorio.
URL:https://historico.ateneovalencia.es/evento/sensus-communis-europa-y-los-nacionalismos/
LOCATION:Sala de Juntas - Ateneo Mercantil de Valencia\, Plaza del Ayuntamiento 18\, Valencia\, Valencia\, 46002\, España
CATEGORIES:Sensus Communis
ATTACH;FMTTYPE=image/jpeg:https://historico.ateneovalencia.es/wp-content/uploads/2016/10/Sensus-Communis-Europa-y-los-Nacionalismos.jpg
END:VEVENT
BEGIN:VEVENT
DTSTART;TZID=Europe/Madrid:20160929T220000
DTEND;TZID=Europe/Madrid:20160929T233000
DTSTAMP:20260425T192002
CREATED:20160929T180013Z
LAST-MODIFIED:20161010T070847Z
UID:15736-1475186400-1475191800@historico.ateneovalencia.es
SUMMARY:Foro Ateneo Ideas: 'Un pacto educativo entre todos'
DESCRIPTION:Regresa en este nuevo curso el Foro Ateneo Ideas con un gran debate sobre el 'Pacto Educativo entre todos' que será grabado por las cámaras de Tele7. Esta terulia estará compuesta por grandes contertulios como CARMEN PELLICER\, Experta en educación y directora de la Fundación Trilema\, NOA DE LA TORRE\, Responsable de Educación y Universidades EL MUNDO\, XIMO BATISTA\, Redactor LAS PROVINCIAS y PABLO ROVIRA\, Delegado C. Valenciana del periódico Magisterio. Lo que parece claro es que para que el sistema educativo español mejore se necesita una estrategia a largo plazo con más inversión\, universalización y políticas inclusivas.
URL:https://historico.ateneovalencia.es/evento/foro-ateneo-ideas-un-pacto-educativo-entre-todos/
LOCATION:Salón Sorolla - Ateneo Mercantil de Valencia\, Plaza del Ayuntamiento 18\, Valencia\, Valencia\, 46002\, España
CATEGORIES:Foro AteneoIDEAS
ATTACH;FMTTYPE=image/jpeg:https://historico.ateneovalencia.es/wp-content/uploads/2016/10/Foro-Ateneo-Ideas-Un-pacto-educativo-entre-todos.jpg
END:VEVENT
END:VCALENDAR