BEGIN:VCALENDAR
VERSION:2.0
PRODID:-//Ateneo Mercantil de Valencia - ECPv6.0.4//NONSGML v1.0//EN
CALSCALE:GREGORIAN
METHOD:PUBLISH
X-WR-CALNAME:Ateneo Mercantil de Valencia
X-ORIGINAL-URL:https://historico.ateneovalencia.es
X-WR-CALDESC:Eventos para Ateneo Mercantil de Valencia
REFRESH-INTERVAL;VALUE=DURATION:PT1H
X-Robots-Tag:noindex
X-PUBLISHED-TTL:PT1H
BEGIN:VTIMEZONE
TZID:Europe/Madrid
BEGIN:DAYLIGHT
TZOFFSETFROM:+0100
TZOFFSETTO:+0200
TZNAME:CEST
DTSTART:20160327T010000
END:DAYLIGHT
BEGIN:STANDARD
TZOFFSETFROM:+0200
TZOFFSETTO:+0100
TZNAME:CET
DTSTART:20161030T010000
END:STANDARD
END:VTIMEZONE
BEGIN:VEVENT
DTSTART;TZID=Europe/Madrid:20160606T220000
DTEND;TZID=Europe/Madrid:20160606T233000
DTSTAMP:20260426T050024
CREATED:20160606T180001Z
LAST-MODIFIED:20160725T082315Z
UID:11607-1465250400-1465255800@historico.ateneovalencia.es
SUMMARY:Debate: Las Fallas\, presente y futuro
DESCRIPTION:El próximo 6 de junio se desarrollará una interesante mesa redonda en el Salón Sorolla (20.00h) sobre las fiestas josefinas. El PRESENTE y FUTURO de LAS FALLAS\, a debate;  allí se hablará de todos los asuntos relacionados con la actualidad\, las inquietudes y los peligros que corren Las Fallas y del futuro que se abre en los próximos años. Imprescindible foro para Comisiones\, Federaciones y Agrupaciones falleras. Modera el debate: Jaime Bronchud. \nIntervienen en la mesa redonda: Vicente Fayos\, ex Secretario General de la Junta Central Fallera\, Cristina Estévez\, ex Vicepresidenta de la Junta Central Fallera\, Paco Romero\, Presidente de la Federación de Fallas de Primera A y Jordi Palanca\, Artista Fallero y Presidente de la Agrupación Sagunt-Quart.
URL:https://historico.ateneovalencia.es/evento/debate-las-fallas-presente-y-futuro/
LOCATION:Salón Sorolla - Ateneo Mercantil de Valencia\, Plaza del Ayuntamiento 18\, Valencia\, Valencia\, 46002\, España
CATEGORIES:Tertulias y Foros
ATTACH;FMTTYPE=image/jpeg:https://historico.ateneovalencia.es/wp-content/uploads/2016/07/Fallas_Presente_Futuro.jpg
END:VEVENT
BEGIN:VEVENT
DTSTART;TZID=Europe/Madrid:20160609T200000
DTEND;TZID=Europe/Madrid:20160609T200000
DTSTAMP:20260426T050024
CREATED:20160609T160003Z
LAST-MODIFIED:20160720T082347Z
UID:10218-1465502400-1465502400@historico.ateneovalencia.es
SUMMARY:Tertulia Histórica: “La Armada Española en el Siglo XVIII”
DESCRIPTION:Lo primero que debemos preguntarnos es: con qué medios contaba la Marina Española cuando subió al trono a los 17 años Felipe de Anyou\, nieto del rey más poderoso de Europa Luis XIV. En sus “Comentarios a la guerra de España”\, Vicente Bacallar\, marqués de San Felipe afirmaba refiriéndose a la situación militar que se encontró Felipe V a su llegada a España\, que todo presentaba un estado lamentable… Tertulia que se celebrará el jueves 9 de junio para finalizar el curso de este año de la Tertulia Histórica y que correrá a cargo de D. José Manuel Fernández García-Escudero.
URL:https://historico.ateneovalencia.es/evento/tertulia-historica-la-armada-espanola-en-el-siglo-xviii/
LOCATION:Salón Sorolla - Ateneo Mercantil de Valencia\, Plaza del Ayuntamiento 18\, Valencia\, Valencia\, 46002\, España
CATEGORIES:Tertulia Histórica
ATTACH;FMTTYPE=image/jpeg:https://historico.ateneovalencia.es/wp-content/uploads/2016/05/Armada-Española.jpg
END:VEVENT
BEGIN:VEVENT
DTSTART;TZID=Europe/Madrid:20160616T213000
DTEND;TZID=Europe/Madrid:20160616T230000
DTSTAMP:20260426T050024
CREATED:20160616T173026Z
LAST-MODIFIED:20160720T082615Z
UID:10199-1466112600-1466118000@historico.ateneovalencia.es
SUMMARY:Tertulia Taurina: ‘Plaça de Bous: Present i Futur’
DESCRIPTION:El diputado provincial de Asuntos Taurinos\, Toni Gaspar\, realiza una charla-coloquio sobre el presente y el futuro de la Plaza de Toros de Valencia\, que servirá para mostrar el nivel de trabajo y el volumen de actividades que se están desarrollando en los últimos tiempos en la ciudad; además\, de que servirá para sensibilizar y acercar más si cabe el mundo del toro y de la gestión responsable que se hace en la Plaza de Toros. Un recinto que en 2014 cambió de manos y que se explotará hasta 2018. \nEn 2014\, la Junta de Gobierno de la Diputación Provincial de Valencia aprobó en una reunión extraordinaria el pliego de condiciones por la que regía la explotación del coso del arquitecto Monleón durante los próximos cuatro años\, hasta 2018. Una “legislatura” para la nueva empresa en los nuevos tiempos. Con los votos a favor de PP y PSOE se aprobaron las condiciones del texto. La concesión será de cuatro años y dos ejercicios adicionales en caso de prórroga. El canon mínimo es de 200.000 euros.
URL:https://historico.ateneovalencia.es/evento/tertulia-taurina-placa-de-bous-present-i-futur/
LOCATION:Salón Sorolla - Ateneo Mercantil de Valencia\, Plaza del Ayuntamiento 18\, Valencia\, Valencia\, 46002\, España
CATEGORIES:Tertulia Taurina
ATTACH;FMTTYPE=image/jpeg:https://historico.ateneovalencia.es/wp-content/uploads/2016/05/Plaça-de-Bous.jpg
END:VEVENT
BEGIN:VEVENT
DTSTART;TZID=Europe/Madrid:20160616T213000
DTEND;TZID=Europe/Madrid:20160616T230000
DTSTAMP:20260426T050024
CREATED:20160616T173049Z
LAST-MODIFIED:20160720T082630Z
UID:10202-1466112600-1466118000@historico.ateneovalencia.es
SUMMARY:Sensus Communis: ‘Lo viejo y lo nuevo. La fractura de los vínculos solidarios’
DESCRIPTION:El Foro Sensus Communis trae al profesor universitario\, Joaquín Azagra\, para hablar sobre la fractura de los vínculos solidarios. Éstos constituyen la esencia de la ayuda social y las relaciones interculturales. La unión de las sociedades depende de la profundidad y amplitud de los vínculos solidarios\, así que a una mayor calidad y extensión de los vínculos solidarios\, habrá una mayor sostenibilidad social\, nacional y mundial. En el desarrollo de las sociedades son vitales también los vínculos solidarios porque actúan como el eje trasversal en todas las líneas de actuación. Se buscan relaciones más justas\, distributivas y equitativas para la presente y para futuras generaciones\, que pongan en liza la libertad y la dignidad de las personas en los procesos de autonomía y gestión de su propio desarrollo.
URL:https://historico.ateneovalencia.es/evento/sensus-communis-lo-viejo-y-lo-nuevo-la-fractura-de-los-vinculos-solidarios/
LOCATION:Sala de Juntas - Ateneo Mercantil de Valencia\, Plaza del Ayuntamiento 18\, Valencia\, Valencia\, 46002\, España
CATEGORIES:Sensus Communis
ATTACH;FMTTYPE=image/jpeg:https://historico.ateneovalencia.es/wp-content/uploads/2016/05/Lo-viejo-y-lo-nuevo.jpg
END:VEVENT
BEGIN:VEVENT
DTSTART;TZID=Europe/Madrid:20160623T213000
DTEND;TZID=Europe/Madrid:20160623T230000
DTSTAMP:20260426T050024
CREATED:20160531T043631Z
LAST-MODIFIED:20160712T094411Z
UID:10204-1466717400-1466722800@historico.ateneovalencia.es
SUMMARY:Sensus Communis: La República Popular China
DESCRIPTION:El Foro Sensus Communis acerca hasta el Ateneo Mercantil de Valencia a uno de los grandes países y potencias mundiales como China. Una cultura milenaria que cada vez se exporta más al mundo y tiene cautivados a millones de personas. La República Popular de China es el país más poblado del mundo\, con más de 1.300 millones de habitantes y es la primera potencia económica mundial por PIB en términos de paridad de poder adquisitivo. Es un estado unipartidista gobernado por el Partido Comunista y la sede de su gobierno está en la capital\, en Pekin. El país está dividido en 22 provincias\, en cinco regiones autónomas\, en cuatro municipios bajo jurisdicción central que son Pekín\, Tianjin\, Shanghái y Chongqing\, y dos regiones especiales como son Hong Kong y Macao. Vendrá a hablar de China D. José Antonio Granados Marco.
URL:https://historico.ateneovalencia.es/evento/sensus-communis-la-republica-popular-china/
LOCATION:Sala de Juntas - Ateneo Mercantil de Valencia\, Plaza del Ayuntamiento 18\, Valencia\, Valencia\, 46002\, España
CATEGORIES:Sensus Communis
ATTACH;FMTTYPE=image/jpeg:https://historico.ateneovalencia.es/wp-content/uploads/2016/05/China.jpg
END:VEVENT
END:VCALENDAR