BEGIN:VCALENDAR
VERSION:2.0
PRODID:-//Ateneo Mercantil de Valencia - ECPv6.0.4//NONSGML v1.0//EN
CALSCALE:GREGORIAN
METHOD:PUBLISH
X-WR-CALNAME:Ateneo Mercantil de Valencia
X-ORIGINAL-URL:https://historico.ateneovalencia.es
X-WR-CALDESC:Eventos para Ateneo Mercantil de Valencia
REFRESH-INTERVAL;VALUE=DURATION:PT1H
X-Robots-Tag:noindex
X-PUBLISHED-TTL:PT1H
BEGIN:VTIMEZONE
TZID:Europe/Madrid
BEGIN:DAYLIGHT
TZOFFSETFROM:+0100
TZOFFSETTO:+0200
TZNAME:CEST
DTSTART:20160327T010000
END:DAYLIGHT
BEGIN:STANDARD
TZOFFSETFROM:+0200
TZOFFSETTO:+0100
TZNAME:CET
DTSTART:20161030T010000
END:STANDARD
END:VTIMEZONE
BEGIN:VEVENT
DTSTART;TZID=Europe/Madrid:20160504T213000
DTEND;TZID=Europe/Madrid:20160504T230000
DTSTAMP:20260426T033459
CREATED:20160504T173015Z
LAST-MODIFIED:20160725T071520Z
UID:11566-1462397400-1462402800@historico.ateneovalencia.es
SUMMARY:Foro Justicia y Criminología: ‘La violencia de género’
DESCRIPTION:El Foro de Justicia y Criminología regresa con una interesante tertulia sobre la Violencia de Género que presentará y coordinará\, el criminólogo y doctor en Psicología\, D. Vicente Garrido Genovés y que contará como especialista en la materia a Dña. Rosa Guiralt\, que es la Fiscal coordinadora de violencia sobre la mujer. \nEl próximo 4 de mayo tienes una cita ineludible en el Salón Sorolla (5ª Planta). La violencia de género se ha convertido una de las mayores lacras de la sociedad.
URL:https://historico.ateneovalencia.es/evento/foro-justicia-y-criminologia-la-violencia-de-genero/
LOCATION:Salón Sorolla - Ateneo Mercantil de Valencia\, Plaza del Ayuntamiento 18\, Valencia\, Valencia\, 46002\, España
CATEGORIES:Foro Justicia y Criminología
ATTACH;FMTTYPE=image/jpeg:https://historico.ateneovalencia.es/wp-content/uploads/2016/03/violencia-de-genero.jpg
END:VEVENT
BEGIN:VEVENT
DTSTART;TZID=Europe/Madrid:20160505T213000
DTEND;TZID=Europe/Madrid:20160505T230000
DTSTAMP:20260426T033459
CREATED:20160505T173042Z
LAST-MODIFIED:20160725T072357Z
UID:11573-1462483800-1462489200@historico.ateneovalencia.es
SUMMARY:Foro Sensus Communis: “Max Aub”
DESCRIPTION:El Foro Sensus Communis regresa\, el 5 de mayo a las 19:30 horas\, en el Salón Sorolla\, con una tertulia en la que se analiza la figura de Max Aub\, escritor hispano-mexicano que vivió en Valencia al afincarse su padre en la capital del Turia en 1914\, siendo menor de edad. Intervendrá en la tertulia\, Ximo Cruz\, que es profesor de literatura.\nMax Aub es un escritor exquisito de novelas\, de Poesía y Prosa\, e hizo Teatro. Perteneció a la Generación del 27\, con cuyos miembros tenía una gran amistad. Desde 1997 se constituyó la Fundación Max Aub en Segorbe (Castellón).
URL:https://historico.ateneovalencia.es/evento/foro-sensus-communis-max-aub/
LOCATION:Salón Sorolla - Ateneo Mercantil de Valencia\, Plaza del Ayuntamiento 18\, Valencia\, Valencia\, 46002\, España
CATEGORIES:Sensus Communis
ATTACH;FMTTYPE=image/jpeg:https://historico.ateneovalencia.es/wp-content/uploads/2016/05/maxaub.jpg
END:VEVENT
BEGIN:VEVENT
DTSTART;TZID=Europe/Madrid:20160510T213000
DTEND;TZID=Europe/Madrid:20160510T230000
DTSTAMP:20260426T033459
CREATED:20160510T173012Z
LAST-MODIFIED:20160725T072730Z
UID:11575-1462915800-1462921200@historico.ateneovalencia.es
SUMMARY:Foro Vinatea: ‘La catalanización de la enseñanza en la C. Valenciana’
DESCRIPTION:Este martes regresa una nueva tertulia del Foro d’Opinió Vinatea que tratará sobre la catalanización de la educación y la enseñanza en la Comunidad Valencia. Una interesante exposición que correrá a cargo de En José María Lajara i Romance\, que es Diseñador Multimedia y Profesor de la Universidad Católica de Valencia. Parece que el discurso en la educación cada vez más extendido en la sociedad es que las señas de identidad\, la cultura y la lengua sólo se consolidan en cooperación con Cataluña\, perdiendo cada vez más las señas valencianas.
URL:https://historico.ateneovalencia.es/evento/foro-vinatea-la-catalanizacion-de-la-ensenanza-en-la-c-valenciana/
LOCATION:Salón Sorolla - Ateneo Mercantil de Valencia\, Plaza del Ayuntamiento 18\, Valencia\, Valencia\, 46002\, España
CATEGORIES:Foro Vinatea
ATTACH;FMTTYPE=image/jpeg:https://historico.ateneovalencia.es/wp-content/uploads/2016/06/20160510-LA-CATALANIZACIÓN-DE-LA-ENSEÑANZA-JOSE-MARÍA-LAJARA.jpg
END:VEVENT
BEGIN:VEVENT
DTSTART;TZID=Europe/Madrid:20160516T193000
DTEND;TZID=Europe/Madrid:20160516T213000
DTSTAMP:20260426T033459
CREATED:20160516T153006Z
LAST-MODIFIED:20160725T073945Z
UID:11582-1463427000-1463434200@historico.ateneovalencia.es
SUMMARY:Ciclo Otras Tertulias: “SERENDIPIA… Descubrimientos prodigiosos pero… CASUALES”
DESCRIPTION:Continuamos con el Ciclo Otras Tertulias con una interesante tertulia que se celebrará en el Salón Sorolla de nuestra entidad. \nMuchos de los grandes hallazgos a lo largo de la historia han sido fruto de SERENDIPIAS. \n¿Qué es una Serendipia? Son descubrimiento afortunados e inesperados\, también conocidas por este nombre\, la casualidad\, la coincidencia o un accidente. \nA lo largo de la historia se han producido grandes hallazgos en las ciencias\, en la literatura… Muchos de los grandes descubridores\, como Albert Einstein o Stevenson\, creador del personaje Dr. Jekyll y Mr. Hyde\, fueron fruto de descubrimientos accidentales. \nQuien iba a pensar que la llegada de los rayos X\, la penicilina\, el principio de Arquímedes\, los microondas\,… o la viagra se deberían a la casualidad.
URL:https://historico.ateneovalencia.es/evento/ciclo-otras-tertulias-serendipia-descubrimientos-prodigiosos-pero-casuales/
LOCATION:Salón Sorolla - Ateneo Mercantil de Valencia\, Plaza del Ayuntamiento 18\, Valencia\, Valencia\, 46002\, España
CATEGORIES:Ciclo Otras Tertulias
ATTACH;FMTTYPE=image/jpeg:https://historico.ateneovalencia.es/wp-content/uploads/2016/05/Fleming.jpg
END:VEVENT
BEGIN:VEVENT
DTSTART;TZID=Europe/Madrid:20160519T213000
DTEND;TZID=Europe/Madrid:20160519T230000
DTSTAMP:20260426T033459
CREATED:20160519T173051Z
LAST-MODIFIED:20160725T074805Z
UID:11585-1463693400-1463698800@historico.ateneovalencia.es
SUMMARY:Foro Sensus Communis: “Europa y la Unión Europea”
DESCRIPTION:Nueva reunión del Foro Sensus Communis\, en la Sala de Juntas\, en el que se tratará el tema bajo el título “Europa y la Unión Europea” y en la que intervendrá José Luís Iglesias Buhigues\, Catedrático de Derecho Internacional Privado por la Universidad de Valencia.
URL:https://historico.ateneovalencia.es/evento/foro-sensus-communis-europa-y-la-union-europea/
LOCATION:Sala de Juntas - Ateneo Mercantil de Valencia\, Plaza del Ayuntamiento 18\, Valencia\, Valencia\, 46002\, España
CATEGORIES:Sensus Communis
ATTACH;FMTTYPE=image/jpeg:https://historico.ateneovalencia.es/wp-content/uploads/2016/05/europa-21.jpg
END:VEVENT
BEGIN:VEVENT
DTSTART;TZID=Europe/Madrid:20160522T210000
DTEND;TZID=Europe/Madrid:20160522T230000
DTSTAMP:20260426T033459
CREATED:20160522T170057Z
LAST-MODIFIED:20160725T075147Z
UID:11587-1463950800-1463958000@historico.ateneovalencia.es
SUMMARY:Coloquio sobre Música\, Arte y Pensamiento: KAIJA SAARIAHO
DESCRIPTION:El Foro Sensus Communis regresa con el coloquio sobre Música\, Arte y Pensamiento y que desgranará la figura de Kaija Saariaho. Una compositora que lo aprendió todo en Helsinki\, Freiburg y París\, donde vivió desde 1982. Sus estudios en el IRCAM tuvieron una gran influencia en su música y sus texturas\, característicamente lujosas y misteriosas\, son creadas a través de una mezcla de música en directo y producciones electrónicas. Aunque la mayoría de sus composiciones son obras de cámara\, desde mediados de los 90 ha evolucionado hacia unas obras de mayor fuerza y estructuras más amplias\, tales como óperas\, Salzburg Festival y Oltra mar\, solicitada por la Orquesta Filarmónica de Nueva York.
URL:https://historico.ateneovalencia.es/evento/coloquio-sobre-musica-arte-y-pensamiento-kaija-saariaho/
LOCATION:Teatro Ateneo
CATEGORIES:Coloquios música, arte y pensamiento siglo XX
ATTACH;FMTTYPE=image/jpeg:https://historico.ateneovalencia.es/wp-content/uploads/2016/05/fotosahariaho.jpg
END:VEVENT
BEGIN:VEVENT
DTSTART;TZID=Europe/Madrid:20160531T220000
DTEND;TZID=Europe/Madrid:20160531T233000
DTSTAMP:20260426T033459
CREATED:20160531T180054Z
LAST-MODIFIED:20160725T081829Z
UID:11604-1464732000-1464737400@historico.ateneovalencia.es
SUMMARY:Foro AteneoIDEAS: La Formación Profesional
DESCRIPTION:El octavo coloquio del Foro por la Educación que retransmiten las cámaras de Tele 7 tratará la Formación Profesional. Un sistema que engloba todos aquellos estudios y aprendizajes encaminados a la inserción\, reinserción y actualización laboral\, cuyo objetivo principal es aumentar y adecuar el conocimiento y habilidades de los actuales y futuros trabajadores. Los programas formativos de los Títulos de Formación Profesional deben tomar como referencia las necesidades de cualificación del sistema socioproductivo y\, en consecuencia\, enfocarse para desempeñar “roles” en situaciones de trabajo a los niveles requeridos en el empleo. \nIntervendrán en la tertulia Joan Sarrión\, Director del CIFP Mislata y Presidente de la Asociación de Centros de FP; José M. Boquet\, Presidente de Feceval-CECE; Miguel  Javaloyes\, Secretario General de CEV y J. Anton Jornet\, Profesor de FP en el Instituto Salvador Gadea de Aldaia.
URL:https://historico.ateneovalencia.es/evento/foro-ateneoideas-la-formacion-profesional/
LOCATION:Salón Sorolla - Ateneo Mercantil de Valencia\, Plaza del Ayuntamiento 18\, Valencia\, Valencia\, 46002\, España
CATEGORIES:Foro AteneoIDEAS
ATTACH;FMTTYPE=image/jpeg:https://historico.ateneovalencia.es/wp-content/uploads/2016/07/Formacion-Profesional.jpg
END:VEVENT
END:VCALENDAR