BEGIN:VCALENDAR
VERSION:2.0
PRODID:-//Ateneo Mercantil de Valencia - ECPv6.0.4//NONSGML v1.0//EN
CALSCALE:GREGORIAN
METHOD:PUBLISH
X-WR-CALNAME:Ateneo Mercantil de Valencia
X-ORIGINAL-URL:https://historico.ateneovalencia.es
X-WR-CALDESC:Eventos para Ateneo Mercantil de Valencia
REFRESH-INTERVAL;VALUE=DURATION:PT1H
X-Robots-Tag:noindex
X-PUBLISHED-TTL:PT1H
BEGIN:VTIMEZONE
TZID:Europe/Madrid
BEGIN:DAYLIGHT
TZOFFSETFROM:+0100
TZOFFSETTO:+0200
TZNAME:CEST
DTSTART:20250330T010000
END:DAYLIGHT
BEGIN:STANDARD
TZOFFSETFROM:+0200
TZOFFSETTO:+0100
TZNAME:CET
DTSTART:20251026T010000
END:STANDARD
END:VTIMEZONE
BEGIN:VEVENT
DTSTART;TZID=Europe/Madrid:20250518T190000
DTEND;TZID=Europe/Madrid:20250518T203000
DTSTAMP:20260420T235948
CREATED:20250506T081221Z
LAST-MODIFIED:20250506T081222Z
UID:83845-1747594800-1747600200@historico.ateneovalencia.es
SUMMARY:Obra de Teatro Benéfica "Historia de una Escalera" de Antonio Buero Vallejo
DESCRIPTION:La emblemática obra "Historia de una escalera" de Antonio Buero Vallejo subirá a escena el próximo domingo 18 de mayo a las 19:00 horas en el Ateneo Mercantil de Valencia\, en una representación con una misión que va más allá de lo artístico: recaudar fondos para la reconstrucción del teatro de Catarroja\, dañado por el temporal de la DANA. \nLa iniciativa\, impulsada por la compañía Pantomima Teatre d’Ontinyent y gracias a la generosa colaboración del Ateneo Mercantil de Valencia\, se convierte así en un acto de compromiso cultural y social. Toda la recaudación se destinará íntegramente a ayudar a reparar uno de los espacios escénicos más importantes de l’Horta Sud\, actualmente inhabilitado. \n📅 Domingo 18 de mayo de 2025🕖 19:00 h📍 Teatro Ateneo \n🎟️ Venta de Entradas aquí: EntradasParaEventos.es (PRECIO: 10 € - Entradas sin numerar)💛 La recaudación íntegra se destinará a la reconstrucción del Teatro-Auditorio de Catarroja\, dañado por el temporal de la DANA \n“Creemos firmemente en el poder del teatro no solo como forma de expresión\, sino como herramienta de reconstrucción colectiva”\, explica la directora de la compañía. “Esta obra\, que habla de generaciones frustradas y sueños por cumplir\, es también una metáfora perfecta de lo que queremos conseguir: dar un paso más hacia la recuperación”. \nHistoria de una escalera es uno de los textos más relevantes del teatro español del siglo XX\, lectura obligatoria en muchos centros educativos. Por ello\, se ha iniciado también una campaña dirigida a institutos\, escuelas de teatro\, asociaciones culturales y ciudadanía en general para que participen de este evento con alma solidaria. \nDesde Pantomima Teatre lanzan una invitación abierta: “Sube esta escalera con nosotros y ayúdanos a levantar el telón en Catarroja.” \nCartel:
URL:https://historico.ateneovalencia.es/evento/obra-de-teatro-benefica-historia-de-una-escalera-de-antonio-buero-vallejo/
LOCATION:Teatro Ateneo
CATEGORIES:Teatro
ATTACH;FMTTYPE=image/jpeg:https://historico.ateneovalencia.es/wp-content/uploads/2025/05/20250518-Teatro-Historia-de-una-Escalera.jpg
END:VEVENT
END:VCALENDAR