BEGIN:VCALENDAR
VERSION:2.0
PRODID:-//Ateneo Mercantil de Valencia - ECPv6.0.4//NONSGML v1.0//EN
CALSCALE:GREGORIAN
METHOD:PUBLISH
X-ORIGINAL-URL:https://historico.ateneovalencia.es
X-WR-CALDESC:Eventos para Ateneo Mercantil de Valencia
REFRESH-INTERVAL;VALUE=DURATION:PT1H
X-Robots-Tag:noindex
X-PUBLISHED-TTL:PT1H
BEGIN:VTIMEZONE
TZID:Europe/Madrid
BEGIN:DAYLIGHT
TZOFFSETFROM:+0100
TZOFFSETTO:+0200
TZNAME:CEST
DTSTART:20240331T010000
END:DAYLIGHT
BEGIN:STANDARD
TZOFFSETFROM:+0200
TZOFFSETTO:+0100
TZNAME:CET
DTSTART:20241027T010000
END:STANDARD
END:VTIMEZONE
BEGIN:VEVENT
DTSTART;TZID=Europe/Madrid:20241222T180000
DTEND;TZID=Europe/Madrid:20241222T200000
DTSTAMP:20260421T133402
CREATED:20241203T131748Z
LAST-MODIFIED:20241203T132018Z
UID:82381-1734890400-1734897600@historico.ateneovalencia.es
SUMMARY:Llega a Valencia "El Gran Taller: El Musical de la Navidad"
DESCRIPTION:El domingo 22 de diciembre a las 18 horas\, el Ateneo Mercantil de Valencia se llenará de magia y emoción con "El Gran Taller: El Musical de la Navidad"\, un espectáculo único que hará brillar los ojos de grandes y pequeños. \nEmbárcate en esta divertida y conmovedora aventura musical\, donde Mickey Mouse\, Minnie\, Donald y Daisy unirán fuerzas para enfrentarse al travieso Grinch y asegurarse de que la Navidad no desaparezca. Entre villancicos clásicos y las canciones infantiles más queridas\, el público será transportado al verdadero espíritu navideño\, lleno de alegría\, canciones y bailes. \n✨ ¿Podrán salvar la Navidad? Ven y descúbrelo en este espectáculo lleno de sorpresas\, que promete ser un recuerdo inolvidable para toda la familia. \n\nDetalles del evento:\n📅 Fecha: Domingo\, 22 de diciembre\n⏰ Hora: 18 hoas\n📍 Lugar: Ateneo Mercantil de Valencia\n🎟️ Entradas: \nAnticipadas en Giglon: 15 €\nEn taquilla: 17 €\nMenores de 12 meses: Entrada gratuita \n➡ Compra tus entradas aquí: Giglon: El Gran Taller\n¡No te pierdas esta oportunidad de disfrutar en familia de un musical inolvidable lleno de magia\, risas y el verdadero espíritu navideño! 🎁✨ \nCartel:
URL:https://historico.ateneovalencia.es/evento/llega-a-valencia-el-gran-taller-el-musical-de-la-navidad/
LOCATION:Teatro Ateneo
CATEGORIES:Navidad,Teatro
ATTACH;FMTTYPE=image/jpeg:https://historico.ateneovalencia.es/wp-content/uploads/2024/12/20241222-Musical-El-Gran-Taller-Navidad.jpg
END:VEVENT
END:VCALENDAR