BEGIN:VCALENDAR
VERSION:2.0
PRODID:-//Ateneo Mercantil de Valencia - ECPv6.0.4//NONSGML v1.0//EN
CALSCALE:GREGORIAN
METHOD:PUBLISH
X-WR-CALNAME:Ateneo Mercantil de Valencia
X-ORIGINAL-URL:https://historico.ateneovalencia.es
X-WR-CALDESC:Eventos para Ateneo Mercantil de Valencia
REFRESH-INTERVAL;VALUE=DURATION:PT1H
X-Robots-Tag:noindex
X-PUBLISHED-TTL:PT1H
BEGIN:VTIMEZONE
TZID:Europe/Madrid
BEGIN:DAYLIGHT
TZOFFSETFROM:+0100
TZOFFSETTO:+0200
TZNAME:CEST
DTSTART:20230326T010000
END:DAYLIGHT
BEGIN:STANDARD
TZOFFSETFROM:+0200
TZOFFSETTO:+0100
TZNAME:CET
DTSTART:20231029T010000
END:STANDARD
END:VTIMEZONE
BEGIN:VEVENT
DTSTART;TZID=Europe/Madrid:20231229T180000
DTEND;TZID=Europe/Madrid:20231230T200000
DTSTAMP:20260420T231900
CREATED:20231128T105127Z
LAST-MODIFIED:20231213T112507Z
UID:76034-1703872800-1703966400@historico.ateneovalencia.es
SUMMARY:Disfruta del Musical Infantil 'Tributo al Cantajuegos' - Gira Juega y Canta 2.0
DESCRIPTION:El Ateneo Mercantil de Valencia acoge estas Navidades el Musical Infantil 'Tributo al Cantajuegos' los días 29 y 30 de diciembre en el Teatro Ateneo dentro de la Gira Juega y Canta 2.0 que está  realizando el Grupo Experiencia Criatures por todo el país. Un musical infantil inspirado en el famoso grupo Cantajuego. Un tributo que integra en su play list canciones infantiles con canciones juveniles actuales y con temas más antiguos que han permanecido en la memoria de todas nuestras generaciones. Cantajuegos 2.0 te hará cantar\, jugar y\, sobre todo\, divertirte en familia. \nEntradas a la venta en taquillas del Ateneo Mercantil y también en Online pinchando en el enlace de abajo \nEntradas online a la venta: pincha aquí \nCartel: 
URL:https://historico.ateneovalencia.es/evento/disfruta-del-musical-infantil-tributo-al-cantajuegos-gira-juega-y-canta-2-0/
LOCATION:Teatro Ateneo
CATEGORIES:Navidad,Teatro
ATTACH;FMTTYPE=image/jpeg:https://historico.ateneovalencia.es/wp-content/uploads/2023/11/20231229-Cantajuegos-1.jpg
END:VEVENT
END:VCALENDAR