BEGIN:VCALENDAR
VERSION:2.0
PRODID:-//Ateneo Mercantil de Valencia - ECPv6.0.4//NONSGML v1.0//EN
CALSCALE:GREGORIAN
METHOD:PUBLISH
X-ORIGINAL-URL:https://historico.ateneovalencia.es
X-WR-CALDESC:Eventos para Ateneo Mercantil de Valencia
REFRESH-INTERVAL;VALUE=DURATION:PT1H
X-Robots-Tag:noindex
X-PUBLISHED-TTL:PT1H
BEGIN:VTIMEZONE
TZID:Europe/Madrid
BEGIN:DAYLIGHT
TZOFFSETFROM:+0100
TZOFFSETTO:+0200
TZNAME:CEST
DTSTART:20240331T010000
END:DAYLIGHT
BEGIN:STANDARD
TZOFFSETFROM:+0200
TZOFFSETTO:+0100
TZNAME:CET
DTSTART:20241027T010000
END:STANDARD
END:VTIMEZONE
BEGIN:VEVENT
DTSTART;TZID=Europe/Madrid:20241009T110000
DTEND;TZID=Europe/Madrid:20241009T170000
DTSTAMP:20260421T171342
CREATED:20240924T074939Z
LAST-MODIFIED:20240924T075230Z
UID:81594-1728471600-1728493200@historico.ateneovalencia.es
SUMMARY:Procesión Cívica del 9 de Octubre
DESCRIPTION:Los socios/as del Ateneo Mercantil de Valencia tienen la oportunidad de acompañar a la Real Senyera en la Procesión Cívica del 9 de Octubre. Los que quieran desfilar deberán apuntarse previamente en Secretaría del Ateneo Mercantil (5ª Planta) porque las plazas son limitadas. La citación será a las 11 horas en la esquina de calle San Vicente con calle La Sangre para recoger la acreditación que permite salir en grupo con la centenaria bandera del Ateneo Mercantil. \nEl plazo de inscripción está abierto en Secretaría del Ateneo (quinto piso) hasta el próximo lunes 7 de octubre de 2024.\nCartel:
URL:https://historico.ateneovalencia.es/evento/procesion-civica-del-9-de-octubre-2024/
LOCATION:Externo\, Valencia
CATEGORIES:Social
ATTACH;FMTTYPE=image/jpeg:https://historico.ateneovalencia.es/wp-content/uploads/2024/09/20231009-Procesion-Civica-9-Octubre.jpg
END:VEVENT
END:VCALENDAR