BEGIN:VCALENDAR
VERSION:2.0
PRODID:-//Ateneo Mercantil de Valencia - ECPv6.0.4//NONSGML v1.0//EN
CALSCALE:GREGORIAN
METHOD:PUBLISH
X-ORIGINAL-URL:https://historico.ateneovalencia.es
X-WR-CALDESC:Eventos para Ateneo Mercantil de Valencia
REFRESH-INTERVAL;VALUE=DURATION:PT1H
X-Robots-Tag:noindex
X-PUBLISHED-TTL:PT1H
BEGIN:VTIMEZONE
TZID:Europe/Madrid
BEGIN:DAYLIGHT
TZOFFSETFROM:+0100
TZOFFSETTO:+0200
TZNAME:CEST
DTSTART:20240331T010000
END:DAYLIGHT
BEGIN:STANDARD
TZOFFSETFROM:+0200
TZOFFSETTO:+0100
TZNAME:CET
DTSTART:20241027T010000
END:STANDARD
END:VTIMEZONE
BEGIN:VEVENT
DTSTART;TZID=Europe/Madrid:20240619T140000
DTEND;TZID=Europe/Madrid:20240619T163000
DTSTAMP:20260421T162934
CREATED:20240604T101414Z
LAST-MODIFIED:20240604T101435Z
UID:80484-1718805600-1718814600@historico.ateneovalencia.es
SUMMARY:Comida de Fin de Curso de las Actividades Culturales del Ateneo Mercantil 2024
DESCRIPTION:Este próximo 19 de junio a las 14 horas llega de nuevo la Comida de Fin de Curso de las Actividades Culturales del Ateneo Mercantil 2024\, momento en el que todos los asistentes a las conferencias\, ponencias\, a los conciertos de música\, al Aula Cultural\, Tertulia Taurina\, etc\, pueden relacionarse con sus compañeros y con los ponentes y profesores. Un momento especial en el que intercambian impresiones con todos los que a lo largo del año han escuchado atentamente. \nUna comida que se celebra todos los años para dar por concluido el año de las Actividades y Visitas Culturales\, en el que vuelve a cobrar suma importancia las Aulas de Poesía\, los grupos de lectura\, los visitantes a los grandes viajes con el Ateneo… Tras la comida se volverá a hacer un pequeño homenaje a los ponentes de las tertulias y a los “cicerones” de las visitas culturales. \nEl menú de la comida tiene un precio de 28 € y consta de: \n\n ENTRANTES (a compartir): Torrija de titaina y mojama | Tabla de cecina de León\, jamón ibérico y quesos nacionales | Ensalada de mango y Aguacate con pato confitado. \nPRINCIPAL (a elegir): Fideuà del senyoret o Solomillo ibérico con patata gratén y guiso de setas. POSTRE: Tatín de manzana y albaricoque con helado de vainilla\nBEBIDAS / CAFÉ E INFUSIONES: Todo incluido.\n\nRecuerda que las reservas y el pago se han de realizar en el Restaurante Ateneo (6ª planta).\nCartel:
URL:https://historico.ateneovalencia.es/evento/comida-fin-de-curso-de-las-actividades-culturales-del-ateneo-mercantil-2024/
LOCATION:Restaurante - Ateneo Mercantil de Valencia\, Plaza del Ayuntamiento 18\, Valencia\, Valencia\, 46002\, España
CATEGORIES:Social
ATTACH;FMTTYPE=image/jpeg:https://historico.ateneovalencia.es/wp-content/uploads/2024/06/20240619-Comida-Actividades-Culturales-Ateneo.jpg
END:VEVENT
END:VCALENDAR