BEGIN:VCALENDAR
VERSION:2.0
PRODID:-//Ateneo Mercantil de Valencia - ECPv6.0.4//NONSGML v1.0//EN
CALSCALE:GREGORIAN
METHOD:PUBLISH
X-WR-CALNAME:Ateneo Mercantil de Valencia
X-ORIGINAL-URL:https://historico.ateneovalencia.es
X-WR-CALDESC:Eventos para Ateneo Mercantil de Valencia
REFRESH-INTERVAL;VALUE=DURATION:PT1H
X-Robots-Tag:noindex
X-PUBLISHED-TTL:PT1H
BEGIN:VTIMEZONE
TZID:Europe/Madrid
BEGIN:DAYLIGHT
TZOFFSETFROM:+0100
TZOFFSETTO:+0200
TZNAME:CEST
DTSTART:20240331T010000
END:DAYLIGHT
BEGIN:STANDARD
TZOFFSETFROM:+0200
TZOFFSETTO:+0100
TZNAME:CET
DTSTART:20241027T010000
END:STANDARD
END:VTIMEZONE
BEGIN:VEVENT
DTSTART;TZID=Europe/Madrid:20240517T110000
DTEND;TZID=Europe/Madrid:20240517T140000
DTSTAMP:20260423T205436
CREATED:20240409T094823Z
LAST-MODIFIED:20240409T094823Z
UID:77464-1715943600-1715954400@historico.ateneovalencia.es
SUMMARY:Torneo de Golf 'Ateneo Mercantil' - 9 hoyos en Foressos Club de Golf
DESCRIPTION:El Ateneo Mercantil de Valencia\, el Foressos Club de Golf y la Ardilla del Golf han organizado un torneo de 9 hoyos el próximo viernes 17 de mayo de 2024. La salida se producirá a las 11 de la mañana y el torneo está estipulado para 50 jugadores\, en modalidad Individual Stableford. El precio de inscripción para participar en el torneo será de 20 euros para el socio del Ateneo Mercantil\, 15 euros para el socio de Foressos y 30 euros para el público general. Los socios ateneístas se inscribirán en Secretaría del Ateneo Mercantil\, pero deberán realizar el pago en Foressos Club de Golf el mismo día del torneo. \nInscripciones abiertas para el socio ateneísta en Secretaría (5º piso) hasta el miércoles 15 de mayo de 2024 (hasta las 14 h).\nMás información - Teléfono: 96.122.16.60 y en info@foressosclubgolf.com\nAl finalizar el torneo se celebrará la entrega de premios\, el Ateneo Mercantil de Valencia invitará a un cóctel y regalará una botella de vino NODUS a cada uno de los participantes. \nCartel:
URL:https://historico.ateneovalencia.es/evento/torneo-de-golf-ateneo-mercantil-9-hoyos-en-foressos-club-de-golf/
LOCATION:Club Golf Foressos\, A7-N340 Salida 358\, Picassent\, Valencia\, 46225\, Spain
CATEGORIES:Social
ATTACH;FMTTYPE=image/jpeg:https://historico.ateneovalencia.es/wp-content/uploads/2024/04/20201027-Clase-Golf-Gratis-Foressos.jpg
END:VEVENT
END:VCALENDAR