BEGIN:VCALENDAR
VERSION:2.0
PRODID:-//Ateneo Mercantil de Valencia - ECPv6.0.4//NONSGML v1.0//EN
CALSCALE:GREGORIAN
METHOD:PUBLISH
X-ORIGINAL-URL:https://historico.ateneovalencia.es
X-WR-CALDESC:Eventos para Ateneo Mercantil de Valencia
REFRESH-INTERVAL;VALUE=DURATION:PT1H
X-Robots-Tag:noindex
X-PUBLISHED-TTL:PT1H
BEGIN:VTIMEZONE
TZID:Europe/Madrid
BEGIN:DAYLIGHT
TZOFFSETFROM:+0100
TZOFFSETTO:+0200
TZNAME:CEST
DTSTART:20250330T010000
END:DAYLIGHT
BEGIN:STANDARD
TZOFFSETFROM:+0200
TZOFFSETTO:+0100
TZNAME:CET
DTSTART:20251026T010000
END:STANDARD
END:VTIMEZONE
BEGIN:VEVENT
DTSTART;TZID=Europe/Madrid:20250511T173000
DTEND;TZID=Europe/Madrid:20250511T213000
DTSTAMP:20260422T174621
CREATED:20250422T114833Z
LAST-MODIFIED:20250422T114834Z
UID:83693-1746984600-1746999000@historico.ateneovalencia.es
SUMMARY:Ya puedes inscribirte para salir en la procesión de la Virgen de los Desamparados 2025
DESCRIPTION:El Ateneo Mercantil de Valencia vuelve a participar con devoción en la tradicional procesión en honor a la Mare de Déu dels Desamparats\, patrona de la ciudad. Cada segundo domingo de mayo\, miles de valencianos rinden homenaje a "La Geperudeta"\, una figura profundamente arraigada en la cultura y el corazón del pueblo. \n📅 Domingo\, 11 de mayo de 2025📍 Punto de encuentro: Puerta Principal del Ateneo Mercantil🕠 Hora: 17:30 h🎟️ Actividad gratuita \nEste año volvemos a invitarte a formar parte de esta emotiva celebración. La concentración será en la entrada principal del Ateneo a las 17:30 h\, desde donde se partirá hacia la Basílica para unirse al recorrido oficial. \n🔹 Código de vestimenta: \n\n\nCaballeros: traje negro \n\n\nDamas: vestido negro\, mantilla y teja \n\n\nTodos los participantes deben portar un cirio \n\n\nLas inscripciones ya están abiertas en la Secretaría del Ateneo Mercantil de Valencia. ¡Vive esta tradición única desde dentro! \nCartel:
URL:https://historico.ateneovalencia.es/evento/ya-puedes-inscribirte-para-salir-en-la-procesion-de-la-virgen-de-los-desamparados-2025/
LOCATION:Ateneo Mercantil Valencia\, Plaza del Ayuntamiento 18\, Valencia\, Valencia\, 46002\, España
CATEGORIES:Social
ATTACH;FMTTYPE=image/jpeg:https://historico.ateneovalencia.es/wp-content/uploads/2025/04/20250511-Procesion-Virgen-de-los-Desamparados-2025.jpg
END:VEVENT
BEGIN:VEVENT
DTSTART;TZID=Europe/Madrid:20250516T100000
DTEND;TZID=Europe/Madrid:20250516T140000
DTSTAMP:20260422T174621
CREATED:20250417T111453Z
LAST-MODIFIED:20250424T124320Z
UID:83650-1747389600-1747404000@historico.ateneovalencia.es
SUMMARY:III Torneo de Golf ‘Ateneo Mercantil’ – 9 Hoyos en Foressos Club de Golf
DESCRIPTION:El Ateneo Mercantil de Valencia\, en colaboración con el Foressos Club de Golf y La Ardilla del Golf\, organiza el próximo viernes\, 16 de mayo de 2025 de 10 a 14 horas su tercer torneo de golf en formato Individual Stableford\, en uno de los entornos más agradables para los amantes del golf: el Foressos Club de Golf. ¡No te quedes fuera de esta experiencia única! \n💶 Inscripción: 20 € | ⛳ Plazas limitadas: solo 55 jugadores📍 Salida al tiro a las 10:00 h👤 Exclusivo para socios del Ateneo Mercantil y socios de Foressos💰 Inscripción: 20 € \n\n\nSocios del Ateneo: inscripción en Secretaría (5º piso) hasta el miércoles 14 de mayo (14 h) \n\n\nEl pago se realizará en SECRETARÍA DEL ATENEO \n\n\n🎁 Premios y regalos para todos los participantes:🏌️‍♂️ Premio (material de golf) para el 1º y 2º clasificado masculino y para la campeona femenina🍷 Botella de vino para cada jugador🍸 Cóctel cortesía del Ateneo Mercantil de Valencia tras la entrega de premios \n📞 Más información: 96 122 16 60📧 info@foressosclubgolf.com \nCartel:
URL:https://historico.ateneovalencia.es/evento/iii-torneo-de-golf-ateneo-mercantil-9-hoyos-en-foressos-club-de-golf/
LOCATION:Club Golf Foressos\, A7-N340 Salida 358\, Picassent\, Valencia\, 46225\, Spain
CATEGORIES:Social
ATTACH;FMTTYPE=image/jpeg:https://historico.ateneovalencia.es/wp-content/uploads/2025/04/20250516-III-Torneo-Golf-Foressos.jpg
END:VEVENT
BEGIN:VEVENT
DTSTART;TZID=Europe/Madrid:20250524T100000
DTEND;TZID=Europe/Madrid:20250524T210000
DTSTAMP:20260422T174621
CREATED:20240925T095316Z
LAST-MODIFIED:20250429T163950Z
UID:81606-1748080800-1748120400@historico.ateneovalencia.es
SUMMARY:COMPLETO | Todo Vendido para el IV Día del Socio del Ateneo Mercantil
DESCRIPTION:EVENTO TODO COMPLETO. SOLD OUT. SE HAN VENDIDO TODAS LA ENTRADAS QUE SALIERON AL PÚBLICO. \nTras aplazarse el IV Día del Socio por los terribles acontecimientos de la DANA en la Comunidad Valenciana\, el Ateneo Mercantil ha decidido celebrarlo el próximo sábado 24 de mayo de 2025. Un evento que tendrá un aforo máximo de 400 entradas y será completamente gratuito para el socio y tendrá un coste de 12 euros para el acompañante (Solamente 1 por socio). Será un día dedicado al ocio y que servirá para homenajear a todos los que conforman esta gran entidad. \nEn las tres primeras ediciones cerca de 3.000 personas disfrutaron de las actividades organizadas para conmemorar este día. Este año la jornada va a ser espectacular con visitas guiadas por el edificio (será imprescindible inscribirse en Secretaría cuando saque su tique)\, comida\, teatro\, merienda\, tardeo con música en directo (Baile y también DJ) y grandes sorteos de viajes. \nJornada:\n10 horas: Desayuno de coca de llanda y chocolatá en el Salón Noble. \n11 horas: Documental historia del Ateneo en el Teatro Ateneo. \n12 horas: Se realizarán visitas guiadas por las instalaciones del Ateneo hasta las 13.30 horas para quien quiera conocer nuestro edificio y nuestras historia. IMPRESCINDIBLE: INCRIPCIÓN EN SECRETARÍA cuando saque el tique del Día del Socio. \n12.30 horas: Concierto de Jazz en el Teatro Ateneo. \n14 horas: Comida Día del Socio en el Salón Noble. \n16 horas: Grandes Sorteos en el Salón Noble. \n17 horas: Música en directo: Baile con Loli-Pepe en el Salón Noble. \n19 horas: Obra de teatro de los alumnos de la Escuela de Teatro del Ateneo\, en el Teatro Ateneo. \n19 a 21 horas: Tardeo con DJ Vicente en el Salón Noble. | Barra de bebidas: Gema \n¡¡Y muchas más sorpresas!!\nInscripciones abiertas en Secretaría hasta completar aforo (500 personas) a partir del próximo 10 de abril de 2025.\nImportante: \n\n\nEl socio sólo puede venir con DOS carnets de socio como máximo \n\n\nLos tiques del pasado 16 de Noviembre NO SON VÁLIDOS para este Día del Socio \n\n\nHabrá PENALIZACIÓN de 10€ para los socios que se han apuntado al desayuno y comida y SIN CAUSA MAYOR JUSTIFICADA no Vengan (para tener un control exhaustivo de las raciones de comida que se encargan) \n\n\nEsta jornada es gratuita para el socio\, y puede venir acompañado por una persona no socia abonando un tique de 12 euros.\nCartel:
URL:https://historico.ateneovalencia.es/evento/iv-dia-del-socio-del-ateneo-mercantil-almuerzo-comida-teatro-zarzuela-y-grandes-sorteos/
LOCATION:Ateneo Mercantil Valencia\, Plaza del Ayuntamiento 18\, Valencia\, Valencia\, 46002\, España
CATEGORIES:Social
ATTACH;FMTTYPE=image/jpeg:https://historico.ateneovalencia.es/wp-content/uploads/2024/09/20250524-Dia-del-Socio-COMPLETO.jpg
END:VEVENT
END:VCALENDAR