BEGIN:VCALENDAR
VERSION:2.0
PRODID:-//Ateneo Mercantil de Valencia - ECPv6.0.4//NONSGML v1.0//EN
CALSCALE:GREGORIAN
METHOD:PUBLISH
X-WR-CALNAME:Ateneo Mercantil de Valencia
X-ORIGINAL-URL:https://historico.ateneovalencia.es
X-WR-CALDESC:Eventos para Ateneo Mercantil de Valencia
REFRESH-INTERVAL;VALUE=DURATION:PT1H
X-Robots-Tag:noindex
X-PUBLISHED-TTL:PT1H
BEGIN:VTIMEZONE
TZID:Europe/Madrid
BEGIN:DAYLIGHT
TZOFFSETFROM:+0100
TZOFFSETTO:+0200
TZNAME:CEST
DTSTART:20250330T010000
END:DAYLIGHT
BEGIN:STANDARD
TZOFFSETFROM:+0200
TZOFFSETTO:+0100
TZNAME:CET
DTSTART:20251026T010000
END:STANDARD
END:VTIMEZONE
BEGIN:VEVENT
DTSTART;TZID=Europe/Madrid:20250127T183000
DTEND;TZID=Europe/Madrid:20250127T193000
DTSTAMP:20260423T122223
CREATED:20241224T064108Z
LAST-MODIFIED:20241224T064926Z
UID:82557-1738002600-1738006200@historico.ateneovalencia.es
SUMMARY:Misa memorial de difuntos de los socios del Ateneo Mercantil de Valencia
DESCRIPTION:El Ateneo Mercantil de Valencia invita a sus socios\, familiares y amigos a la Misa Memorial de Difuntos en recuerdo de todos los socios fallecidos durante el año 2024. \nLa ceremonia tendrá lugar en el templo habitual del Ateneo\, la Iglesia de San Martín Obispo y San Antonio Abad\, situada en la calle San Vicente\, 11 de Valencia. Será un momento solemne para honrar la memoria de quienes nos han dejado\, unidos en la oración y el recuerdo. \n📅 Detalles del evento: \n\nFecha: Lunes\, 27 de enero de 2025\nHora: 18:30 horas\nLugar: Iglesia de San Martín Obispo y San Antonio Abad (Calle San Vicente\, 11\, Valencia).\n\nOs esperamos para compartir juntos este emotivo homenaje en el que rendimos tributo a nuestros seres queridos y miembros del Ateneo Mercantil. \n¡Vuestra presencia será un valioso testimonio de cariño y respeto! \nCartel:
URL:https://historico.ateneovalencia.es/evento/misa-memorial-de-difuntos-de-los-socios-del-ateneo-mercantil-de-valencia/
LOCATION:Iglesia San Martín Obispo\, Calle San Vicente\, 11\, Valencia\, Valencia\, España
CATEGORIES:Social
ATTACH;FMTTYPE=image/jpeg:https://historico.ateneovalencia.es/wp-content/uploads/2024/12/20250127-Misa-Difuntos-2024.jpg
END:VEVENT
END:VCALENDAR