BEGIN:VCALENDAR
VERSION:2.0
PRODID:-//Ateneo Mercantil de Valencia - ECPv6.0.4//NONSGML v1.0//EN
CALSCALE:GREGORIAN
METHOD:PUBLISH
X-ORIGINAL-URL:https://historico.ateneovalencia.es
X-WR-CALDESC:Eventos para Ateneo Mercantil de Valencia
REFRESH-INTERVAL;VALUE=DURATION:PT1H
X-Robots-Tag:noindex
X-PUBLISHED-TTL:PT1H
BEGIN:VTIMEZONE
TZID:Europe/Madrid
BEGIN:DAYLIGHT
TZOFFSETFROM:+0100
TZOFFSETTO:+0200
TZNAME:CEST
DTSTART:20240331T010000
END:DAYLIGHT
BEGIN:STANDARD
TZOFFSETFROM:+0200
TZOFFSETTO:+0100
TZNAME:CET
DTSTART:20241027T010000
END:STANDARD
END:VTIMEZONE
BEGIN:VEVENT
DTSTART;TZID=Europe/Madrid:20240512T173000
DTEND;TZID=Europe/Madrid:20240512T203000
DTSTAMP:20260423T122542
CREATED:20240422T122715Z
LAST-MODIFIED:20240422T122716Z
UID:77745-1715535000-1715545800@historico.ateneovalencia.es
SUMMARY:Participa en la procesión de la Virgen de los Desamparados 2024
DESCRIPTION:El Ateneo Mercantil de Valencia se suma nuevamente a la festividad de la Virgen de los Desamparados. Así\, el segundo domingo de mayo\, el 12 de mayo de 2024\, todos los valencianos tienen una cita con "La Geperudeta"\, a quien dedican toda clase de honores y tributos. La Mare de Deu dels Desamparats tiene una larga historia que pasa de generación en generación\, de padres a hijos. Y el Ateneo Mercantil desfila en la procesión a la Patrona de la ciudad de Valencia. \nLa Concentración será en la Puerta Principal del Ateneo Mercantil a las 17:30 horas para acudir hacia la Basílica. Los Señores socios que quieran salir deberán ir de traje negro\, mientras que las Señoras irán de negro\, teja y mantilla negra. Además\, deben portar un cirio para la procesión. \nInscripciones en Secretaría del Ateneo Mercantil de Valencia\nCartel:
URL:https://historico.ateneovalencia.es/evento/participa-en-la-procesion-de-la-virgen-de-los-desamparados-2024/
LOCATION:Secretaría Ateneo
CATEGORIES:Social
ATTACH;FMTTYPE=image/jpeg:https://historico.ateneovalencia.es/wp-content/uploads/2024/04/20190512-Procesion-Virgen-de-los-Desamparados.jpg
END:VEVENT
BEGIN:VEVENT
DTSTART;TZID=Europe/Madrid:20240517T110000
DTEND;TZID=Europe/Madrid:20240517T140000
DTSTAMP:20260423T122542
CREATED:20240409T094823Z
LAST-MODIFIED:20240409T094823Z
UID:77464-1715943600-1715954400@historico.ateneovalencia.es
SUMMARY:Torneo de Golf 'Ateneo Mercantil' - 9 hoyos en Foressos Club de Golf
DESCRIPTION:El Ateneo Mercantil de Valencia\, el Foressos Club de Golf y la Ardilla del Golf han organizado un torneo de 9 hoyos el próximo viernes 17 de mayo de 2024. La salida se producirá a las 11 de la mañana y el torneo está estipulado para 50 jugadores\, en modalidad Individual Stableford. El precio de inscripción para participar en el torneo será de 20 euros para el socio del Ateneo Mercantil\, 15 euros para el socio de Foressos y 30 euros para el público general. Los socios ateneístas se inscribirán en Secretaría del Ateneo Mercantil\, pero deberán realizar el pago en Foressos Club de Golf el mismo día del torneo. \nInscripciones abiertas para el socio ateneísta en Secretaría (5º piso) hasta el miércoles 15 de mayo de 2024 (hasta las 14 h).\nMás información - Teléfono: 96.122.16.60 y en info@foressosclubgolf.com\nAl finalizar el torneo se celebrará la entrega de premios\, el Ateneo Mercantil de Valencia invitará a un cóctel y regalará una botella de vino NODUS a cada uno de los participantes. \nCartel:
URL:https://historico.ateneovalencia.es/evento/torneo-de-golf-ateneo-mercantil-9-hoyos-en-foressos-club-de-golf/
LOCATION:Club Golf Foressos\, A7-N340 Salida 358\, Picassent\, Valencia\, 46225\, Spain
CATEGORIES:Social
ATTACH;FMTTYPE=image/jpeg:https://historico.ateneovalencia.es/wp-content/uploads/2024/04/20201027-Clase-Golf-Gratis-Foressos.jpg
END:VEVENT
BEGIN:VEVENT
DTSTART;TZID=Europe/Madrid:20240523T190000
DTEND;TZID=Europe/Madrid:20240523T200000
DTSTAMP:20260423T122542
CREATED:20240516T123542Z
LAST-MODIFIED:20240516T123543Z
UID:78031-1716490800-1716494400@historico.ateneovalencia.es
SUMMARY:Entrega de Premios - 'Distinción Tertulia Torino 2024' a Rubén Baraja
DESCRIPTION:La Tertulia Torino y en su nombre\, su presidente José Rafael García-Fuster y González Alegre tiene el placer de invitarle al acto de entrega de la Distinción de la Tertulia Torino 2024 al técnico del Valencia\, Rubén Baraja\, que tendrá lugar el próximo jueves 23 de mayo a las 19 horas en el Ateneo Mercantil de Valencia\, en la Plaza del Ayuntamiento\, 18 de Valencia. \nSe ruega confirmación antes del 17 de mayo al correo: tertuliatorinovlc@gmail.com  
URL:https://historico.ateneovalencia.es/evento/entrega-de-premios-distincion-tertulia-torino-2024-a-ruben-baraja/
LOCATION:Teatro Ateneo
CATEGORIES:Social
ATTACH;FMTTYPE=image/jpeg:https://historico.ateneovalencia.es/wp-content/uploads/2024/05/20240523-Distincion-Tertulia-Torino-Baraja.jpg
END:VEVENT
END:VCALENDAR