BEGIN:VCALENDAR
VERSION:2.0
PRODID:-//Ateneo Mercantil de Valencia - ECPv6.0.4//NONSGML v1.0//EN
CALSCALE:GREGORIAN
METHOD:PUBLISH
X-ORIGINAL-URL:https://historico.ateneovalencia.es
X-WR-CALDESC:Eventos para Ateneo Mercantil de Valencia
REFRESH-INTERVAL;VALUE=DURATION:PT1H
X-Robots-Tag:noindex
X-PUBLISHED-TTL:PT1H
BEGIN:VTIMEZONE
TZID:Europe/Madrid
BEGIN:DAYLIGHT
TZOFFSETFROM:+0100
TZOFFSETTO:+0200
TZNAME:CEST
DTSTART:20240331T010000
END:DAYLIGHT
BEGIN:STANDARD
TZOFFSETFROM:+0200
TZOFFSETTO:+0100
TZNAME:CET
DTSTART:20241027T010000
END:STANDARD
END:VTIMEZONE
BEGIN:VEVENT
DTSTART;TZID=Europe/Madrid:20240415T190000
DTEND;TZID=Europe/Madrid:20240415T200000
DTSTAMP:20260423T173750
CREATED:20240415T085627Z
LAST-MODIFIED:20240415T092252Z
UID:77630-1713207600-1713211200@historico.ateneovalencia.es
SUMMARY:Estreno del Documental "Museo Nacional de Cerámica - Palacio del Marqués de Dos Aguas\, una casona del s. XV"
DESCRIPTION:El Ateneo Mercantil de Valencia en colaboración con el Ministerio de Cultura estrena este lunes 15 de abril de 2024 a las 19 horas en el Teatro Ateneo la premier del documental del "Museo Nacional de Cerámica - Palacio del Marqués de Dos Aguas\, una casona del siglo XV" que en breve se subirá a nuestro Canal de Youtube para el disfrute de todos nuestros suscriptores. \nENTRADA LIBRE Y GRATUITA \nEnlace para el Online - Directo: https://youtu.be/cryQ8GkQBiQ\nEn el acto de presentación del documental contaremos con la especial colaboración del director del Museo de Cerámica\, Jaume Coll Conesa\, que nos desveló todos los secretos de la antigua casa solariega de la Rabassa de Perellós\, titulares del marquesado de Dos Aguas\, y que desde hace 70 años acoge al Museo Nacional de Cerámica en Valencia. \nUn documental en el que se podrán descubrir estancias que habitualmente no se visitan dentro del recorrido del museo y sobre todo\, contada por el máximo especialista y conocedor del museo y del Palacio del Marqués de Dos Aguas. No te pierdas el estreno de un documental\, que tiene una duración de 25 minutos\, pero que contará con las aclaraciones de Jaume Coll y responderá a cualquier pregunta que se le formule. \nCartel:
URL:https://historico.ateneovalencia.es/evento/estreno-del-documental-museo-nacional-de-ceramica-palacio-del-marques-de-dos-aguas-una-casona-del-s-xv/
LOCATION:Teatro Ateneo
CATEGORIES:Social
ATTACH;FMTTYPE=image/jpeg:https://historico.ateneovalencia.es/wp-content/uploads/2024/04/20240415-Museo-Nacional-Ceramica-Documental.jpg
END:VEVENT
END:VCALENDAR