BEGIN:VCALENDAR
VERSION:2.0
PRODID:-//Ateneo Mercantil de Valencia - ECPv6.0.4//NONSGML v1.0//EN
CALSCALE:GREGORIAN
METHOD:PUBLISH
X-WR-CALNAME:Ateneo Mercantil de Valencia
X-ORIGINAL-URL:https://historico.ateneovalencia.es
X-WR-CALDESC:Eventos para Ateneo Mercantil de Valencia
REFRESH-INTERVAL;VALUE=DURATION:PT1H
X-Robots-Tag:noindex
X-PUBLISHED-TTL:PT1H
BEGIN:VTIMEZONE
TZID:Europe/Madrid
BEGIN:DAYLIGHT
TZOFFSETFROM:+0100
TZOFFSETTO:+0200
TZNAME:CEST
DTSTART:20250330T010000
END:DAYLIGHT
BEGIN:STANDARD
TZOFFSETFROM:+0200
TZOFFSETTO:+0100
TZNAME:CET
DTSTART:20251026T010000
END:STANDARD
END:VTIMEZONE
BEGIN:VEVENT
DTSTART;TZID=Europe/Madrid:20250509T180000
DTEND;TZID=Europe/Madrid:20250509T193000
DTSTAMP:20260421T223611
CREATED:20250407T081007Z
LAST-MODIFIED:20250505T102040Z
UID:83520-1746813600-1746819000@historico.ateneovalencia.es
SUMMARY:Presentación de la Obra Ganadora del Premio Nacional de Novela 2024 "Los rubios" por Manuel Dorado
DESCRIPTION:El Ateneo Mercantil de Valencia tiene el placer de invitarle al acto de presentación de la novela "Los rubios"\, ganadora del Premio Nacional de Novela 2024\, el próximo viernes 9 de mayo de 2025 a las 18 horas en el Salón Sorolla (3er piso del Ateneo Mercantil). \nAmbientada en el Madrid del año 2000\, Los rubios nos sumerge en la vida de Guzmán\, un joven librero de barrio que encuentra un boleto de lotería premiado. La fortuna le abre las puertas a una vida nueva: una librería bohemia en Malasaña\, noches de arte y literatura\, una inmersión en la crema intelectual del Madrid post movida... Pero los sueños tienen sus propias reglas\, y a veces\, los misterios del pasado —como el de los extraños rubios de Canillejas— acaban desvelándose de formas inesperadas. Porque hay premios que no siempre traen fortuna\, y hay verdades que\, cuando se revelan\, dejan cicatrices. \nEn el acto intervendrán: \n\n\nManuel Dorado\, autor de la obra \n\n\nLoli Lara\, de la editorial Olé Libros \n\n\nMelania Vázquez\, directiva del Ateneo y responsable de los premios literarios \n\n\nSerá una magnífica ocasión para conocer de cerca una historia que entrelaza el azar\, la identidad y la fragilidad de los sueños\, así como para celebrar\, una vez más\, el talento literario emergente. \nEntrada libre hasta completar aforo. \n¡Le esperamos con entusiasmo! \nCartel:
URL:https://historico.ateneovalencia.es/evento/presentacion-de-la-obra-ganadora-del-premio-nacional-de-novela-2024-los-rubios-por-manuel-dorado/
LOCATION:Salón Sorolla - Ateneo Mercantil de Valencia\, Plaza del Ayuntamiento 18\, Valencia\, Valencia\, 46002\, España
CATEGORIES:Presentación de Libros
ATTACH;FMTTYPE=image/jpeg:https://historico.ateneovalencia.es/wp-content/uploads/2025/04/20250509-Presentacion-Novela-Los-Rubios.jpg
END:VEVENT
END:VCALENDAR