BEGIN:VCALENDAR
VERSION:2.0
PRODID:-//Ateneo Mercantil de Valencia - ECPv6.0.4//NONSGML v1.0//EN
CALSCALE:GREGORIAN
METHOD:PUBLISH
X-WR-CALNAME:Ateneo Mercantil de Valencia
X-ORIGINAL-URL:https://historico.ateneovalencia.es
X-WR-CALDESC:Eventos para Ateneo Mercantil de Valencia
REFRESH-INTERVAL;VALUE=DURATION:PT1H
X-Robots-Tag:noindex
X-PUBLISHED-TTL:PT1H
BEGIN:VTIMEZONE
TZID:Europe/Madrid
BEGIN:DAYLIGHT
TZOFFSETFROM:+0100
TZOFFSETTO:+0200
TZNAME:CEST
DTSTART:20240331T010000
END:DAYLIGHT
BEGIN:STANDARD
TZOFFSETFROM:+0200
TZOFFSETTO:+0100
TZNAME:CET
DTSTART:20241027T010000
END:STANDARD
END:VTIMEZONE
BEGIN:VEVENT
DTSTART;TZID=Europe/Madrid:20241212T190000
DTEND;TZID=Europe/Madrid:20241212T203000
DTSTAMP:20260423T051311
CREATED:20241023T174512Z
LAST-MODIFIED:20241023T174920Z
UID:81915-1734030000-1734035400@historico.ateneovalencia.es
SUMMARY:Presentación del libro: Historia de dos Valencias (otra forma de contarla...)
DESCRIPTION:Como indica el título\, este libro va de historia de Valencia. Pero\, según el subtítulo\, contada de otra manera. Joaquín Borrell\, en el momento de la edición de este trabajo\, el notario en activo más antiguo de Valencia\, se ha propuesto compendiar a guisa de mosaico en capítulos breves nuestra historia más relevante\, la de la ciudad y también colateralmente la del Reino\, desde los primeros pobladores hasta el inicio de la transición. Este estilo permite una visión completa\, narrándose en un lenguaje llano y agregando anécdotas y curiosidades con estimables dosis de humor que harán su lectura muy amena. \nPresentación del libro: Historia de dos Valencias (otra forma de contarla...) \nIntervienen: Ilmo. Sr. D. Joaquín Borrell García. Notario\, jurista y escritor. Autor de la obra y D. Salvador Raga. Fundación Vinatea Editorial. \nDía: Jueves\, 12 de diciembre de 2024 \nHora: 19 horas \nLugar: Salón Sorolla \nEntrada libre y gratuita hasta completar aforo. \nCartel:
URL:https://historico.ateneovalencia.es/evento/presentacion-del-libro-historia-de-dos-valencias-otra-forma-de-contarla/
LOCATION:Salón Sorolla - Ateneo Mercantil de Valencia\, Plaza del Ayuntamiento 18\, Valencia\, Valencia\, 46002\, España
CATEGORIES:Presentación de Libros
ATTACH;FMTTYPE=image/jpeg:https://historico.ateneovalencia.es/wp-content/uploads/2024/10/20241212-Presentacion-Libro-Dos-Valencias.jpg
END:VEVENT
END:VCALENDAR