BEGIN:VCALENDAR
VERSION:2.0
PRODID:-//Ateneo Mercantil de Valencia - ECPv6.0.4//NONSGML v1.0//EN
CALSCALE:GREGORIAN
METHOD:PUBLISH
X-ORIGINAL-URL:https://historico.ateneovalencia.es
X-WR-CALDESC:Eventos para Ateneo Mercantil de Valencia
REFRESH-INTERVAL;VALUE=DURATION:PT1H
X-Robots-Tag:noindex
X-PUBLISHED-TTL:PT1H
BEGIN:VTIMEZONE
TZID:Europe/Madrid
BEGIN:DAYLIGHT
TZOFFSETFROM:+0100
TZOFFSETTO:+0200
TZNAME:CEST
DTSTART:20240331T010000
END:DAYLIGHT
BEGIN:STANDARD
TZOFFSETFROM:+0200
TZOFFSETTO:+0100
TZNAME:CET
DTSTART:20241027T010000
END:STANDARD
END:VTIMEZONE
BEGIN:VEVENT
DTSTART;TZID=Europe/Madrid:20241210T190000
DTEND;TZID=Europe/Madrid:20241210T203000
DTSTAMP:20260423T051341
CREATED:20241209T194546Z
LAST-MODIFIED:20241209T195501Z
UID:82472-1733857200-1733862600@historico.ateneovalencia.es
SUMMARY:Presentación del libro: Historia de la Volta Ciclista a la Comunitat Valenciana (1929-2024)
DESCRIPTION:El próximo martes 10 de diciembre\, a las 19 horas\, el Teatro Ateneo del Ateneo Mercantil de Valencia acogerá la presentación de una obra imprescindible para los amantes del ciclismo: Historia de la Volta Ciclista a la Comunitat Valenciana (1929-2024)\, escrita por el prestigioso periodista deportivo Paco Lloret. \nCon motivo de la 75.ª edición de esta emblemática competición ciclista\, el libro repasa su fascinante historia\, desde sus inicios hasta la actualidad. Lloret desvela los momentos más memorables\, las anécdotas detrás de las etapas y las figuras legendarias que han marcado la Volta a lo largo de los años. \nEl 50% de la recaudación de la venta de libros irá destinada a los afectados por la DANA.\n\nUn evento para los amantes del ciclismo\nEste evento está abierto a todos los aficionados al ciclismo\, así como a clubes\, escuelas y entidades deportivas que quieran rendir homenaje a una de las competiciones más icónicas de nuestra región. Además de disfrutar de una conversación con el autor\, será una oportunidad única para compartir y revivir los hitos que han hecho de la Volta una referencia en el calendario ciclista internacional. \n\nDetalles del evento:\n📅 Fecha: Martes 10 de diciembre\n⏰ Hora: 19:00 h\n📍 Lugar: Teatro Ateneo\, Ateneo Mercantil de Valencia \n\nNo te pierdas esta cita con la historia y el deporte! Ven y sé parte de la celebración de la Volta a la Comunitat Valenciana en su 75.ª edición. 🎉🚵 \nEntrada libre hasta completar aforo. \nPortada:\n \n 
URL:https://historico.ateneovalencia.es/evento/presentacion-del-libro-historia-de-la-volta-ciclista-a-la-comunitat-valenciana-1929-2024/
LOCATION:Teatro Ateneo
CATEGORIES:Presentación de Libros
ATTACH;FMTTYPE=image/jpeg:https://historico.ateneovalencia.es/wp-content/uploads/2024/12/20241210-Libro-Volta-Ciclista-Comunitat-Valenciana.jpg
END:VEVENT
END:VCALENDAR