BEGIN:VCALENDAR
VERSION:2.0
PRODID:-//Ateneo Mercantil de Valencia - ECPv6.0.4//NONSGML v1.0//EN
CALSCALE:GREGORIAN
METHOD:PUBLISH
X-WR-CALNAME:Ateneo Mercantil de Valencia
X-ORIGINAL-URL:https://historico.ateneovalencia.es
X-WR-CALDESC:Eventos para Ateneo Mercantil de Valencia
REFRESH-INTERVAL;VALUE=DURATION:PT1H
X-Robots-Tag:noindex
X-PUBLISHED-TTL:PT1H
BEGIN:VTIMEZONE
TZID:Europe/Madrid
BEGIN:DAYLIGHT
TZOFFSETFROM:+0100
TZOFFSETTO:+0200
TZNAME:CEST
DTSTART:20240331T010000
END:DAYLIGHT
BEGIN:STANDARD
TZOFFSETFROM:+0200
TZOFFSETTO:+0100
TZNAME:CET
DTSTART:20241027T010000
END:STANDARD
END:VTIMEZONE
BEGIN:VEVENT
DTSTART;TZID=Europe/Madrid:20240212T190000
DTEND;TZID=Europe/Madrid:20240212T203000
DTSTAMP:20260425T121936
CREATED:20240116T125828Z
LAST-MODIFIED:20240116T125828Z
UID:76317-1707764400-1707769800@historico.ateneovalencia.es
SUMMARY:Presentación de la novela "Lápidas sin nombre" de Manuel Gómez Tejedor
DESCRIPTION:El Ateneo Mercantil en colaboración con la Editorial Acen presentan la novela "Lápidas sin nombre" de Manuel Gómez Tejedor en el Salón Sorolla el próximo lunes 12 de febrero a las 19 horas. Un acto que contará con la presencia del autor del libro\, pero además\, estará acompañado en la mesa por la presidenta del Ateneo Mercantil\, Carmen de Rosa Torner y por el subdirector de El Español\, Vicente Ferrer Molina. \nLápidas sin nombre muestra la vida de un perdedor\, de un hombre sin estrella\, desde su nacimiento (1935) hasta su muerte (1991). Pero el verdadero protagonista es su hijo\, que tras 25 años sin saber nada de él\, lo localiza una vez ya ha fallecido. La obra retrata los años de posguerra y sus orfanatos; el mundo de los albergues en los 60 y sus vagabundos; los bajos fondos de una gran ciudad\, el proxenetismo\, la mendicidad y las drogas. Los hechos transcurren en tierras de Aragón\, en Sidi Ifni\, en rincones diversos del país... \nCartel:\n \n 
URL:https://historico.ateneovalencia.es/evento/presentacion-de-la-novela-lapidas-sin-nombre-de-manuel-gomez-tejedor/
LOCATION:Salón Sorolla - Ateneo Mercantil de Valencia\, Plaza del Ayuntamiento 18\, Valencia\, Valencia\, 46002\, España
CATEGORIES:Presentación de Libros
ATTACH;FMTTYPE=image/jpeg:https://historico.ateneovalencia.es/wp-content/uploads/2024/01/20240212-Libro-Lapidas-Sin-Nombre-1.jpg
END:VEVENT
END:VCALENDAR