BEGIN:VCALENDAR
VERSION:2.0
PRODID:-//Ateneo Mercantil de Valencia - ECPv6.0.4//NONSGML v1.0//EN
CALSCALE:GREGORIAN
METHOD:PUBLISH
X-ORIGINAL-URL:https://historico.ateneovalencia.es
X-WR-CALDESC:Eventos para Ateneo Mercantil de Valencia
REFRESH-INTERVAL;VALUE=DURATION:PT1H
X-Robots-Tag:noindex
X-PUBLISHED-TTL:PT1H
BEGIN:VTIMEZONE
TZID:Europe/Madrid
BEGIN:DAYLIGHT
TZOFFSETFROM:+0100
TZOFFSETTO:+0200
TZNAME:CEST
DTSTART:20240331T010000
END:DAYLIGHT
BEGIN:STANDARD
TZOFFSETFROM:+0200
TZOFFSETTO:+0100
TZNAME:CET
DTSTART:20241027T010000
END:STANDARD
END:VTIMEZONE
BEGIN:VEVENT
DTSTART;TZID=Europe/Madrid:20241024T190000
DTEND;TZID=Europe/Madrid:20241024T203000
DTSTAMP:20260423T124906
CREATED:20241016T120427Z
LAST-MODIFIED:20241016T120448Z
UID:81869-1729796400-1729801800@historico.ateneovalencia.es
SUMMARY:Presentación del libro: Aventura de un Escritor Valenciano
DESCRIPTION:El protagonista de esta obra es un escritor valenciano que\, por una serie de circunstancias\, y en su ánimo de viajar\, para salir de la monotonía\, se ve envuelto en una aventura y sucesos que nunca hubiese podido imaginar. Esta novela de ficción se ha desarrollado en distintas capitales de Europa\, donde los personajes podrían ser reales\, pero no lo son\, o ¿tal vez sí? El lector inteligente\, sabrá sacar conclusiones de las situaciones vividas por nuestro protagonista\, en cuyos viajes\, establecerá vínculos de personas... \nTítulo: Aventura de un Escritor Valenciano \nConferenciante: Víctor J. Hortelano Carpio. Autor del libro. \nDía: Jueves\, 24 de octubre de 2024 \nHora: 19 horas \nLugar: Salón Sorolla \nEntrada libre y gratuita hasta completar aforo. \nCartel:
URL:https://historico.ateneovalencia.es/evento/presentacion-del-libro-aventura-de-un-escritor-valenciano/
LOCATION:Salón Sorolla - Ateneo Mercantil de Valencia\, Plaza del Ayuntamiento 18\, Valencia\, Valencia\, 46002\, España
CATEGORIES:Presentación de Libros
ATTACH;FMTTYPE=image/jpeg:https://historico.ateneovalencia.es/wp-content/uploads/2024/10/20241024-Presentacion-Libro-Escritor-Valenciano.jpg
END:VEVENT
BEGIN:VEVENT
DTSTART;TZID=Europe/Madrid:20241025T190000
DTEND;TZID=Europe/Madrid:20241025T203000
DTSTAMP:20260423T124906
CREATED:20241022T093231Z
LAST-MODIFIED:20241022T093232Z
UID:81905-1729882800-1729888200@historico.ateneovalencia.es
SUMMARY:Presentación del libro: La partitura de la Reina
DESCRIPTION:Después de sus dos primeras obras: Historia oculta de la música y Homo Musicalis\, Luis Antonio Muñoz nos ofrece su primera novela. Una investigación sobre una reina de España\, bastante poco conocida por la historiografía moderna y no demasiado bien tratada por la sociedad española de su época\, especialmente después de su muerte. \nPortuguesa de nacimiento y española de adopción\, Bárbara de Braganza encontró en la música un refugio de paz y serenidad. Educada exquisitamente por su madre\, esta desconocida reina jugó un papel crucial en el desarrollo estratégico de la paz entre España y Portugal\, así como con los principales adversarios de la corona española\, como Francia o Inglaterra. \nLa partitura de la reina es el primer trabajo de ficción de Luis Antonio Muñoz. Se trata de una novela histórica basada en la relación que la reina Bárbara de Braganza tuvo con la música a lo largo de su vida. \nPresentación del libro: La partitura de la Reina. Bárbara de Braganza y la música. \nConferenciante: Luis Antonio Muñoz \nDía: Viernes\, 25 de octubre de 2024 \nHora: 19 horas \nLugar: Salón Sorolla \nEntrada libre y gratuita hasta completar aforo. \nCartel:\n \n 
URL:https://historico.ateneovalencia.es/evento/presentacion-del-libro-la-partitura-de-la-reina/
LOCATION:Salón Sorolla - Ateneo Mercantil de Valencia\, Plaza del Ayuntamiento 18\, Valencia\, Valencia\, 46002\, España
CATEGORIES:Presentación de Libros
ATTACH;FMTTYPE=image/jpeg:https://historico.ateneovalencia.es/wp-content/uploads/2024/10/20241025-Presentacion-Libro-Partitura-Reina.jpg
END:VEVENT
END:VCALENDAR