BEGIN:VCALENDAR
VERSION:2.0
PRODID:-//Ateneo Mercantil de Valencia - ECPv6.0.4//NONSGML v1.0//EN
CALSCALE:GREGORIAN
METHOD:PUBLISH
X-ORIGINAL-URL:https://historico.ateneovalencia.es
X-WR-CALDESC:Eventos para Ateneo Mercantil de Valencia
REFRESH-INTERVAL;VALUE=DURATION:PT1H
X-Robots-Tag:noindex
X-PUBLISHED-TTL:PT1H
BEGIN:VTIMEZONE
TZID:Europe/Madrid
BEGIN:DAYLIGHT
TZOFFSETFROM:+0100
TZOFFSETTO:+0200
TZNAME:CEST
DTSTART:20240331T010000
END:DAYLIGHT
BEGIN:STANDARD
TZOFFSETFROM:+0200
TZOFFSETTO:+0100
TZNAME:CET
DTSTART:20241027T010000
END:STANDARD
END:VTIMEZONE
BEGIN:VEVENT
DTSTART;TZID=Europe/Madrid:20240619T183000
DTEND;TZID=Europe/Madrid:20240619T203000
DTSTAMP:20260421T183602
CREATED:20240602T173213Z
LAST-MODIFIED:20240602T173213Z
UID:78196-1718821800-1718829000@historico.ateneovalencia.es
SUMMARY:VI Encuentro poético "Tardes de Poesía" - Aula I y II del Ateneo
DESCRIPTION:De nuevo la poesía toma carta de naturaleza en el Ateneo Mercantil de Valencia\, y aúna voluntades y sensibilidades. Las dos Aulas de Poesía\, hermanadas en un evento que suele ir más allá de lo meramente literario\, ofrecen un recital conjunto donde poder escuchar distintas voces y registros variados. \nLa temática es libre\, lo que abrirá el acto en un abanico de inspiraciones diversas; la entrada es libre y abierta a cualquier sibarita de las buenas letras. Quien desee tomar contacto con la actividad poética que tiene lugar en nuestra entidad no tiene más que acercarse la tarde del 19 de junio para conocer y degustar de primera mano las creaciones más actuales del rico panorama que\, alrededor de la poesía\, se van gestando en nuestra ciudad. \nTítulo: VI Encuentro poético "Tardes de Poesía" - Aula I y II del Ateneo \nPresentan: Félix Molina (Aula I) y Rosa Llorens (Aula II) \nDía: Miércoles\, 19 de junio de 2024 \nHora: 18.30 horas \nLugar: Salón Sorolla \nEntrada libre y gratuita hasta completar aforo. \nCartel:
URL:https://historico.ateneovalencia.es/evento/vi-encuentro-poetico-tardes-de-poesia-aula-i-y-ii-del-ateneo/
LOCATION:Salón Sorolla - Ateneo Mercantil de Valencia\, Plaza del Ayuntamiento 18\, Valencia\, Valencia\, 46002\, España
CATEGORIES:Aula de Poesía,Poesia
ATTACH;FMTTYPE=image/jpeg:https://historico.ateneovalencia.es/wp-content/uploads/2024/06/20240619-Aula-I-Aula-II-de-Poesia-VI-Encuentro-Poetico.jpg
END:VEVENT
END:VCALENDAR