BEGIN:VCALENDAR
VERSION:2.0
PRODID:-//Ateneo Mercantil de Valencia - ECPv6.0.4//NONSGML v1.0//EN
CALSCALE:GREGORIAN
METHOD:PUBLISH
X-ORIGINAL-URL:https://historico.ateneovalencia.es
X-WR-CALDESC:Eventos para Ateneo Mercantil de Valencia
REFRESH-INTERVAL;VALUE=DURATION:PT1H
X-Robots-Tag:noindex
X-PUBLISHED-TTL:PT1H
BEGIN:VTIMEZONE
TZID:Europe/Madrid
BEGIN:DAYLIGHT
TZOFFSETFROM:+0100
TZOFFSETTO:+0200
TZNAME:CEST
DTSTART:20240331T010000
END:DAYLIGHT
BEGIN:STANDARD
TZOFFSETFROM:+0200
TZOFFSETTO:+0100
TZNAME:CET
DTSTART:20241027T010000
END:STANDARD
END:VTIMEZONE
BEGIN:VEVENT
DTSTART;TZID=Europe/Madrid:20240115T183000
DTEND;TZID=Europe/Madrid:20240115T200000
DTSTAMP:20260421T213744
CREATED:20240108T091351Z
LAST-MODIFIED:20240108T091352Z
UID:76265-1705343400-1705348800@historico.ateneovalencia.es
SUMMARY:VIII Premios Ateneo Mercantil de Valencia 2023: Premiados Mavi Mestre\, Pilar Roig\, Enith Salón e Ivana Andrés
DESCRIPTION:El próximo 15 de enero de 2024 llega la gala de entrega de premios de la VIII edición de los Premios Ateneo Mercantil Valencia. Un acto en el que se vuelve a premiar a todas esas personalidades valencianas que han destacado de una manera u otra en su vida laboral y privada y han llevado el nombre de Valencia y de la Comunitat Valenciana por España y por todo el mundo. De nuevo\, ilustres personalidades o entidades serán premiadas por su éxito personal y por su aportación a la sociedad valenciana. \nEste año los premios han recaído en: \n\nPremio Ciencias Humanas y Comunicación: Dª. María Vicenta Mestre Escrivá\nPremio Bellas Artes y Creatividad: Dª. Pilar Roig Picazo\nPremio Educación\, Cultura y Deporte: Dª. Enith Salón y Dª. Ivana Andrés.\n\nCartel:
URL:https://historico.ateneovalencia.es/evento/viii-premios-ateneo-mercantil-de-valencia-2023-premiados-mavi-mestre-pilar-roig-enith-salon-e-ivana-andres/
LOCATION:Teatro Ateneo
CATEGORIES:Premios Ateneo Mercantil
ATTACH;FMTTYPE=image/jpeg:https://historico.ateneovalencia.es/wp-content/uploads/2024/01/20240115-Premios-Ateneo.jpg
END:VEVENT
END:VCALENDAR