BEGIN:VCALENDAR
VERSION:2.0
PRODID:-//Ateneo Mercantil de Valencia - ECPv6.0.4//NONSGML v1.0//EN
CALSCALE:GREGORIAN
METHOD:PUBLISH
X-WR-CALNAME:Ateneo Mercantil de Valencia
X-ORIGINAL-URL:https://historico.ateneovalencia.es
X-WR-CALDESC:Eventos para Ateneo Mercantil de Valencia
REFRESH-INTERVAL;VALUE=DURATION:PT1H
X-Robots-Tag:noindex
X-PUBLISHED-TTL:PT1H
BEGIN:VTIMEZONE
TZID:Europe/Madrid
BEGIN:DAYLIGHT
TZOFFSETFROM:+0100
TZOFFSETTO:+0200
TZNAME:CEST
DTSTART:20220327T010000
END:DAYLIGHT
BEGIN:STANDARD
TZOFFSETFROM:+0200
TZOFFSETTO:+0100
TZNAME:CET
DTSTART:20221030T010000
END:STANDARD
BEGIN:DAYLIGHT
TZOFFSETFROM:+0100
TZOFFSETTO:+0200
TZNAME:CEST
DTSTART:20230326T010000
END:DAYLIGHT
BEGIN:STANDARD
TZOFFSETFROM:+0200
TZOFFSETTO:+0100
TZNAME:CET
DTSTART:20231029T010000
END:STANDARD
END:VTIMEZONE
BEGIN:VEVENT
DTSTART;TZID=Europe/Madrid:20221210T100000
DTEND;TZID=Europe/Madrid:20230105T210000
DTSTAMP:20260426T045832
CREATED:20221122T094631Z
LAST-MODIFIED:20221122T103011Z
UID:71968-1670666400-1672952400@historico.ateneovalencia.es
SUMMARY:Market Navideño Solidario por África de la Fundación Juntos por la Vida
DESCRIPTION:La Fundación Juntos por la Vida y el Ateneo Mercantil de Valencia vuelven a unir sus fuerzas para recaudar dinero por África. Así el próximo sábado 10 de diciembre se pone en marcha un Mercadillo Navideño en el Salón Noble de nuestra institución en el que se podrán adquirir toda una serie de artículos que se han diseñado y producido expresamente para este market solidario. Un mercadillo que estará abierto hasta el próximo jueves 5 de enero de 2023. \nOtra estupenda iniciativa solidaria. Se trata de un Market Navideño espectacular\, una navidad diferente\, en la que se podrán adquirir productos de complementos como pulseras\, collares... realizados por los propios niños de Benin\, así como productos de decoración navideña. En este market encontraréis productos originales\, únicos y a los mejores precios. Los beneficios íntegramente irán destinados para los niños de Benin\, que a su vez\, celebrarán un concierto solidario el próximo jueves 12 de enero en el Teatro Ateneo y cuyas entradas/donativos se pueden adquirir tanto en Taquillas como en Online: venta de entradas Concierto Voces por Benin. \nCartel:
URL:https://historico.ateneovalencia.es/evento/market-navideno-solidario-por-africa-de-la-fundacion-juntos-por-la-vida/
LOCATION:Salón Noble - Ateneo Mercantil de Valencia\, Plaza del Ayuntamiento 18\, Valencia\, Valencia\, 46002\, España
CATEGORIES:Mercadillo
ATTACH;FMTTYPE=image/jpeg:https://historico.ateneovalencia.es/wp-content/uploads/2022/11/20221210-Market-Solidario-Juntos-por-la-Vida.jpg
END:VEVENT
END:VCALENDAR