BEGIN:VCALENDAR
VERSION:2.0
PRODID:-//Ateneo Mercantil de Valencia - ECPv6.0.4//NONSGML v1.0//EN
CALSCALE:GREGORIAN
METHOD:PUBLISH
X-ORIGINAL-URL:https://historico.ateneovalencia.es
X-WR-CALDESC:Eventos para Ateneo Mercantil de Valencia
REFRESH-INTERVAL;VALUE=DURATION:PT1H
X-Robots-Tag:noindex
X-PUBLISHED-TTL:PT1H
BEGIN:VTIMEZONE
TZID:Europe/Madrid
BEGIN:DAYLIGHT
TZOFFSETFROM:+0100
TZOFFSETTO:+0200
TZNAME:CEST
DTSTART:20250330T010000
END:DAYLIGHT
BEGIN:STANDARD
TZOFFSETFROM:+0200
TZOFFSETTO:+0100
TZNAME:CET
DTSTART:20251026T010000
END:STANDARD
END:VTIMEZONE
BEGIN:VEVENT
DTSTART;TZID=Europe/Madrid:20250322T093000
DTEND;TZID=Europe/Madrid:20250322T210000
DTSTAMP:20260421T170850
CREATED:20250305T095016Z
LAST-MODIFIED:20250305T095016Z
UID:83285-1742635800-1742677200@historico.ateneovalencia.es
SUMMARY:Maratón Open de Mus Fallas 2025
DESCRIPTION:El Ateneo Mercantil de Valencia organiza un nuevo Maratón de Fallas de Mus en modalidad Open que se celebrará el próximo sábado 22 de marzo desde las 9.30 horas en la Sala de Juegos (2º piso del Ateneo). Un torneo que es ya tradicional en nuestra institución. \nFecha y Hora:\nSábado 22 de marzo de 2025 - Desde las 9:30 h \nLugar:\nSala de Juegos (2º piso del Ateneo Mercantil) \nCuota de Inscripción: \n\nSocios: 15€\nNo Socios: 20€\n\nInscripciones:\nYa está abierto el plazo de inscripción para el Maratón Open de Mus "Fallas 2025"\, un evento con gran acogida entre los socios del Ateneo. Si sabes jugar al mus\, no dudes en apuntarte. \n\nFecha límite de inscripción: Jueves 20 de marzo de 2025\nContacto para inscribirse: Dª. Isabel - Teléfono: 646.31.08.18\nNota importante: Es imprescindible saber jugar con soltura.\n\nModalidad de juego:\nEl torneo se juega por parejas y el sistema de competición dependerá del número de participantes: \n\nMaratón a tres ceros\nLiguilla\n\nLa modalidad definitiva se comunicará a las parejas inscritas antes del inicio del torneo. \nReglamento y Normas: \n\nLas partidas se jugarán al mejor de 5 juegos de 40 tantos.\nVálida la real con figura.\nSe aplicarán las normas del Reglamento de la Federación Española de Mus.\n\n¡No pierdas la oportunidad de participar en este emocionante evento y demostrar tu habilidad en el Mus! \nCartel:
URL:https://historico.ateneovalencia.es/evento/maraton-open-de-mus-fallas-2025/
LOCATION:Sala Recreo-Juegos - Ateneo Mercantil de Valencia\, Plaza del Ayuntamiento\, 18\, Valencia\, España\, Valencia\, Valencia\, 46002\, España
CATEGORIES:Juegos
ATTACH;FMTTYPE=image/jpeg:https://historico.ateneovalencia.es/wp-content/uploads/2024/01/20161216-Torneo-Mus-Navidad-2016.jpg
END:VEVENT
END:VCALENDAR