BEGIN:VCALENDAR
VERSION:2.0
PRODID:-//Ateneo Mercantil de Valencia - ECPv6.0.4//NONSGML v1.0//EN
CALSCALE:GREGORIAN
METHOD:PUBLISH
X-WR-CALNAME:Ateneo Mercantil de Valencia
X-ORIGINAL-URL:https://historico.ateneovalencia.es
X-WR-CALDESC:Eventos para Ateneo Mercantil de Valencia
REFRESH-INTERVAL;VALUE=DURATION:PT1H
X-Robots-Tag:noindex
X-PUBLISHED-TTL:PT1H
BEGIN:VTIMEZONE
TZID:Europe/Madrid
BEGIN:DAYLIGHT
TZOFFSETFROM:+0100
TZOFFSETTO:+0200
TZNAME:CEST
DTSTART:20250330T010000
END:DAYLIGHT
BEGIN:STANDARD
TZOFFSETFROM:+0200
TZOFFSETTO:+0100
TZNAME:CET
DTSTART:20251026T010000
END:STANDARD
END:VTIMEZONE
BEGIN:VEVENT
DTSTART;TZID=Europe/Madrid:20250214T180000
DTEND;TZID=Europe/Madrid:20250216T200000
DTSTAMP:20260421T021653
CREATED:20250212T194125Z
LAST-MODIFIED:20250212T194926Z
UID:83083-1739556000-1739736000@historico.ateneovalencia.es
SUMMARY:Mercado Solidario Artesanal DANA – Apoya a los Artesanos Afectados
DESCRIPTION:El Club de Innovación del Ateneo Mercantil de Valencia ha puesto en marcha un evento solidario este próximo fin de semana para tratar de paliar en lo posible los problemas económicos que están sufriendo las empresas artesanales de los pueblos afectados por la DANA que arrasó las poblaciones valencianas. \n📆 Fechas: Viernes 14 de febrero (16:00-20:00 h)\, sábado 15 y domingo 16 de febrero (11:00-20:00 h)\n📍 Lugar: Salón Noble\, Ateneo Mercantil de Valencia (Plaza del Ayuntamiento\, 18)\n🎟 Entrada libre \nEl Ateneo Mercantil de Valencia abre sus puertas este fin de semana al Mercado Artesanal DANA\, un evento solidario en apoyo a las empresas artesanas afectadas por la inundación del pasado 29 de octubre. Cerca de 25 expositores de las localidades damnificadas presentarán sus productos en un esfuerzo por recuperar sus negocios. \nGracias a la colaboración de vecinos y comerciantes\, muchos artesanos podrán exhibir su trabajo y vender sus productos. Todo lo recaudado se destinará íntegramente a los propios expositores. \nVen a disfrutar de la tradición artesanal valenciana y apoya a quienes más lo necesitan. En este mercado encontrarás una gran variedad de productos artesanos: cerámica\, joyería\, textil\, decoración\, arte y mucho más. Es una oportunidad única para adquirir artículos originales mientras contribuyes a la recuperación de estos talentosos artesanos. \n👉 Aún puedes participar si tienes una empresa artesanal en las poblaciones afectadas.\n📩 ¡No te quedes fuera! Escríbenos para más información a clubdeinnovacionyempresa@ateneovalencia.es\n \n#Solidaridad #Artesanía #Valencia \nCartel:
URL:https://historico.ateneovalencia.es/evento/mercado-artesanal-dana-apoya-a-los-artesanos-afectados/
LOCATION:Salón Noble - Ateneo Mercantil de Valencia\, Plaza del Ayuntamiento 18\, Valencia\, Valencia\, 46002\, España
CATEGORIES:Ateneo Club de Innovación y Empresa,Jornada
ATTACH;FMTTYPE=image/jpeg:https://historico.ateneovalencia.es/wp-content/uploads/2025/02/20250214-Mercadillo-Afectados-DANA.jpg
ORGANIZER;CN="Ateneo%20Club%20de%20Innovaci%C3%B3n%20y%20Empresa":MAILTO:clubdeinnovacionyempresa@ateneovalencia.es
END:VEVENT
END:VCALENDAR