BEGIN:VCALENDAR
VERSION:2.0
PRODID:-//Ateneo Mercantil de Valencia - ECPv6.0.4//NONSGML v1.0//EN
CALSCALE:GREGORIAN
METHOD:PUBLISH
X-ORIGINAL-URL:https://historico.ateneovalencia.es
X-WR-CALDESC:Eventos para Ateneo Mercantil de Valencia
REFRESH-INTERVAL;VALUE=DURATION:PT1H
X-Robots-Tag:noindex
X-PUBLISHED-TTL:PT1H
BEGIN:VTIMEZONE
TZID:Europe/Madrid
BEGIN:DAYLIGHT
TZOFFSETFROM:+0100
TZOFFSETTO:+0200
TZNAME:CEST
DTSTART:20240331T010000
END:DAYLIGHT
BEGIN:STANDARD
TZOFFSETFROM:+0200
TZOFFSETTO:+0100
TZNAME:CET
DTSTART:20241027T010000
END:STANDARD
END:VTIMEZONE
BEGIN:VEVENT
DTSTART;TZID=Europe/Madrid:20240606T183000
DTEND;TZID=Europe/Madrid:20240606T203000
DTSTAMP:20260421T193852
CREATED:20240520T093809Z
LAST-MODIFIED:20240520T093912Z
UID:78046-1717698600-1717705800@historico.ateneovalencia.es
SUMMARY:Jornada Seguridad contra incendios - Medidas preventivas y de mantenimiento. Plan de actuación ante una alarma detectada
DESCRIPTION:El Colegio Oficial de la Arquitectura Técnica de Valencia y la Fundación Arquitectura Técnica Valenciana organizan una nueva jornada el próximo jueves 6 de junio a las 18.30 horas en el Salón Sorolla (5º piso) del Ateneo Mercantil de Valencia. Una jornada que tratará sobre "Seguridad contra incendios. Medidas preventivas y de mantenimiento básicas. Plan de actuación ante una alarma detectada". \n\nFecha: 6 de junio de 2024\nHorario: De 18:30 a 20:00 horas\nLugar: Salón Sorolla del Ateneo Mercantil de Valencia\nJornada gratuita | Acceso libre\n\nLos objetivos de la presente jornada pretende analizar y valorar los posibles orígenes de un incendio; los medios más básicos para combatirlos cuando son incipientes\, utilización y mantenimiento de los mismos; conceptos básicos y protocolos de evacuación. También analizaremos los elementos\, presentes habitualmente en una vivienda\, susceptibles de originar un incendio\, así como su mantenimiento y revisiones. \nPrograma:\n18:30h: Presentación\nPor Salvador Mocholí Alabau. Vicepresidente de COAT Valencia. \n18:40h: Ponencia \nPonente: Marcel.lí Rosaleny. Arquitecto técnico\, exprofesor de la ETSIE UPV y exjefe de Guardia Cos de Bombers C.P. de Valencia. \n\nDinámica del incendio en viviendas y recintos habitables.\nFactores de riesgo de incendio y explosión (hogar y recintos diversos).\nTriangulo de la Seguridad en el hogar y recintos de pública concurrencia.\nRecursos disponibles de protección de incendios y de extinción (viviendas\, comunidades de vecinos y recintos varios).\nLa autoprotección\, planes y medidas de emergencia en el hogar y comunidades de vecinos.\nConsejos básicos (sobrevivir a un incendio).\n\n19:30h: Conclusiones y preguntas.\n20:00h: Clausura de la jornada. \nCartel:
URL:https://historico.ateneovalencia.es/evento/jornada-seguridad-contra-incendios-medidas-preventivas-y-de-mantenimiento-plan-de-actuacion-ante-una-alarma-detectada/
LOCATION:Salón Sorolla - Ateneo Mercantil de Valencia\, Plaza del Ayuntamiento 18\, Valencia\, Valencia\, 46002\, España
CATEGORIES:Jornada
ATTACH;FMTTYPE=image/jpeg:https://historico.ateneovalencia.es/wp-content/uploads/2024/05/20240606-Jornada-Incendios-COAT-Valencia.jpg
END:VEVENT
END:VCALENDAR