BEGIN:VCALENDAR
VERSION:2.0
PRODID:-//Ateneo Mercantil de Valencia - ECPv6.0.4//NONSGML v1.0//EN
CALSCALE:GREGORIAN
METHOD:PUBLISH
X-ORIGINAL-URL:https://historico.ateneovalencia.es
X-WR-CALDESC:Eventos para Ateneo Mercantil de Valencia
REFRESH-INTERVAL;VALUE=DURATION:PT1H
X-Robots-Tag:noindex
X-PUBLISHED-TTL:PT1H
BEGIN:VTIMEZONE
TZID:Europe/Madrid
BEGIN:DAYLIGHT
TZOFFSETFROM:+0100
TZOFFSETTO:+0200
TZNAME:CEST
DTSTART:20220327T010000
END:DAYLIGHT
BEGIN:STANDARD
TZOFFSETFROM:+0200
TZOFFSETTO:+0100
TZNAME:CET
DTSTART:20221030T010000
END:STANDARD
END:VTIMEZONE
BEGIN:VEVENT
DTSTART;TZID=Europe/Madrid:20221018T180000
DTEND;TZID=Europe/Madrid:20221018T210000
DTSTAMP:20260422T154802
CREATED:20221018T115505Z
LAST-MODIFIED:20221018T115529Z
UID:71474-1666116000-1666126800@historico.ateneovalencia.es
SUMMARY:Jornada "Humanizar la Frontera Sur desde las raíces"
DESCRIPTION:En un momento en el que la humanidad afronta nuevas crisis y múltiples retos\, la jornada "Humanizar la Frontera Sur desde las raíces" servirá para hacer un alto en el camino y acercarse al desafío de la movilidad humana y redescubrirlo como una sorprendente oportunidad. \nEn el Ateneo Mercantil de Valencia (Plaza del Ayuntamiento\, 18 de Valencia) este martes 18 de octubre de 2022 a las 18 horas arranca en el Salón Sorolla una jornada de reflexión sobre la realidad migratoria. Con propuestas que son semillas de vida para las personas migrantes y un motivo de esperanza para nuestras sociedades. \nUna jornada en la que se acercará a la Frontera Sur y a la importancia de trabajar en las comunidades de origen para ofrecer una respuesta más humana a la situación que se vive en nuestras fronteras y frente a nuestras costas. \nLa jornada "Humanizar la Frontera Sur desde las raíces" participan Delegaciones Diocesanas de Migraciones\, el Servicio Jesuita a Migrantes de Valencia y el Secretariado de Misiones de la Compañía de Jesús. El acto es de entrada libre y gratuita hasta completar aforo. \nPrograma:\n18h: Palabras de bienvenida y acto de presentación \n18.30h: En el centro\, la experiencia. Testimonios de duelo y esperanza (DDM) \n19h: Hospitalidad y redes de solidaridad (SJM) \n19.30h: Pausa \n20h: La intervención en Origen. Proyecto Senegal (DDM) \n20.30h: El rol del Secretariado de Misiones de la Compañía de Jesús (SM) \n20.45h: Narrativas de esperanza: el Papa y el Dicasterio “Migrantes y Refugiados”. \n21h: Vino de despedida \nCartel:
URL:https://historico.ateneovalencia.es/evento/jornada-humanizar-la-frontera-sur-desde-las-raices/
LOCATION:Salón Sorolla - Ateneo Mercantil de Valencia\, Plaza del Ayuntamiento 18\, Valencia\, Valencia\, 46002\, España
CATEGORIES:Jornada
ATTACH;FMTTYPE=image/jpeg:https://historico.ateneovalencia.es/wp-content/uploads/2022/10/20221018-Frontera-Sur.jpg
END:VEVENT
END:VCALENDAR