BEGIN:VCALENDAR
VERSION:2.0
PRODID:-//Ateneo Mercantil de Valencia - ECPv6.0.4//NONSGML v1.0//EN
CALSCALE:GREGORIAN
METHOD:PUBLISH
X-WR-CALNAME:Ateneo Mercantil de Valencia
X-ORIGINAL-URL:https://historico.ateneovalencia.es
X-WR-CALDESC:Eventos para Ateneo Mercantil de Valencia
REFRESH-INTERVAL;VALUE=DURATION:PT1H
X-Robots-Tag:noindex
X-PUBLISHED-TTL:PT1H
BEGIN:VTIMEZONE
TZID:Europe/Madrid
BEGIN:DAYLIGHT
TZOFFSETFROM:+0100
TZOFFSETTO:+0200
TZNAME:CEST
DTSTART:20220327T010000
END:DAYLIGHT
BEGIN:STANDARD
TZOFFSETFROM:+0200
TZOFFSETTO:+0100
TZNAME:CET
DTSTART:20221030T010000
END:STANDARD
END:VTIMEZONE
BEGIN:VEVENT
DTSTART;TZID=Europe/Madrid:20221014T113000
DTEND;TZID=Europe/Madrid:20221014T143000
DTSTAMP:20260421T120823
CREATED:20221013T123203Z
LAST-MODIFIED:20221013T123205Z
UID:71435-1665747000-1665757800@historico.ateneovalencia.es
SUMMARY:Jornada sobre Inmigración y Seguridad Ciudadana
DESCRIPTION:El próximo viernes 14 de octubre\, la Fundación DENAES\, en colaboración con el GP Vox en las Cortes Valencianas organizan una nueva jornada de debates en la que se tratará la Inmigración y la Seguridad Ciudadana. En esta jornada participará el vicepresidente de VOX\, Javier Ortega Smith\, y tendrá lugar en el Salón Sorolla del Ateneo Mercantil de Valencia. \nEl horario de la jornada será de 11.30 a 14.15 horas. La entrada será libre hasta completar aforo de la sala. El acto será retransmitido por EsRadio Valencia. \nMesa de Inmigración:\n- Carlos Flores. Catedrático de Derecho Constitucional.\n- Rubén Pulido. Analista político experto en políticas migratorias.\n- Miguel Antonio Navarro. Inspector Jefe jubilado\, exjefe de servicio de la Brigada de Extranjería y Frontera\, Jefatura Superior de la CV.\n- Juan Sergio Redondo. Diputado y Presidente de VOX Ceuta. \nModera: Iván Vélez. Director de DENAES. \nMesa de Seguridad Ciudadana:\n- Ricardo Ferris. Inspector Jefe del CNP y Jefe de la Comisaría de Centro de Valencia.\n- José Manuel Vallejo. Vicepresidente de Una Policía para el s. XXI. GC.\n- Julio Utrilla. Diputado de VOX en el Congreso por Valencia. Miembro de la Comisión de Seguridad Nacional. \nModera: Jesús Wolstein. periodista de EsRadio. \nCartel:
URL:https://historico.ateneovalencia.es/evento/jornada-sobre-inmigracion-y-seguridad-ciudadana/
LOCATION:Salón Sorolla - Ateneo Mercantil de Valencia\, Plaza del Ayuntamiento 18\, Valencia\, Valencia\, 46002\, España
CATEGORIES:Jornada
ATTACH;FMTTYPE=image/jpeg:https://historico.ateneovalencia.es/wp-content/uploads/2022/10/20221014-INMIGRACION-Y-SEG-CIUDADANA.jpg
END:VEVENT
END:VCALENDAR