BEGIN:VCALENDAR
VERSION:2.0
PRODID:-//Ateneo Mercantil de Valencia - ECPv6.0.4//NONSGML v1.0//EN
CALSCALE:GREGORIAN
METHOD:PUBLISH
X-ORIGINAL-URL:https://historico.ateneovalencia.es
X-WR-CALDESC:Eventos para Ateneo Mercantil de Valencia
REFRESH-INTERVAL;VALUE=DURATION:PT1H
X-Robots-Tag:noindex
X-PUBLISHED-TTL:PT1H
BEGIN:VTIMEZONE
TZID:Europe/Madrid
BEGIN:DAYLIGHT
TZOFFSETFROM:+0100
TZOFFSETTO:+0200
TZNAME:CEST
DTSTART:20220327T010000
END:DAYLIGHT
BEGIN:STANDARD
TZOFFSETFROM:+0200
TZOFFSETTO:+0100
TZNAME:CET
DTSTART:20221030T010000
END:STANDARD
END:VTIMEZONE
BEGIN:VEVENT
DTSTART;TZID=Europe/Madrid:20220513T163000
DTEND;TZID=Europe/Madrid:20220513T203000
DTSTAMP:20260422T015756
CREATED:20220511T155236Z
LAST-MODIFIED:20220511T160952Z
UID:70140-1652459400-1652473800@historico.ateneovalencia.es
SUMMARY:Jornada sobre la Soberanía Energética
DESCRIPTION:El próximo viernes 13 de mayo a las 16.30 horas arranca una Jornada sobre Soberanía Energética en el Salón de Actos del Ateneo Mercantil de Valencia. Un evento que organiza DENAES y el Grupo Parlamentario VOX en las Cortes Valencianas. La entrada es libre hasta completar aforo. \nHorario de la Jornada\n16.30h. Bienvenida \nPonencia sobre la posición de VOX en relación a la soberanía energética por Iván Espinosa de los Monteros. \nPresenta el acto: Iván Vélez (Director de DENAES e historiador) \nMesa 1ª\nImportancia de la energía a nivel geoestratégico. En esta mesa se dará una visión global de la importancia estratégica de la producción de energía\, principales países productores\, repercusiones de la guerra de Ucrania\, alianzas internacionales y la importancia de la soberanía energética. \nModerador: Julio Ariza (periodista y empresario). \nPonentes: \n\nFlorentino Portero. Historiador\, investigador y miembro del Consejo Científico del Real Instituto Elcano.\nHumberto Calderón Berti. Exministro del petróleo de Venezuela\, expresidente de PEDEVESA y de la OPEP.\nRamón Sentís. Cónsul Honorario de Polonia en Valencia.\n\nMesa 2ª \nFuentes de energía actuales y soberanía energética. Panorama energético español. Importancia de los hidrocarburos\, mercado de la energía eléctrica\, futuro de la energía nuclear\, renovables y el mix energético. Se abordarán también los recursos energéticos que dispone España\, la renuncia por ley a explotarlos y la dependencia que nos genera sobre terceros países. \nModerador: Iván Vélez (Director de DENAES). \nPonentes: \n\nLuis del Rivero. Vicepresidente Primero de REPSOL (2006-2011)\, fundador y expresidente del grupo empresarial Sacyr Vallehermoso.\nEzequiel Tena García. Ingeniero Técnico Eléctrico.\nMireia Borrás. Diputada Nacional de VOX\, Portavoz de la Comisión de Ciencia\, Innovación y de Transición Ecológica y Energía.\nJosé Luis Aguirre. Diputado por Valencia\, Portavoz de la Comisión de Agricultura\, Medio ambiente y Ordenación del Territorio.\n\nCartel:
URL:https://historico.ateneovalencia.es/evento/jornada-sobre-la-soberania-energetica/
LOCATION:Teatro Ateneo
CATEGORIES:Jornada
ATTACH;FMTTYPE=image/jpeg:https://historico.ateneovalencia.es/wp-content/uploads/2022/05/20220513-Jornada-Energetica.jpg
END:VEVENT
END:VCALENDAR