BEGIN:VCALENDAR
VERSION:2.0
PRODID:-//Ateneo Mercantil de Valencia - ECPv6.0.4//NONSGML v1.0//EN
CALSCALE:GREGORIAN
METHOD:PUBLISH
X-WR-CALNAME:Ateneo Mercantil de Valencia
X-ORIGINAL-URL:https://historico.ateneovalencia.es
X-WR-CALDESC:Eventos para Ateneo Mercantil de Valencia
REFRESH-INTERVAL;VALUE=DURATION:PT1H
X-Robots-Tag:noindex
X-PUBLISHED-TTL:PT1H
BEGIN:VTIMEZONE
TZID:Europe/Madrid
BEGIN:DAYLIGHT
TZOFFSETFROM:+0100
TZOFFSETTO:+0200
TZNAME:CEST
DTSTART:20240331T010000
END:DAYLIGHT
BEGIN:STANDARD
TZOFFSETFROM:+0200
TZOFFSETTO:+0100
TZNAME:CET
DTSTART:20241027T010000
END:STANDARD
END:VTIMEZONE
BEGIN:VEVENT
DTSTART;TZID=Europe/Madrid:20240905T110000
DTEND;TZID=Europe/Madrid:20240905T143000
DTSTAMP:20260421T224501
CREATED:20240904T193341Z
LAST-MODIFIED:20240905T073233Z
UID:81416-1725534000-1725546600@historico.ateneovalencia.es
SUMMARY:Mesas Redondas EsDiario: "Las universidades públicas valencianas" y "Uso lenguas cooficiales"
DESCRIPTION:El Ateneo Mercantil de Valencia acoge este jueves 5 de septiembre a las 11 horas de la mañana dos mesas redondas en las que se hablará sobre las universidades públicas valencianas y sobre el uso de las lenguas cooficiales en la Comunitat Valenciana. La primera mesa redonda está proyectada a las 11.30 horas mientras que la segunda será a las 12.45 horas. Un acto organizado por EsDiario. \n11.00h: Apertura \n11.30h: Mesa redonda "Las universidades públicas valencianas. El espacio europeo de Educación y los rankings apertura".  \nPresenta el evento: Benjamin López\, director de ESdiario. Ponentes: Dra. Dª. Esther Gómez Martín\, Profesora doctora en Ingeniera de Caminos\, Canales y Puertos. Secretaria Autonómica Universidades. Dr. D. José Francisco Monserrat del Río\, Catedrático y vicerrector de Internacionalización Comunicación la UPV. D. Benjamín Marín\, Director de Comunicación y Marketing en À Punt Media. Dr. D. José María Lozano\, Catedrático de Arquitectura la UPV y miembro del Consell Valencià Cultura.  \n12.30h: Descanso. Café. \n12.45h: Mesa redonda: "Novedades del curso 2024/2025: Distrito Único y uso de las lenguas cooficiales. Novedades". \nPresenta: Sonia García\, periodista de ESdiario y Atresmedia. Ponentes: D. Ignacio Martínez. Director general de Ordenación Educativa y Política Lingüística. Dr. D. Vicente Garrido. Catedrático de Derecho Constitucional. Dr. D. José María Felip. Doctor en Derecho por la Universidad de Valencia. D. Xavier Gisbert. Presidente de la Asociación Enseñanza Bilingüe. D. Santiago García. Secretario general de CECE. \n14.30h: Fin del acto. \nCartel:
URL:https://historico.ateneovalencia.es/evento/mesas-redondas-esdiario-las-universidades-publicas-valencianas-y-el-uso-de-las-lenguas-cooficiales/
LOCATION:Teatro Ateneo
CATEGORIES:Jornada
ATTACH;FMTTYPE=image/jpeg:https://historico.ateneovalencia.es/wp-content/uploads/2024/09/20240905-EsRadio.jpg
END:VEVENT
BEGIN:VEVENT
DTSTART;TZID=Europe/Madrid:20240905T190000
DTEND;TZID=Europe/Madrid:20240905T210000
DTSTAMP:20260421T224501
CREATED:20240730T064410Z
LAST-MODIFIED:20240902T184240Z
UID:81321-1725562800-1725570000@historico.ateneovalencia.es
SUMMARY:Jornada "La importancia del mecenazgo en el fomento de la cultura"
DESCRIPTION:El próximo jueves 5 de septiembre a las 19 horas OkDiario organiza la Jornada "La importancia del mecenazgo en el fomento de la cultura" en el Teatro Ateneo (3ª planta del edificio) para hablar sobre el importante instrumento que es el mecenazgo en apoyo\, defensa y difusión de la cultura en nuestro país. El director de OkDiario\, Eduardo Inda\, tiene el placer de invitarle a disfrutar de una jornada que inaugurará la Secretaria autonómica de Cultura de la Generalitat Valenciana\, Pilar Tebar. \nPrograma:\n19 h: Acceso al Teatro Ateneo. Llegada del público asistente que se registra en el "hospitality" y va accediendo a la sala.\n\nApertura del acto por parte de la dirección de OkDiario.\nIntervención de Dª. Pilar Tebar\, Secretaria autonómica de Cultura de la Generalitat Valenciana.\n\n19:30 h. Mesa Redonda: "La importancia del mecenazgo en el fomento de la Cultura" \nPonentes: \n\nPilar Tebar\, secretaria autonómica de Cultura de la Generalitat Valenciana.\nPablo González Tornel\, director del Museo de Bellas Artes de Valencia.\nMaría José Navarro\, presidenta de la Asociación Amigos del Museo de Bellas Artes de Valencia.\nJorge Culla Bayarri\, director general de la Fundación Palau de les Arts Reina Sofía.\nJosé Vicente Castell SanFelix\, relaciones Externas y RSC de Vicky Foods.\n\nTemática de la jornada:  \n\nEl mecenazgo como fórmula complementaria de financiación de la cultura.\nLa figura del "mecenas".\nLa fórmula del mecenazgo como herramienta de difusión y protección de la cultura.\nLa necesidad de la colaboración público-privada en la Cultura.\nMecenazgo\, fiscalidad\, imagen pública y filantropía\, facetas de la inversión privada en cultura.\nLa estructura de las instituciones culturales públicas y las posibilidades de captación de fondos privados.\nLa Ley de mecenazgo de 2002 y las modificaciones del Real Decreto-ley 6/2023.\nLas fundaciones y entidades privadas de interés público y su apoyo a la cultura.\nLas vías del mecenazgo en los museos: donaciones\, exposiciones\, convenios e inversiones.\n\n20:30 h: Fin de la mesa redonda.  \n20:35 h: Vino español para todos los asistentes y espacio de networking. \n21.00 h: Fin del evento. \nRegístrate aquí para acudir a este evento\nPara más información: eventosokdiario@okdiario.com \nCartel:\n \n  \n 
URL:https://historico.ateneovalencia.es/evento/jornada-la-importancia-del-mecenazgo-en-el-fomento-de-la-cultura/
LOCATION:Teatro Ateneo
CATEGORIES:Jornada
ATTACH;FMTTYPE=image/jpeg:https://historico.ateneovalencia.es/wp-content/uploads/2024/07/20240905-Evento-OkDiario.jpg
END:VEVENT
BEGIN:VEVENT
DTSTART;TZID=Europe/Madrid:20240911T093000
DTEND;TZID=Europe/Madrid:20240911T110000
DTSTAMP:20260421T224501
CREATED:20240910T074624Z
LAST-MODIFIED:20240910T075744Z
UID:81441-1726047000-1726052400@historico.ateneovalencia.es
SUMMARY:“El valor del Patrimonio Histórico Valenciano y los retos de futuro”
DESCRIPTION:Este próximo miércoles 11 de septiembre a las 9.30 horas en el Teatro Ateneo llega una nueva mesa redonda organizada por OkDiario en la que se hablará largo y tendido sobre el Patrimonio Histórico Valenciano y lo harán grandes especialistas en la materia. El programa del evento es el siguiente: \n9.30h: Acceso de público a la sala. \n9.40h: Bienvenida por parte de Pilar R. Losantos\, presidenta de OKDIARIO. \n9.45h: Intervención de Marta Alonso Rodríguez\, directora general de Patrimonio Cultural de la Generalitat Valenciana. \n10h: Mesa redonda: \n\nSantiago Tormo Esteve. Coordinador académico del Máster en Conservación del Patrimonio Arquitectónico y subdirector del Instituto de Restauración de la UPV.\nVíctor Algarra Pardo. Presidente Junta Permanente de la Sección de Arqueología del Colegio de Doctores y Licenciados en Filosofía\, Letras y Ciencias de Valencia y Castellón.\nGemma Mª Contreras Zamorano. Directora del Instituto Valenciano de Conservación\, Restauración e Investigación (IVCR+I) de la Generalitat Valenciana.\n\nTemas a tratar: \n\nLa importancia del patrimonio histórico valenciano.\nLa necesidad de conservar\, proteger y difundir el patrimonio histórico valenciano.\nPeligros y amenazas sobre el patrimonio histórico.\nLa importancia de la implicación y apoyo de las instituciones púbicas al patrimonio.\nLa necesidad de la colaboración público-privada en la conservación del patrimonio.\n\n11h: Fin de la mesa redonda.
URL:https://historico.ateneovalencia.es/evento/el-valor-del-patrimonio-historico-valenciano-y-los-retos-de-futuro/
LOCATION:Teatro Ateneo
CATEGORIES:Jornada
ATTACH;FMTTYPE=image/jpeg:https://historico.ateneovalencia.es/wp-content/uploads/2024/09/20240911-Ok-Diario-Patrimonio.jpg
END:VEVENT
END:VCALENDAR