BEGIN:VCALENDAR
VERSION:2.0
PRODID:-//Ateneo Mercantil de Valencia - ECPv6.0.4//NONSGML v1.0//EN
CALSCALE:GREGORIAN
METHOD:PUBLISH
X-ORIGINAL-URL:https://historico.ateneovalencia.es
X-WR-CALDESC:Eventos para Ateneo Mercantil de Valencia
REFRESH-INTERVAL;VALUE=DURATION:PT1H
X-Robots-Tag:noindex
X-PUBLISHED-TTL:PT1H
BEGIN:VTIMEZONE
TZID:Europe/Madrid
BEGIN:DAYLIGHT
TZOFFSETFROM:+0100
TZOFFSETTO:+0200
TZNAME:CEST
DTSTART:20230326T010000
END:DAYLIGHT
BEGIN:STANDARD
TZOFFSETFROM:+0200
TZOFFSETTO:+0100
TZNAME:CET
DTSTART:20231029T010000
END:STANDARD
END:VTIMEZONE
BEGIN:VEVENT
DTSTART;TZID=Europe/Madrid:20231214T110000
DTEND;TZID=Europe/Madrid:20231214T130000
DTSTAMP:20260421T042400
CREATED:20231123T185320Z
LAST-MODIFIED:20231123T185909Z
UID:75996-1702551600-1702558800@historico.ateneovalencia.es
SUMMARY:Jornada "Ritmos de Vida": Mesa Redonda\, Concierto y Exposición del primer metrónomo arrítmico - Grupo Ribera Salud
DESCRIPTION:¿Sabías que el ritmo del corazón se mide igual que el ritmo de la música? En el Grupo Sanitario Ribera han creado el primer metrónomo arrítmico del mundo que interpreta la frecuencia cardíaca de una persona con una enfermedad cardiovascular. Y queremos invitarte a conocerlo. \nAsí este 14 de diciembre a las 11 horas en el Salón Sorolla del Ateneo Mercantil de Valencia podrás disfrutar de una mesa redonda sobre los cuidados del corazón en todas las etapas de nuestra vida y que impartirán todos los especialistas del corazón del Grupo Ribera. Recuerda que el acto es totalmente gratuito y la entrada es libre. Además\, tras la mesa redonda informativa se realizará un pequeño concierto y se inaugurará la exposición del primer metrónomo arrítmico del mundo. \nSi quieres asistir a esta jornada\, que tendrá una duración aproximadamente de dos horas\, tan sólo tienes que llamar al teléfono 963520488 y reservar tu plaza. Recuerda que la plazas son limitadas\, no te quedes sin ella.\nCartel:
URL:https://historico.ateneovalencia.es/evento/jornada-ritmos-de-vida-mesa-redonda-concierto-y-exposicion-del-primer-metronomo-arritmico-grupo-ribera-salud/
LOCATION:Salón Sorolla - Ateneo Mercantil de Valencia\, Plaza del Ayuntamiento 18\, Valencia\, Valencia\, 46002\, España
CATEGORIES:Jornada
ATTACH;FMTTYPE=image/jpeg:https://historico.ateneovalencia.es/wp-content/uploads/2023/11/20231214-Ribera-Salud-Corazon.jpg
END:VEVENT
END:VCALENDAR