BEGIN:VCALENDAR
VERSION:2.0
PRODID:-//Ateneo Mercantil de Valencia - ECPv6.0.4//NONSGML v1.0//EN
CALSCALE:GREGORIAN
METHOD:PUBLISH
X-ORIGINAL-URL:https://historico.ateneovalencia.es
X-WR-CALDESC:Eventos para Ateneo Mercantil de Valencia
REFRESH-INTERVAL;VALUE=DURATION:PT1H
X-Robots-Tag:noindex
X-PUBLISHED-TTL:PT1H
BEGIN:VTIMEZONE
TZID:Europe/Madrid
BEGIN:DAYLIGHT
TZOFFSETFROM:+0100
TZOFFSETTO:+0200
TZNAME:CEST
DTSTART:20210328T010000
END:DAYLIGHT
BEGIN:STANDARD
TZOFFSETFROM:+0200
TZOFFSETTO:+0100
TZNAME:CET
DTSTART:20211031T010000
END:STANDARD
END:VTIMEZONE
BEGIN:VEVENT
DTSTART;TZID=Europe/Madrid:20211213T183000
DTEND;TZID=Europe/Madrid:20211213T200000
DTSTAMP:20260426T053520
CREATED:20211207T121729Z
LAST-MODIFIED:20211207T121729Z
UID:66121-1639420200-1639425600@historico.ateneovalencia.es
SUMMARY:VI Premios Ateneo Mercantil de Valencia
DESCRIPTION:El próximo 13 de diciembre llega la gala de entrega de premios de la VI edición de los Premios Ateneo Mercantil Valencia. Un acto en el que se vuelve a premiar a todas esas personalidades valencianas que han destacado de una manera u otra en su vida laboral y privada y han llevado el nombre de Valencia y de la Comunitat Valenciana por España y por todo el mundo. De nuevo\, tres ilustres personalidades o entidades serán premiadas por su éxito personal y por su aportación a la sociedad valenciana. \nEste año los premios han recaído en: \n\nPremio Ciencias de la Salud e Investigación: Dª Luisa Botella Cubells\nPremio Creatividad y Bellas Artes: D. Amado Ortells Villalba\nPremio Ciencias Humanas y Comunicación: D. Santiago Posteguillo Gómez\n\nCartel:
URL:https://historico.ateneovalencia.es/evento/vi-premios-ateneo-mercantil-de-valencia/
LOCATION:Teatro Ateneo
CATEGORIES:Galas,Social
ATTACH;FMTTYPE=image/jpeg:https://historico.ateneovalencia.es/wp-content/uploads/2021/12/20211213-Premios-Ateneo-Valencia-2021.jpg
END:VEVENT
END:VCALENDAR